{"text_format":"1","workbook":"xlsx","n_sheets":23,"sheets":["Start Page","International","Results","CalculationsDisp","Hardware","Software","Deployment","Operations","Calculations","Account Team Inputs","Hardware Info","Server Info","Software Info","Data Tables","Charts","Default values and inputs","Report Info","Lists","Text","Licensing Tables","ImportInfo","Country information","Files"],"not_rendered":{"charts":4,"images":20,"macros":1,"external_links":0,"defined_names":126,"comments":8,"pivot_tables":0},"unopened":[],"bounds":{"document_bytes":16777216,"sheet_cells":100000,"rows_first":2000,"rows_last":500,"rows_between":2000,"halvings":0,"cell_chars":16384,"cell_head_chars":4096},"cells_cut":0,"cells_raw":0,"read":"whole","date_system":"1900"}

{"sheet":"Start Page","index":0,"n_rows":32,"n_cols":60,"rows_kept":32,"cut":false,"hidden":false,"merged":[[30,15,30,63],[21,59,21,76],[22,59,22,76],[23,59,23,76],[24,59,24,76],[20,59,20,76],[4,15,4,72],[16,59,16,76],[17,59,17,76],[18,59,18,76],[19,59,19,76]]}
[]
[]
[]
[]
[null,null,null,null,null,null,null,null,null,null,null,null,null,null,null,"This tool will help you to produce a cost comparison between a GreenBridge Windows Server 2016 deployment and a traditional PC deployment. You can access the user guide for the tool by clicking here."]
[]
[null,null,null,null,null,null,null,null,null,null,null,null,null,null,null,"Key Windows Server 2016 Benefits"]
[null,null,null,null,null,null,null,null,null,null,null,null,null,null,null,"§More computing at lower total cost of acquisition and ownership"]
[null,null,null,null,null,null,null,null,null,null,null,null,null,null,null,"§Engaged students, empowered employees"]
[null,null,null,null,null,null,null,null,null,null,null,null,null,null,null,"§Simple technology, working for you"]
[null,null,null,null,null,null,null,null,null,null,null,null,null,null,null,"Microsoft Differentiators"]
[null,null,null,null,null,null,null,null,null,null,null,null,null,null,null,"§Familiar Windows experience"]
[null,null,null,null,null,null,null,null,null,null,null,null,null,null,null,"§Based on the latest Windows client and server technology "]
[null,null,null,null,null,null,null,null,null,null,null,null,null,null,null,"§Supported by Microsoft with access to updates, service packs, and security fixes"]
[null,null,null,null,null,null,null,null,null,null,null,null,null,null,null,"§Broad partner ecosystem"]
[null,null,null,null,null,null,null,null,null,null,null,null,null,null,null,null,null,null,null,null,null,null,null,null,null,null,null,null,null,null,null,null,null,null,null,null,null,null,null,null,null,null,null,null,null,null,null,null,null,null,null,null,null,null,null,null,null,null,null,"Enter value or select from Dropdown box in each cell"]
[1,null,null,null,null,null,null,null,null,null,null,null,null,null,null,{"$f":"Text!B55","v":"What is the organization's name?"},null,null,null,null,null,null,null,null,null,null,null,null,null,null,null,null,null,null,null,null,null,null,null,null,null,null,null,null,null,null,null,null,null,null,null,null,null,null,null,null,null,null,"?"]
[1,null,null,null,null,null,null,null,null,null,null,null,null,null,null,"Is your organization a qualified academic institution or a business?",null,null,null,null,null,null,null,null,null,null,null,null,null,null,null,null,null,null,null,null,null,null,null,null,null,null,null,null,null,null,null,null,null,null,null,null,null,null,null,null,null,null,"?","Academic"]
[1,null,null,null,null,null,null,null,null,null,null,null,null,null,null,"How many stations do you plan to deploy?",null,null,null,null,null,null,null,null,null,null,null,null,null,null,null,null,null,null,null,null,null,null,null,null,null,null,null,null,null,null,null,null,null,null,null,null,null,null,null,null,null,null,"?",1000]
[1,null,null,null,null,null,null,null,null,null,null,null,null,null,null,{"$f":"Text!B57","v":"Where is the organization located?"},null,null,null,null,null,null,null,null,null,null,null,null,null,null,null,null,null,null,null,null,null,null,null,null,null,null,null,null,null,null,null,null,null,null,null,null,null,null,null,null,null,null,"?","United States"]
[1]
[1,null,null,null,null,null,null,null,null,null,null,null,null,null,null,"What usage scenario do you want to design for?",null,null,null,null,null,null,null,null,null,null,null,null,null,null,null,null,null,null,null,null,null,null,null,null,null,null,null,null,null,null,null,null,null,null,null,null,null,null,null,null,null,null,"?","Internet, productivity and light multimedia"]
[1,null,null,null,null,null,null,null,null,null,null,null,null,null,null,"Will you reuse devices (desktops, laptops, netbooks, thin-clients, etc.) as stations?",null,null,null,null,null,null,null,null,null,null,null,null,null,null,null,null,null,null,null,null,null,null,null,null,null,null,null,null,null,null,null,null,null,null,null,null,null,null,null,null,null,null,"?","No"]
[1,null,null,null,null,null,null,null,null,null,null,null,null,null,null,"Will you reuse monitors, keyboards, mice?",null,null,null,null,null,null,null,null,null,null,null,null,null,null,null,null,null,null,null,null,null,null,null,null,null,null,null,null,null,null,null,null,null,null,null,null,null,null,null,null,null,null,"?","No"]
[1,null,null,null,null,null,null,null,null,null,null,null,null,null,null,"Will all stations be located within 5 meters of their host computer?",null,null,null,null,null,null,null,null,null,null,null,null,null,null,null,null,null,null,null,null,null,null,null,null,null,null,null,null,null,null,null,null,null,null,null,null,null,null,null,null,null,null,"?","No"]
[1]
[1]
[1]
[1]
[1]
[1,null,null,null,null,null,null,null,null,null,null,null,null,null,null,{"$f":"Text!B59","v":"Although great care has been taken to ensure the accuracy and completeness of results derived from this tool, this tool should be used for informational purposes only, and Microsoft makes no warranties, express, implied or statutory, as to the information generated by the tool or any organization's achievement of the potential benefits estimated by using Microsoft solutions or products.  Use, disclosure or reproduction of this tool is prohibited without the prior written permission of Microsoft Corporation."}]
[null,null,null,null,null,null,null,null,null,null,null,null,null,null,null,"v1.0",null,null,"2016-12-01"]

{"sheet":"International","index":1,"n_rows":257,"n_cols":164,"rows_kept":257,"cut":false,"hidden":false,"merged":[[10,59,10,76],[8,59,8,66],[1,7,1,82],[4,63,4,70],[4,72,4,82],[2,72,2,82],[3,72,3,82],[8,69,8,76],[6,58,7,67],[6,69,7,76],[3,62,3,71],[9,65,9,70]]}
[]
[null,null,null,null,null,null,null,{"$f":"Text!B744","v":"International Settings"}]
[null,null,null,null,null,null,null,{"$f":"Text!B745","v":"Currency for the analysis"},null,null,null,null,null,null,null,null,null,null,null,null,null,null,null,null,null,null,null,null,null,null,null,null,null,null,null,null,null,null,null,null,null,null,null,null,null,null,null,null,null,null,null,null,null,null,null,null,null,null,null,null,null,null,null,null,null,null,null,null,null,null,null,"?",{"$f":"IFERROR(VLOOKUP(Country,FD12:FH257,2,FALSE),\"\")","v":"dollar"}]
[null,null,null,null,null,null,null,{"$f":"Text!B746","v":"Currency symbol"},null,null,null,null,null,null,null,null,null,null,null,null,null,null,null,null,null,null,null,null,null,null,null,null,null,null,null,null,null,null,null,null,null,null,null,null,null,null,null,null,null,null,null,null,null,null,null,null,null,null,null,null,null,null,{"$f":"Text!B750","v":"New Rate"},null,null,null,null,null,null,null,null,null,{"$f":"IFERROR(VLOOKUP(Country,FD12:FH257,3,FALSE),\"\")","v":"US$"}]
[null,null,null,null,null,null,null,{"$f":"Text!B747","v":"Exchange Rate - amount of selected currency equal to 1 US$."},null,null,null,null,null,null,null,null,null,null,null,null,null,null,null,null,null,null,null,null,null,null,null,null,null,null,null,null,null,null,null,null,null,null,null,null,null,null,null,null,null,null,null,null,null,null,null,null,null,null,null,null,null,null,"?",0,null,null,null,null,null,null,null,{"$f":"BU3&BU4","v":"dollarUS$"},{"$f":"IFERROR(VLOOKUP(Country,FD12:FH257,4,FALSE),0)","v":1}]
[]
[null,null,null,null,null,null,null,null,null,null,null,null,null,null,null,null,null,null,null,null,null,null,null,null,null,null,null,null,null,null,null,null,null,null,null,null,null,null,null,null,null,null,null,null,null,null,null,null,null,null,null,null,null,null,null,null,null,null,{"$f":"Text!B748","v":"Thousands Separator"},null,null,null,null,null,null,null,null,null,null,{"$f":"Text!B749","v":"Decimal Symbol"}]
[]
[null,null,null,null,null,null,null,"Number format for tool and report",null,null,null,null,null,null,null,null,null,null,null,null,null,null,null,null,null,null,null,null,null,null,null,null,null,null,null,null,null,null,null,",",null,null,null,null,null,null,null,null,null,".",null,null,null,null,null,null,null,null,"?",",",null,null,null,null,null,null,null,null,null,"."]
[null,null,null,null,null,null,null,null,null,null,null,null,null,null,null,null,null,null,null,null,null,null,null,null,null,null,null,null,null,null,null,null,null,null,null,null,null,null,null,null,null,null,null,null,null,null,null,null,null,null,null,null,null,null,null,null,null,null,null,null,null,null,null,null,null,1000]
[null,null,null,null,null,null,null,null,null,null,null,null,null,null,null,null,null,null,null,null,null,null,null,null,null,null,null,null,null,null,null,null,null,null,null,null,null,null,null,null,null,null,null,null,null,null,null,null,null,null,null,null,null,null,null,null,null,null,null,{"$f":"Text!B753","v":"Example of number format"}]
[null,null,null,null,null,null,null,null,null,null,null,null,null,null,null,null,null,null,null,null,null,null,null,null,null,null,null,null,null,null,null,null,null,null,null,null,null,null,null,null,null,null,null,null,null,null,null,null,null,null,null,null,null,null,null,null,null,null,null,null,null,null,null,null,null,null,null,null,null,null,null,null,null,null,null,null,null,null,null,null,null,null,null,null,null,null,null,null,null,null,null,null,null,null,null,null,null,null,null,null,null,null,null,null,null,null,null,null,null,null,null,null,null,null,null,null,null,null,null,null,null,null,null,null,null,null,null,null,null,null,null,null,null,null,null,null,null,null,null,null,null,null,null,null,null,null,null,null,null,null,null,null,null,null,null,null,null,null,{"$f":"'Country information'!N2","v":"Afghanistan"},{"$f":"'Country information'!O2","v":"Afghanistan"},{"$f":"'Country information'!C2","v":"afghani"},{"$f":"'Country information'!D2","v":"؋"},{"$f":"'Country information'!E2","v":44.5},{"$f":"'Country information'!F2","v":40592.405995370369}]
[null,null,null,null,null,null,null,null,null,null,null,null,null,null,null,null,null,null,null,null,null,null,null,null,null,null,null,null,null,null,null,null,null,null,null,null,null,null,null,null,null,null,null,null,null,null,null,null,null,null,null,null,null,null,null,null,null,null,null,null,null,null,null,null,null,null,null,null,null,null,null,null,null,null,null,null,null,null,null,null,null,null,null,null,null,null,null,null,null,null,null,null,null,null,null,null,null,null,null,null,null,null,null,null,null,null,null,null,null,null,null,null,null,null,null,null,null,null,null,null,null,null,null,null,null,null,null,null,null,null,null,null,null,null,null,null,null,null,null,null,null,null,null,null,null,null,null,null,null,null,null,null,null,null,null,null,null,null,{"$f":"'Country information'!N3","v":"Albania"},{"$f":"'Country information'!O3","v":"Albania"},{"$f":"'Country information'!C3","v":"lek"},{"$f":"'Country information'!D3","v":"Lek"},{"$f":"'Country information'!E3","v":106.36},{"$f":"'Country information'!F3","v":40592.405995370369}]
[null,null,null,null,null,null,null,null,null,null,null,null,null,null,null,null,null,null,null,null,null,null,null,null,null,null,null,null,null,null,null,null,null,null,null,null,null,null,null,null,null,null,null,null,null,null,null,null,null,null,null,null,null,null,null,null,null,null,null,null,null,null,null,null,null,null,null,null,null,null,null,null,null,null,null,null,null,null,null,null,null,null,null,null,null,null,null,null,null,null,null,null,null,null,null,null,null,null,null,null,null,null,null,null,null,null,null,null,null,null,null,null,null,null,null,null,null,null,null,null,null,null,null,null,null,null,null,null,null,null,null,null,null,null,null,null,null,null,null,null,null,null,null,null,null,null,null,null,null,null,null,null,null,null,null,null,null,null,{"$f":"'Country information'!N4","v":"Algeria"},{"$f":"'Country information'!O4","v":"Algeria"},{"$f":"'Country information'!C4","v":"dinar"},{"$f":"'Country information'!D4","v":"DA"},{"$f":"'Country information'!E4","v":73.150000000000006},{"$f":"'Country information'!F4","v":40592.405995370369}]
[null,null,null,null,null,null,null,null,null,null,null,null,null,null,null,null,null,null,null,null,null,null,null,null,null,null,null,null,null,null,null,null,null,null,null,null,null,null,null,null,null,null,null,null,null,null,null,null,null,null,null,null,null,null,null,null,null,null,null,null,null,null,null,null,null,null,null,null,null,null,null,null,null,null,null,null,null,null,null,null,null,null,null,null,null,null,null,null,null,null,null,null,null,null,null,null,null,null,null,null,null,null,null,null,null,null,null,null,null,null,null,null,null,null,null,null,null,null,null,null,null,null,null,null,null,null,null,null,null,null,null,null,null,null,null,null,null,null,null,null,null,null,null,null,null,null,null,null,null,null,null,null,null,null,null,null,null,null,{"$f":"'Country information'!N5","v":"American Samoa"},{"$f":"'Country information'!O5","v":"American Samoa"},{"$f":"'Country information'!C5","v":"dollar"},{"$f":"'Country information'!D5","v":"US$"},{"$f":"'Country information'!E5","v":1},{"$f":"'Country information'!F5","v":40128.589282407411}]
[null,null,null,null,null,null,null,null,null,null,null,null,null,null,null,null,null,null,null,null,null,null,null,null,null,null,null,null,null,null,null,null,null,null,null,null,null,null,null,null,null,null,null,null,null,null,null,null,null,null,null,null,null,null,null,null,null,null,null,null,null,null,null,null,null,null,null,null,null,null,null,null,null,null,null,null,null,null,null,null,null,null,null,null,null,null,null,null,null,null,null,null,null,null,null,null,null,null,null,null,null,null,null,null,null,null,null,null,null,null,null,null,null,null,null,null,null,null,null,null,null,null,null,null,null,null,null,null,null,null,null,null,null,null,null,null,null,null,null,null,null,null,null,null,null,null,null,null,null,null,null,null,null,null,null,null,null,null,{"$f":"'Country information'!N6","v":"Andorra"},{"$f":"'Country information'!O6","v":"Andorra"},{"$f":"'Country information'!C6","v":"euro"},{"$f":"'Country information'!D6","v":"€"},{"$f":"'Country information'!E6","v":0.77},{"$f":"'Country information'!F6","v":40592.406053240738}]
[null,null,null,null,null,null,null,null,null,null,null,null,null,null,null,null,null,null,null,null,null,null,null,null,null,null,null,null,null,null,null,null,null,null,null,null,null,null,null,null,null,null,null,null,null,null,null,null,null,null,null,null,null,null,null,null,null,null,null,null,null,null,null,null,null,null,null,null,null,null,null,null,null,null,null,null,null,null,null,null,null,null,null,null,null,null,null,null,null,null,null,null,null,null,null,null,null,null,null,null,null,null,null,null,null,null,null,null,null,null,null,null,null,null,null,null,null,null,null,null,null,null,null,null,null,null,null,null,null,null,null,null,null,null,null,null,null,null,null,null,null,null,null,null,null,null,null,null,null,null,null,null,null,null,null,null,null,null,{"$f":"'Country information'!N7","v":"Angola"},{"$f":"'Country information'!O7","v":"Angola"},{"$f":"'Country information'!C7","v":"kwanza"},{"$f":"'Country information'!D7","v":"Kz"},{"$f":"'Country information'!E7","v":90},{"$f":"'Country information'!F7","v":40592.405995370369}]
[null,null,null,null,null,null,null,null,null,null,null,null,null,null,null,null,null,null,null,null,null,null,null,null,null,null,null,null,null,null,null,null,null,null,null,null,null,null,null,null,null,null,null,null,null,null,null,null,null,null,null,null,null,null,null,null,null,null,null,null,null,null,null,null,null,null,null,null,null,null,null,null,null,null,null,null,null,null,null,null,null,null,null,null,null,null,null,null,null,null,null,null,null,null,null,null,null,null,null,null,null,null,null,null,null,null,null,null,null,null,null,null,null,null,null,null,null,null,null,null,null,null,null,null,null,null,null,null,null,null,null,null,null,null,null,null,null,null,null,null,null,null,null,null,null,null,null,null,null,null,null,null,null,null,null,null,null,null,{"$f":"'Country information'!N8","v":"Anguilla"},{"$f":"'Country information'!O8","v":"Anguilla"},{"$f":"'Country information'!C8","v":"dollar"},{"$f":"'Country information'!D8","v":"EC$"},{"$f":"'Country information'!E8","v":2.7},{"$f":"'Country information'!F8","v":40592.406053240738}]
[null,null,null,null,null,null,null,null,null,null,null,null,null,null,null,null,null,null,null,null,null,null,null,null,null,null,null,null,null,null,null,null,null,null,null,null,null,null,null,null,null,null,null,null,null,null,null,null,null,null,null,null,null,null,null,null,null,null,null,null,null,null,null,null,null,null,null,null,null,null,null,null,null,null,null,null,null,null,null,null,null,null,null,null,null,null,null,null,null,null,null,null,null,null,null,null,null,null,null,null,null,null,null,null,null,null,null,null,null,null,null,null,null,null,null,null,null,null,null,null,null,null,null,null,null,null,null,null,null,null,null,null,null,null,null,null,null,null,null,null,null,null,null,null,null,null,null,null,null,null,null,null,null,null,null,null,null,null,{"$f":"'Country information'!N9","v":"Antigua and Barbuda"},{"$f":"'Country information'!O9","v":"Antigua and Barbuda"},{"$f":"'Country information'!C9","v":"dollar"},{"$f":"'Country information'!D9","v":"EC$"},{"$f":"'Country information'!E9","v":2.7},{"$f":"'Country information'!F9","v":40592.406053240738}]
[null,null,null,null,null,null,null,null,null,null,null,null,null,null,null,null,null,null,null,null,null,null,null,null,null,null,null,null,null,null,null,null,null,null,null,null,null,null,null,null,null,null,null,null,null,null,null,null,null,null,null,null,null,null,null,null,null,null,null,null,null,null,null,null,null,null,null,null,null,null,null,null,null,null,null,null,null,null,null,null,null,null,null,null,null,null,null,null,null,null,null,null,null,null,null,null,null,null,null,null,null,null,null,null,null,null,null,null,null,null,null,null,null,null,null,null,null,null,null,null,null,null,null,null,null,null,null,null,null,null,null,null,null,null,null,null,null,null,null,null,null,null,null,null,null,null,null,null,null,null,null,null,null,null,null,null,null,null,{"$f":"'Country information'!N10","v":"Argentina"},{"$f":"'Country information'!O10","v":"Argentina"},{"$f":"'Country information'!C10","v":"peso"},{"$f":"'Country information'!D10","v":"$AR"},{"$f":"'Country information'!E10","v":3.98},{"$f":"'Country information'!F10","v":40592.405995370369}]
[null,null,null,null,null,null,null,null,null,null,null,null,null,null,null,null,null,null,null,null,null,null,null,null,null,null,null,null,null,null,null,null,null,null,null,null,null,null,null,null,null,null,null,null,null,null,null,null,null,null,null,null,null,null,null,null,null,null,null,null,null,null,null,null,null,null,null,null,null,null,null,null,null,null,null,null,null,null,null,null,null,null,null,null,null,null,null,null,null,null,null,null,null,null,null,null,null,null,null,null,null,null,null,null,null,null,null,null,null,null,null,null,null,null,null,null,null,null,null,null,null,null,null,null,null,null,null,null,null,null,null,null,null,null,null,null,null,null,null,null,null,null,null,null,null,null,null,null,null,null,null,null,null,null,null,null,null,null,{"$f":"'Country information'!N11","v":"Armenia"},{"$f":"'Country information'!O11","v":"Armenia"},{"$f":"'Country information'!C11","v":"dram"},{"$f":"'Country information'!D11","v":"AMD"},{"$f":"'Country information'!E11","v":360},{"$f":"'Country information'!F11","v":40592.405995370369}]
[null,null,null,null,null,null,null,null,null,null,null,null,null,null,null,null,null,null,null,null,null,null,null,null,null,null,null,null,null,null,null,null,null,null,null,null,null,null,null,null,null,null,null,null,null,null,null,null,null,null,null,null,null,null,null,null,null,null,null,null,null,null,null,null,null,null,null,null,null,null,null,null,null,null,null,null,null,null,null,null,null,null,null,null,null,null,null,null,null,null,null,null,null,null,null,null,null,null,null,null,null,null,null,null,null,null,null,null,null,null,null,null,null,null,null,null,null,null,null,null,null,null,null,null,null,null,null,null,null,null,null,null,null,null,null,null,null,null,null,null,null,null,null,null,null,null,null,null,null,null,null,null,null,null,null,null,null,null,{"$f":"'Country information'!N12","v":"Aruba"},{"$f":"'Country information'!O12","v":"Aruba"},{"$f":"'Country information'!C12","v":"guilder"},{"$f":"'Country information'!D12","v":"Afl."},{"$f":"'Country information'!E12","v":1.79},{"$f":"'Country information'!F12","v":39413}]
[null,null,null,null,null,null,null,null,null,null,null,null,null,null,null,null,null,null,null,null,null,null,null,null,null,null,null,null,null,null,null,null,null,null,null,null,null,null,null,null,null,null,null,null,null,null,null,null,null,null,null,null,null,null,null,null,null,null,null,null,null,null,null,null,null,null,null,null,null,null,null,null,null,null,null,null,null,null,null,null,null,null,null,null,null,null,null,null,null,null,null,null,null,null,null,null,null,null,null,null,null,null,null,null,null,null,null,null,null,null,null,null,null,null,null,null,null,null,null,null,null,null,null,null,null,null,null,null,null,null,null,null,null,null,null,null,null,null,null,null,null,null,null,null,null,null,null,null,null,null,null,null,null,null,null,null,null,null,{"$f":"'Country information'!N13","v":"Australia"},{"$f":"'Country information'!O13","v":"Australia"},{"$f":"'Country information'!C13","v":"dollar"},{"$f":"'Country information'!D13","v":"A$"},{"$f":"'Country information'!E13","v":1.04},{"$f":"'Country information'!F13","v":40592.405995370369}]
[null,null,null,null,null,null,null,null,null,null,null,null,null,null,null,null,null,null,null,null,null,null,null,null,null,null,null,null,null,null,null,null,null,null,null,null,null,null,null,null,null,null,null,null,null,null,null,null,null,null,null,null,null,null,null,null,null,null,null,null,null,null,null,null,null,null,null,null,null,null,null,null,null,null,null,null,null,null,null,null,null,null,null,null,null,null,null,null,null,null,null,null,null,null,null,null,null,null,null,null,null,null,null,null,null,null,null,null,null,null,null,null,null,null,null,null,null,null,null,null,null,null,null,null,null,null,null,null,null,null,null,null,null,null,null,null,null,null,null,null,null,null,null,null,null,null,null,null,null,null,null,null,null,null,null,null,null,null,{"$f":"'Country information'!N14","v":"Austria"},{"$f":"'Country information'!O14","v":"Austria"},{"$f":"'Country information'!C14","v":"euro"},{"$f":"'Country information'!D14","v":"€"},{"$f":"'Country information'!E14","v":0.77},{"$f":"'Country information'!F14","v":40592.405995370369}]
[null,null,null,null,null,null,null,null,null,null,null,null,null,null,null,null,null,null,null,null,null,null,null,null,null,null,null,null,null,null,null,null,null,null,null,null,null,null,null,null,null,null,null,null,null,null,null,null,null,null,null,null,null,null,null,null,null,null,null,null,null,null,null,null,null,null,null,null,null,null,null,null,null,null,null,null,null,null,null,null,null,null,null,null,null,null,null,null,null,null,null,null,null,null,null,null,null,null,null,null,null,null,null,null,null,null,null,null,null,null,null,null,null,null,null,null,null,null,null,null,null,null,null,null,null,null,null,null,null,null,null,null,null,null,null,null,null,null,null,null,null,null,null,null,null,null,null,null,null,null,null,null,null,null,null,null,null,null,{"$f":"'Country information'!N15","v":"Azerbaijan"},{"$f":"'Country information'!O15","v":"Azerbaijan"},{"$f":"'Country information'!C15","v":"manat"},{"$f":"'Country information'!D15","v":"AZN"},{"$f":"'Country information'!E15","v":0.82},{"$f":"'Country information'!F15","v":40592.405995370369}]
[null,null,null,null,null,null,null,null,null,null,null,null,null,null,null,null,null,null,null,null,null,null,null,null,null,null,null,null,null,null,null,null,null,null,null,null,null,null,null,null,null,null,null,null,null,null,null,null,null,null,null,null,null,null,null,null,null,null,null,null,null,null,null,null,null,null,null,null,null,null,null,null,null,null,null,null,null,null,null,null,null,null,null,null,null,null,null,null,null,null,null,null,null,null,null,null,null,null,null,null,null,null,null,null,null,null,null,null,null,null,null,null,null,null,null,null,null,null,null,null,null,null,null,null,null,null,null,null,null,null,null,null,null,null,null,null,null,null,null,null,null,null,null,null,null,null,null,null,null,null,null,null,null,null,null,null,null,null,{"$f":"'Country information'!N16","v":"Bahamas"},{"$f":"'Country information'!O16","v":"Bahamas"},{"$f":"'Country information'!C16","v":"dollar"},{"$f":"'Country information'!D16","v":"B$"},{"$f":"'Country information'!E16","v":1},{"$f":"'Country information'!F16","v":40592.405995370369}]
[null,null,null,null,null,null,null,null,null,null,null,null,null,null,null,null,null,null,null,null,null,null,null,null,null,null,null,null,null,null,null,null,null,null,null,null,null,null,null,null,null,null,null,null,null,null,null,null,null,null,null,null,null,null,null,null,null,null,null,null,null,null,null,null,null,null,null,null,null,null,null,null,null,null,null,null,null,null,null,null,null,null,null,null,null,null,null,null,null,null,null,null,null,null,null,null,null,null,null,null,null,null,null,null,null,null,null,null,null,null,null,null,null,null,null,null,null,null,null,null,null,null,null,null,null,null,null,null,null,null,null,null,null,null,null,null,null,null,null,null,null,null,null,null,null,null,null,null,null,null,null,null,null,null,null,null,null,null,{"$f":"'Country information'!N17","v":"Bahrain"},{"$f":"'Country information'!O17","v":"Bahrain"},{"$f":"'Country information'!C17","v":"dinar"},{"$f":"'Country information'!D17","v":"BD"},{"$f":"'Country information'!E17","v":0.38},{"$f":"'Country information'!F17","v":40592.405995370369}]
[null,null,null,null,null,null,null,null,null,null,null,null,null,null,null,null,null,null,null,null,null,null,null,null,null,null,null,null,null,null,null,null,null,null,null,null,null,null,null,null,null,null,null,null,null,null,null,null,null,null,null,null,null,null,null,null,null,null,null,null,null,null,null,null,null,null,null,null,null,null,null,null,null,null,null,null,null,null,null,null,null,null,null,null,null,null,null,null,null,null,null,null,null,null,null,null,null,null,null,null,null,null,null,null,null,null,null,null,null,null,null,null,null,null,null,null,null,null,null,null,null,null,null,null,null,null,null,null,null,null,null,null,null,null,null,null,null,null,null,null,null,null,null,null,null,null,null,null,null,null,null,null,null,null,null,null,null,null,{"$f":"'Country information'!N18","v":"Bangladesh"},{"$f":"'Country information'!O18","v":"Bangladesh"},{"$f":"'Country information'!C18","v":"taka"},{"$f":"'Country information'!D18","v":"Tk"},{"$f":"'Country information'!E18","v":69},{"$f":"'Country information'!F18","v":40592.405995370369}]
[null,null,null,null,null,null,null,null,null,null,null,null,null,null,null,null,null,null,null,null,null,null,null,null,null,null,null,null,null,null,null,null,null,null,null,null,null,null,null,null,null,null,null,null,null,null,null,null,null,null,null,null,null,null,null,null,null,null,null,null,null,null,null,null,null,null,null,null,null,null,null,null,null,null,null,null,null,null,null,null,null,null,null,null,null,null,null,null,null,null,null,null,null,null,null,null,null,null,null,null,null,null,null,null,null,null,null,null,null,null,null,null,null,null,null,null,null,null,null,null,null,null,null,null,null,null,null,null,null,null,null,null,null,null,null,null,null,null,null,null,null,null,null,null,null,null,null,null,null,null,null,null,null,null,null,null,null,null,{"$f":"'Country information'!N19","v":"Barbados"},{"$f":"'Country information'!O19","v":"Barbados"},{"$f":"'Country information'!C19","v":"dollar"},{"$f":"'Country information'!D19","v":"Bds$"},{"$f":"'Country information'!E19","v":2.02},{"$f":"'Country information'!F19","v":40592.405995370369}]
[null,null,null,null,null,null,null,null,null,null,null,null,null,null,null,null,null,null,null,null,null,null,null,null,null,null,null,null,null,null,null,null,null,null,null,null,null,null,null,null,null,null,null,null,null,null,null,null,null,null,null,null,null,null,null,null,null,null,null,null,null,null,null,null,null,null,null,null,null,null,null,null,null,null,null,null,null,null,null,null,null,null,null,null,null,null,null,null,null,null,null,null,null,null,null,null,null,null,null,null,null,null,null,null,null,null,null,null,null,null,null,null,null,null,null,null,null,null,null,null,null,null,null,null,null,null,null,null,null,null,null,null,null,null,null,null,null,null,null,null,null,null,null,null,null,null,null,null,null,null,null,null,null,null,null,null,null,null,{"$f":"'Country information'!N20","v":"Belarus"},{"$f":"'Country information'!O20","v":"Belarus"},{"$f":"'Country information'!C20","v":"ruble"},{"$f":"'Country information'!D20","v":"BYR"},{"$f":"'Country information'!E20","v":3010},{"$f":"'Country information'!F20","v":40592.405995370369}]
[null,null,null,null,null,null,null,null,null,null,null,null,null,null,null,null,null,null,null,null,null,null,null,null,null,null,null,null,null,null,null,null,null,null,null,null,null,null,null,null,null,null,null,null,null,null,null,null,null,null,null,null,null,null,null,null,null,null,null,null,null,null,null,null,null,null,null,null,null,null,null,null,null,null,null,null,null,null,null,null,null,null,null,null,null,null,null,null,null,null,null,null,null,null,null,null,null,null,null,null,null,null,null,null,null,null,null,null,null,null,null,null,null,null,null,null,null,null,null,null,null,null,null,null,null,null,null,null,null,null,null,null,null,null,null,null,null,null,null,null,null,null,null,null,null,null,null,null,null,null,null,null,null,null,null,null,null,null,{"$f":"'Country information'!N21","v":"Belgium"},{"$f":"'Country information'!O21","v":"Belgium"},{"$f":"'Country information'!C21","v":"euro"},{"$f":"'Country information'!D21","v":"€"},{"$f":"'Country information'!E21","v":0.77},{"$f":"'Country information'!F21","v":40592.405995370369}]
[null,null,null,null,null,null,null,null,null,null,null,null,null,null,null,null,null,null,null,null,null,null,null,null,null,null,null,null,null,null,null,null,null,null,null,null,null,null,null,null,null,null,null,null,null,null,null,null,null,null,null,null,null,null,null,null,null,null,null,null,null,null,null,null,null,null,null,null,null,null,null,null,null,null,null,null,null,null,null,null,null,null,null,null,null,null,null,null,null,null,null,null,null,null,null,null,null,null,null,null,null,null,null,null,null,null,null,null,null,null,null,null,null,null,null,null,null,null,null,null,null,null,null,null,null,null,null,null,null,null,null,null,null,null,null,null,null,null,null,null,null,null,null,null,null,null,null,null,null,null,null,null,null,null,null,null,null,null,{"$f":"'Country information'!N22","v":"Belize"},{"$f":"'Country information'!O22","v":"Belize"},{"$f":"'Country information'!C22","v":"dollar"},{"$f":"'Country information'!D22","v":"BZ$"},{"$f":"'Country information'!E22","v":2},{"$f":"'Country information'!F22","v":40592.406006944446}]
[null,null,null,null,null,null,null,null,null,null,null,null,null,null,null,null,null,null,null,null,null,null,null,null,null,null,null,null,null,null,null,null,null,null,null,null,null,null,null,null,null,null,null,null,null,null,null,null,null,null,null,null,null,null,null,null,null,null,null,null,null,null,null,null,null,null,null,null,null,null,null,null,null,null,null,null,null,null,null,null,null,null,null,null,null,null,null,null,null,null,null,null,null,null,null,null,null,null,null,null,null,null,null,null,null,null,null,null,null,null,null,null,null,null,null,null,null,null,null,null,null,null,null,null,null,null,null,null,null,null,null,null,null,null,null,null,null,null,null,null,null,null,null,null,null,null,null,null,null,null,null,null,null,null,null,null,null,null,{"$f":"'Country information'!N23","v":"Benin"},{"$f":"'Country information'!O23","v":"Benin"},{"$f":"'Country information'!C23","v":"franc"},{"$f":"'Country information'!D23","v":"CFAF"},{"$f":"'Country information'!E23","v":503.3},{"$f":"'Country information'!F23","v":40592.406006944446}]
[null,null,null,null,null,null,null,null,null,null,null,null,null,null,null,null,null,null,null,null,null,null,null,null,null,null,null,null,null,null,null,null,null,null,null,null,null,null,null,null,null,null,null,null,null,null,null,null,null,null,null,null,null,null,null,null,null,null,null,null,null,null,null,null,null,null,null,null,null,null,null,null,null,null,null,null,null,null,null,null,null,null,null,null,null,null,null,null,null,null,null,null,null,null,null,null,null,null,null,null,null,null,null,null,null,null,null,null,null,null,null,null,null,null,null,null,null,null,null,null,null,null,null,null,null,null,null,null,null,null,null,null,null,null,null,null,null,null,null,null,null,null,null,null,null,null,null,null,null,null,null,null,null,null,null,null,null,null,{"$f":"'Country information'!N24","v":"Bermuda"},{"$f":"'Country information'!O24","v":"Bermuda"},{"$f":"'Country information'!C24","v":"dollar"},{"$f":"'Country information'!D24","v":"Bd$"},{"$f":"'Country information'!E24","v":1},{"$f":"'Country information'!F24","v":40592.406006944446}]
[null,null,null,null,null,null,null,null,null,null,null,null,null,null,null,null,null,null,null,null,null,null,null,null,null,null,null,null,null,null,null,null,null,null,null,null,null,null,null,null,null,null,null,null,null,null,null,null,null,null,null,null,null,null,null,null,null,null,null,null,null,null,null,null,null,null,null,null,null,null,null,null,null,null,null,null,null,null,null,null,null,null,null,null,null,null,null,null,null,null,null,null,null,null,null,null,null,null,null,null,null,null,null,null,null,null,null,null,null,null,null,null,null,null,null,null,null,null,null,null,null,null,null,null,null,null,null,null,null,null,null,null,null,null,null,null,null,null,null,null,null,null,null,null,null,null,null,null,null,null,null,null,null,null,null,null,null,null,{"$f":"'Country information'!N25","v":"Bhutan"},{"$f":"'Country information'!O25","v":"Bhutan"},{"$f":"'Country information'!C25","v":"ngultrum"},{"$f":"'Country information'!D25","v":"Nu"},{"$f":"'Country information'!E25","v":39.78},{"$f":"'Country information'!F25","v":39413}]
[null,null,null,null,null,null,null,null,null,null,null,null,null,null,null,null,null,null,null,null,null,null,null,null,null,null,null,null,null,null,null,null,null,null,null,null,null,null,null,null,null,null,null,null,null,null,null,null,null,null,null,null,null,null,null,null,null,null,null,null,null,null,null,null,null,null,null,null,null,null,null,null,null,null,null,null,null,null,null,null,null,null,null,null,null,null,null,null,null,null,null,null,null,null,null,null,null,null,null,null,null,null,null,null,null,null,null,null,null,null,null,null,null,null,null,null,null,null,null,null,null,null,null,null,null,null,null,null,null,null,null,null,null,null,null,null,null,null,null,null,null,null,null,null,null,null,null,null,null,null,null,null,null,null,null,null,null,null,{"$f":"'Country information'!N26","v":"Bolivia"},{"$f":"'Country information'!O26","v":"Bolivia"},{"$f":"'Country information'!C26","v":"boliviano"},{"$f":"'Country information'!D26","v":"$b"},{"$f":"'Country information'!E26","v":6.96},{"$f":"'Country information'!F26","v":40592.406006944446}]
[null,null,null,null,null,null,null,null,null,null,null,null,null,null,null,null,null,null,null,null,null,null,null,null,null,null,null,null,null,null,null,null,null,null,null,null,null,null,null,null,null,null,null,null,null,null,null,null,null,null,null,null,null,null,null,null,null,null,null,null,null,null,null,null,null,null,null,null,null,null,null,null,null,null,null,null,null,null,null,null,null,null,null,null,null,null,null,null,null,null,null,null,null,null,null,null,null,null,null,null,null,null,null,null,null,null,null,null,null,null,null,null,null,null,null,null,null,null,null,null,null,null,null,null,null,null,null,null,null,null,null,null,null,null,null,null,null,null,null,null,null,null,null,null,null,null,null,null,null,null,null,null,null,null,null,null,null,null,{"$f":"'Country information'!N27","v":"Bosnia-Herzegovina"},{"$f":"'Country information'!O27","v":"Bosnia-Herzegovina"},{"$f":"'Country information'!C27","v":"convertible marka"},{"$f":"'Country information'!D27","v":"KM"},{"$f":"'Country information'!E27","v":1.31612},{"$f":"'Country information'!F27","v":39413}]
[null,null,null,null,null,null,null,null,null,null,null,null,null,null,null,null,null,null,null,null,null,null,null,null,null,null,null,null,null,null,null,null,null,null,null,null,null,null,null,null,null,null,null,null,null,null,null,null,null,null,null,null,null,null,null,null,null,null,null,null,null,null,null,null,null,null,null,null,null,null,null,null,null,null,null,null,null,null,null,null,null,null,null,null,null,null,null,null,null,null,null,null,null,null,null,null,null,null,null,null,null,null,null,null,null,null,null,null,null,null,null,null,null,null,null,null,null,null,null,null,null,null,null,null,null,null,null,null,null,null,null,null,null,null,null,null,null,null,null,null,null,null,null,null,null,null,null,null,null,null,null,null,null,null,null,null,null,null,{"$f":"'Country information'!N28","v":"Botswana"},{"$f":"'Country information'!O28","v":"Botswana"},{"$f":"'Country information'!C28","v":"pula"},{"$f":"'Country information'!D28","v":"P"},{"$f":"'Country information'!E28","v":6.75},{"$f":"'Country information'!F28","v":40592.406006944446}]
[null,null,null,null,null,null,null,null,null,null,null,null,null,null,null,null,null,null,null,null,null,null,null,null,null,null,null,null,null,null,null,null,null,null,null,null,null,null,null,null,null,null,null,null,null,null,null,null,null,null,null,null,null,null,null,null,null,null,null,null,null,null,null,null,null,null,null,null,null,null,null,null,null,null,null,null,null,null,null,null,null,null,null,null,null,null,null,null,null,null,null,null,null,null,null,null,null,null,null,null,null,null,null,null,null,null,null,null,null,null,null,null,null,null,null,null,null,null,null,null,null,null,null,null,null,null,null,null,null,null,null,null,null,null,null,null,null,null,null,null,null,null,null,null,null,null,null,null,null,null,null,null,null,null,null,null,null,null,{"$f":"'Country information'!N29","v":"Brazil"},{"$f":"'Country information'!O29","v":"Brazil"},{"$f":"'Country information'!C29","v":"real"},{"$f":"'Country information'!D29","v":"R$"},{"$f":"'Country information'!E29","v":1.72},{"$f":"'Country information'!F29","v":40592.406006944446}]
[null,null,null,null,null,null,null,null,null,null,null,null,null,null,null,null,null,null,null,null,null,null,null,null,null,null,null,null,null,null,null,null,null,null,null,null,null,null,null,null,null,null,null,null,null,null,null,null,null,null,null,null,null,null,null,null,null,null,null,null,null,null,null,null,null,null,null,null,null,null,null,null,null,null,null,null,null,null,null,null,null,null,null,null,null,null,null,null,null,null,null,null,null,null,null,null,null,null,null,null,null,null,null,null,null,null,null,null,null,null,null,null,null,null,null,null,null,null,null,null,null,null,null,null,null,null,null,null,null,null,null,null,null,null,null,null,null,null,null,null,null,null,null,null,null,null,null,null,null,null,null,null,null,null,null,null,null,null,{"$f":"'Country information'!N30","v":"British Indian Ocean Territory"},{"$f":"'Country information'!O30","v":"British Indian Ocean Territory"},{"$f":"'Country information'!C30","v":"dollar"},{"$f":"'Country information'!D30","v":"US$"},{"$f":"'Country information'!E30","v":1},{"$f":"'Country information'!F30","v":40128.589282407411}]
[null,null,null,null,null,null,null,null,null,null,null,null,null,null,null,null,null,null,null,null,null,null,null,null,null,null,null,null,null,null,null,null,null,null,null,null,null,null,null,null,null,null,null,null,null,null,null,null,null,null,null,null,null,null,null,null,null,null,null,null,null,null,null,null,null,null,null,null,null,null,null,null,null,null,null,null,null,null,null,null,null,null,null,null,null,null,null,null,null,null,null,null,null,null,null,null,null,null,null,null,null,null,null,null,null,null,null,null,null,null,null,null,null,null,null,null,null,null,null,null,null,null,null,null,null,null,null,null,null,null,null,null,null,null,null,null,null,null,null,null,null,null,null,null,null,null,null,null,null,null,null,null,null,null,null,null,null,null,{"$f":"'Country information'!N31","v":"British Virgin Islands"},{"$f":"'Country information'!O31","v":"British Virgin Islands"},{"$f":"'Country information'!C31","v":"dollar"},{"$f":"'Country information'!D31","v":"US$"},{"$f":"'Country information'!E31","v":1},{"$f":"'Country information'!F31","v":40128.589282407411}]
[null,null,null,null,null,null,null,null,null,null,null,null,null,null,null,null,null,null,null,null,null,null,null,null,null,null,null,null,null,null,null,null,null,null,null,null,null,null,null,null,null,null,null,null,null,null,null,null,null,null,null,null,null,null,null,null,null,null,null,null,null,null,null,null,null,null,null,null,null,null,null,null,null,null,null,null,null,null,null,null,null,null,null,null,null,null,null,null,null,null,null,null,null,null,null,null,null,null,null,null,null,null,null,null,null,null,null,null,null,null,null,null,null,null,null,null,null,null,null,null,null,null,null,null,null,null,null,null,null,null,null,null,null,null,null,null,null,null,null,null,null,null,null,null,null,null,null,null,null,null,null,null,null,null,null,null,null,null,{"$f":"'Country information'!N32","v":"Brunei"},{"$f":"'Country information'!O32","v":"Brunei"},{"$f":"'Country information'!C32","v":"ringgit"},{"$f":"'Country information'!D32","v":"B$"},{"$f":"'Country information'!E32","v":1.32},{"$f":"'Country information'!F32","v":40592.406006944446}]
[null,null,null,null,null,null,null,null,null,null,null,null,null,null,null,null,null,null,null,null,null,null,null,null,null,null,null,null,null,null,null,null,null,null,null,null,null,null,null,null,null,null,null,null,null,null,null,null,null,null,null,null,null,null,null,null,null,null,null,null,null,null,null,null,null,null,null,null,null,null,null,null,null,null,null,null,null,null,null,null,null,null,null,null,null,null,null,null,null,null,null,null,null,null,null,null,null,null,null,null,null,null,null,null,null,null,null,null,null,null,null,null,null,null,null,null,null,null,null,null,null,null,null,null,null,null,null,null,null,null,null,null,null,null,null,null,null,null,null,null,null,null,null,null,null,null,null,null,null,null,null,null,null,null,null,null,null,null,{"$f":"'Country information'!N33","v":"Bulgaria"},{"$f":"'Country information'!O33","v":"Bulgaria"},{"$f":"'Country information'!C33","v":"new lev"},{"$f":"'Country information'!D33","v":"лв"},{"$f":"'Country information'!E33","v":1.5},{"$f":"'Country information'!F33","v":40592.406006944446}]
[null,null,null,null,null,null,null,null,null,null,null,null,null,null,null,null,null,null,null,null,null,null,null,null,null,null,null,null,null,null,null,null,null,null,null,null,null,null,null,null,null,null,null,null,null,null,null,null,null,null,null,null,null,null,null,null,null,null,null,null,null,null,null,null,null,null,null,null,null,null,null,null,null,null,null,null,null,null,null,null,null,null,null,null,null,null,null,null,null,null,null,null,null,null,null,null,null,null,null,null,null,null,null,null,null,null,null,null,null,null,null,null,null,null,null,null,null,null,null,null,null,null,null,null,null,null,null,null,null,null,null,null,null,null,null,null,null,null,null,null,null,null,null,null,null,null,null,null,null,null,null,null,null,null,null,null,null,null,{"$f":"'Country information'!N34","v":"Burkina Faso"},{"$f":"'Country information'!O34","v":"Burkina Faso"},{"$f":"'Country information'!C34","v":"franc"},{"$f":"'Country information'!D34","v":"CFAF"},{"$f":"'Country information'!E34","v":503.3},{"$f":"'Country information'!F34","v":40592.406006944446}]
[null,null,null,null,null,null,null,null,null,null,null,null,null,null,null,null,null,null,null,null,null,null,null,null,null,null,null,null,null,null,null,null,null,null,null,null,null,null,null,null,null,null,null,null,null,null,null,null,null,null,null,null,null,null,null,null,null,null,null,null,null,null,null,null,null,null,null,null,null,null,null,null,null,null,null,null,null,null,null,null,null,null,null,null,null,null,null,null,null,null,null,null,null,null,null,null,null,null,null,null,null,null,null,null,null,null,null,null,null,null,null,null,null,null,null,null,null,null,null,null,null,null,null,null,null,null,null,null,null,null,null,null,null,null,null,null,null,null,null,null,null,null,null,null,null,null,null,null,null,null,null,null,null,null,null,null,null,null,{"$f":"'Country information'!N35","v":"Burundi"},{"$f":"'Country information'!O35","v":"Burundi"},{"$f":"'Country information'!C35","v":"franc"},{"$f":"'Country information'!D35","v":"FBu"},{"$f":"'Country information'!E35","v":1243},{"$f":"'Country information'!F35","v":40592.406006944446}]
[null,null,null,null,null,null,null,null,null,null,null,null,null,null,null,null,null,null,null,null,null,null,null,null,null,null,null,null,null,null,null,null,null,null,null,null,null,null,null,null,null,null,null,null,null,null,null,null,null,null,null,null,null,null,null,null,null,null,null,null,null,null,null,null,null,null,null,null,null,null,null,null,null,null,null,null,null,null,null,null,null,null,null,null,null,null,null,null,null,null,null,null,null,null,null,null,null,null,null,null,null,null,null,null,null,null,null,null,null,null,null,null,null,null,null,null,null,null,null,null,null,null,null,null,null,null,null,null,null,null,null,null,null,null,null,null,null,null,null,null,null,null,null,null,null,null,null,null,null,null,null,null,null,null,null,null,null,null,{"$f":"'Country information'!N36","v":"Cambodia"},{"$f":"'Country information'!O36","v":"Cambodia"},{"$f":"'Country information'!C36","v":"new riel"},{"$f":"'Country information'!D36","v":"CR"},{"$f":"'Country information'!E36","v":3975.4},{"$f":"'Country information'!F36","v":39413}]
[null,null,null,null,null,null,null,null,null,null,null,null,null,null,null,null,null,null,null,null,null,null,null,null,null,null,null,null,null,null,null,null,null,null,null,null,null,null,null,null,null,null,null,null,null,null,null,null,null,null,null,null,null,null,null,null,null,null,null,null,null,null,null,null,null,null,null,null,null,null,null,null,null,null,null,null,null,null,null,null,null,null,null,null,null,null,null,null,null,null,null,null,null,null,null,null,null,null,null,null,null,null,null,null,null,null,null,null,null,null,null,null,null,null,null,null,null,null,null,null,null,null,null,null,null,null,null,null,null,null,null,null,null,null,null,null,null,null,null,null,null,null,null,null,null,null,null,null,null,null,null,null,null,null,null,null,null,null,{"$f":"'Country information'!N37","v":"Cameroon"},{"$f":"'Country information'!O37","v":"Cameroon"},{"$f":"'Country information'!C37","v":"franc"},{"$f":"'Country information'!D37","v":"CFAF"},{"$f":"'Country information'!E37","v":503.3},{"$f":"'Country information'!F37","v":40592.406006944446}]
[null,null,null,null,null,null,null,null,null,null,null,null,null,null,null,null,null,null,null,null,null,null,null,null,null,null,null,null,null,null,null,null,null,null,null,null,null,null,null,null,null,null,null,null,null,null,null,null,null,null,null,null,null,null,null,null,null,null,null,null,null,null,null,null,null,null,null,null,null,null,null,null,null,null,null,null,null,null,null,null,null,null,null,null,null,null,null,null,null,null,null,null,null,null,null,null,null,null,null,null,null,null,null,null,null,null,null,null,null,null,null,null,null,null,null,null,null,null,null,null,null,null,null,null,null,null,null,null,null,null,null,null,null,null,null,null,null,null,null,null,null,null,null,null,null,null,null,null,null,null,null,null,null,null,null,null,null,null,{"$f":"'Country information'!N38","v":"Canada"},{"$f":"'Country information'!O38","v":"Canada"},{"$f":"'Country information'!C38","v":"dollar"},{"$f":"'Country information'!D38","v":"Can$"},{"$f":"'Country information'!E38","v":1.02},{"$f":"'Country information'!F38","v":40592.406006944446}]
[null,null,null,null,null,null,null,null,null,null,null,null,null,null,null,null,null,null,null,null,null,null,null,null,null,null,null,null,null,null,null,null,null,null,null,null,null,null,null,null,null,null,null,null,null,null,null,null,null,null,null,null,null,null,null,null,null,null,null,null,null,null,null,null,null,null,null,null,null,null,null,null,null,null,null,null,null,null,null,null,null,null,null,null,null,null,null,null,null,null,null,null,null,null,null,null,null,null,null,null,null,null,null,null,null,null,null,null,null,null,null,null,null,null,null,null,null,null,null,null,null,null,null,null,null,null,null,null,null,null,null,null,null,null,null,null,null,null,null,null,null,null,null,null,null,null,null,null,null,null,null,null,null,null,null,null,null,null,{"$f":"'Country information'!N39","v":"Cape Verde Island"},{"$f":"'Country information'!O39","v":"Cape Verde Island"},{"$f":"'Country information'!C39","v":"escudo"},{"$f":"'Country information'!D39","v":"C.V.Esc."},{"$f":"'Country information'!E39","v":74.31},{"$f":"'Country information'!F39","v":39413}]
[null,null,null,null,null,null,null,null,null,null,null,null,null,null,null,null,null,null,null,null,null,null,null,null,null,null,null,null,null,null,null,null,null,null,null,null,null,null,null,null,null,null,null,null,null,null,null,null,null,null,null,null,null,null,null,null,null,null,null,null,null,null,null,null,null,null,null,null,null,null,null,null,null,null,null,null,null,null,null,null,null,null,null,null,null,null,null,null,null,null,null,null,null,null,null,null,null,null,null,null,null,null,null,null,null,null,null,null,null,null,null,null,null,null,null,null,null,null,null,null,null,null,null,null,null,null,null,null,null,null,null,null,null,null,null,null,null,null,null,null,null,null,null,null,null,null,null,null,null,null,null,null,null,null,null,null,null,null,{"$f":"'Country information'!N40","v":"Cayman Islands"},{"$f":"'Country information'!O40","v":"Cayman Islands"},{"$f":"'Country information'!C40","v":"dollar"},{"$f":"'Country information'!D40","v":"CI$"},{"$f":"'Country information'!E40","v":0.82},{"$f":"'Country information'!F40","v":40592.406006944446}]
[null,null,null,null,null,null,null,null,null,null,null,null,null,null,null,null,null,null,null,null,null,null,null,null,null,null,null,null,null,null,null,null,null,null,null,null,null,null,null,null,null,null,null,null,null,null,null,null,null,null,null,null,null,null,null,null,null,null,null,null,null,null,null,null,null,null,null,null,null,null,null,null,null,null,null,null,null,null,null,null,null,null,null,null,null,null,null,null,null,null,null,null,null,null,null,null,null,null,null,null,null,null,null,null,null,null,null,null,null,null,null,null,null,null,null,null,null,null,null,null,null,null,null,null,null,null,null,null,null,null,null,null,null,null,null,null,null,null,null,null,null,null,null,null,null,null,null,null,null,null,null,null,null,null,null,null,null,null,{"$f":"'Country information'!N41","v":"Central African Republic"},{"$f":"'Country information'!O41","v":"Central African Republic"},{"$f":"'Country information'!C41","v":"franc"},{"$f":"'Country information'!D41","v":"CFAF"},{"$f":"'Country information'!E41","v":503.3},{"$f":"'Country information'!F41","v":40592.406006944446}]
[null,null,null,null,null,null,null,null,null,null,null,null,null,null,null,null,null,null,null,null,null,null,null,null,null,null,null,null,null,null,null,null,null,null,null,null,null,null,null,null,null,null,null,null,null,null,null,null,null,null,null,null,null,null,null,null,null,null,null,null,null,null,null,null,null,null,null,null,null,null,null,null,null,null,null,null,null,null,null,null,null,null,null,null,null,null,null,null,null,null,null,null,null,null,null,null,null,null,null,null,null,null,null,null,null,null,null,null,null,null,null,null,null,null,null,null,null,null,null,null,null,null,null,null,null,null,null,null,null,null,null,null,null,null,null,null,null,null,null,null,null,null,null,null,null,null,null,null,null,null,null,null,null,null,null,null,null,null,{"$f":"'Country information'!N42","v":"Chad"},{"$f":"'Country information'!O42","v":"Chad"},{"$f":"'Country information'!C42","v":"franc"},{"$f":"'Country information'!D42","v":"CFAF"},{"$f":"'Country information'!E42","v":503.3},{"$f":"'Country information'!F42","v":40592.406006944446}]
[null,null,null,null,null,null,null,null,null,null,null,null,null,null,null,null,null,null,null,null,null,null,null,null,null,null,null,null,null,null,null,null,null,null,null,null,null,null,null,null,null,null,null,null,null,null,null,null,null,null,null,null,null,null,null,null,null,null,null,null,null,null,null,null,null,null,null,null,null,null,null,null,null,null,null,null,null,null,null,null,null,null,null,null,null,null,null,null,null,null,null,null,null,null,null,null,null,null,null,null,null,null,null,null,null,null,null,null,null,null,null,null,null,null,null,null,null,null,null,null,null,null,null,null,null,null,null,null,null,null,null,null,null,null,null,null,null,null,null,null,null,null,null,null,null,null,null,null,null,null,null,null,null,null,null,null,null,null,{"$f":"'Country information'!N43","v":"Chile"},{"$f":"'Country information'!O43","v":"Chile"},{"$f":"'Country information'!C43","v":"peso"},{"$f":"'Country information'!D43","v":"Ch$"},{"$f":"'Country information'!E43","v":486.7},{"$f":"'Country information'!F43","v":40592.406006944446}]
[null,null,null,null,null,null,null,null,null,null,null,null,null,null,null,null,null,null,null,null,null,null,null,null,null,null,null,null,null,null,null,null,null,null,null,null,null,null,null,null,null,null,null,null,null,null,null,null,null,null,null,null,null,null,null,null,null,null,null,null,null,null,null,null,null,null,null,null,null,null,null,null,null,null,null,null,null,null,null,null,null,null,null,null,null,null,null,null,null,null,null,null,null,null,null,null,null,null,null,null,null,null,null,null,null,null,null,null,null,null,null,null,null,null,null,null,null,null,null,null,null,null,null,null,null,null,null,null,null,null,null,null,null,null,null,null,null,null,null,null,null,null,null,null,null,null,null,null,null,null,null,null,null,null,null,null,null,null,{"$f":"'Country information'!N44","v":"China"},{"$f":"'Country information'!O44","v":"China"},{"$f":"'Country information'!C44","v":"yuan renminbi"},{"$f":"'Country information'!D44","v":"¥"},{"$f":"'Country information'!E44","v":6.67},{"$f":"'Country information'!F44","v":40592.406006944446}]
[null,null,null,null,null,null,null,null,null,null,null,null,null,null,null,null,null,null,null,null,null,null,null,null,null,null,null,null,null,null,null,null,null,null,null,null,null,null,null,null,null,null,null,null,null,null,null,null,null,null,null,null,null,null,null,null,null,null,null,null,null,null,null,null,null,null,null,null,null,null,null,null,null,null,null,null,null,null,null,null,null,null,null,null,null,null,null,null,null,null,null,null,null,null,null,null,null,null,null,null,null,null,null,null,null,null,null,null,null,null,null,null,null,null,null,null,null,null,null,null,null,null,null,null,null,null,null,null,null,null,null,null,null,null,null,null,null,null,null,null,null,null,null,null,null,null,null,null,null,null,null,null,null,null,null,null,null,null,{"$f":"'Country information'!N45","v":"Christmas Island"},{"$f":"'Country information'!O45","v":"Christmas Island"},{"$f":"'Country information'!C45","v":"dollar"},{"$f":"'Country information'!D45","v":"A$"},{"$f":"'Country information'!E45","v":1.04},{"$f":"'Country information'!F45","v":40592.406053240738}]
[null,null,null,null,null,null,null,null,null,null,null,null,null,null,null,null,null,null,null,null,null,null,null,null,null,null,null,null,null,null,null,null,null,null,null,null,null,null,null,null,null,null,null,null,null,null,null,null,null,null,null,null,null,null,null,null,null,null,null,null,null,null,null,null,null,null,null,null,null,null,null,null,null,null,null,null,null,null,null,null,null,null,null,null,null,null,null,null,null,null,null,null,null,null,null,null,null,null,null,null,null,null,null,null,null,null,null,null,null,null,null,null,null,null,null,null,null,null,null,null,null,null,null,null,null,null,null,null,null,null,null,null,null,null,null,null,null,null,null,null,null,null,null,null,null,null,null,null,null,null,null,null,null,null,null,null,null,null,{"$f":"'Country information'!N46","v":"Cocos (Keeling) Islands"},{"$f":"'Country information'!O46","v":"Cocos (Keeling) Islands"},{"$f":"'Country information'!C46","v":"dollar"},{"$f":"'Country information'!D46","v":"A$"},{"$f":"'Country information'!E46","v":1.04},{"$f":"'Country information'!F46","v":40592.406053240738}]
[null,null,null,null,null,null,null,null,null,null,null,null,null,null,null,null,null,null,null,null,null,null,null,null,null,null,null,null,null,null,null,null,null,null,null,null,null,null,null,null,null,null,null,null,null,null,null,null,null,null,null,null,null,null,null,null,null,null,null,null,null,null,null,null,null,null,null,null,null,null,null,null,null,null,null,null,null,null,null,null,null,null,null,null,null,null,null,null,null,null,null,null,null,null,null,null,null,null,null,null,null,null,null,null,null,null,null,null,null,null,null,null,null,null,null,null,null,null,null,null,null,null,null,null,null,null,null,null,null,null,null,null,null,null,null,null,null,null,null,null,null,null,null,null,null,null,null,null,null,null,null,null,null,null,null,null,null,null,{"$f":"'Country information'!N47","v":"Colombia"},{"$f":"'Country information'!O47","v":"Colombia"},{"$f":"'Country information'!C47","v":"peso"},{"$f":"'Country information'!D47","v":"Col$"},{"$f":"'Country information'!E47","v":1920},{"$f":"'Country information'!F47","v":40592.406006944446}]
[null,null,null,null,null,null,null,null,null,null,null,null,null,null,null,null,null,null,null,null,null,null,null,null,null,null,null,null,null,null,null,null,null,null,null,null,null,null,null,null,null,null,null,null,null,null,null,null,null,null,null,null,null,null,null,null,null,null,null,null,null,null,null,null,null,null,null,null,null,null,null,null,null,null,null,null,null,null,null,null,null,null,null,null,null,null,null,null,null,null,null,null,null,null,null,null,null,null,null,null,null,null,null,null,null,null,null,null,null,null,null,null,null,null,null,null,null,null,null,null,null,null,null,null,null,null,null,null,null,null,null,null,null,null,null,null,null,null,null,null,null,null,null,null,null,null,null,null,null,null,null,null,null,null,null,null,null,null,{"$f":"'Country information'!N48","v":"Comoros"},{"$f":"'Country information'!O48","v":"Comoros"},{"$f":"'Country information'!C48","v":"franc"},{"$f":"'Country information'!D48","v":"KMF"},{"$f":"'Country information'!E48","v":361.35},{"$f":"'Country information'!F48","v":40592.406006944446}]
[null,null,null,null,null,null,null,null,null,null,null,null,null,null,null,null,null,null,null,null,null,null,null,null,null,null,null,null,null,null,null,null,null,null,null,null,null,null,null,null,null,null,null,null,null,null,null,null,null,null,null,null,null,null,null,null,null,null,null,null,null,null,null,null,null,null,null,null,null,null,null,null,null,null,null,null,null,null,null,null,null,null,null,null,null,null,null,null,null,null,null,null,null,null,null,null,null,null,null,null,null,null,null,null,null,null,null,null,null,null,null,null,null,null,null,null,null,null,null,null,null,null,null,null,null,null,null,null,null,null,null,null,null,null,null,null,null,null,null,null,null,null,null,null,null,null,null,null,null,null,null,null,null,null,null,null,null,null,{"$f":"'Country information'!N49","v":"Congo"},{"$f":"'Country information'!O49","v":"Congo"},{"$f":"'Country information'!C49","v":"franc"},{"$f":"'Country information'!D49","v":"CFAF"},{"$f":"'Country information'!E49","v":503.3},{"$f":"'Country information'!F49","v":40592.406006944446}]
[null,null,null,null,null,null,null,null,null,null,null,null,null,null,null,null,null,null,null,null,null,null,null,null,null,null,null,null,null,null,null,null,null,null,null,null,null,null,null,null,null,null,null,null,null,null,null,null,null,null,null,null,null,null,null,null,null,null,null,null,null,null,null,null,null,null,null,null,null,null,null,null,null,null,null,null,null,null,null,null,null,null,null,null,null,null,null,null,null,null,null,null,null,null,null,null,null,null,null,null,null,null,null,null,null,null,null,null,null,null,null,null,null,null,null,null,null,null,null,null,null,null,null,null,null,null,null,null,null,null,null,null,null,null,null,null,null,null,null,null,null,null,null,null,null,null,null,null,null,null,null,null,null,null,null,null,null,null,{"$f":"'Country information'!N50","v":"Congo, Dem. Rep."},{"$f":"'Country information'!O50","v":"Congo, Dem. Rep."},{"$f":"'Country information'!C50","v":"franc"},{"$f":"'Country information'!D50","v":"CDF"},{"$f":"'Country information'!E50","v":560},{"$f":"'Country information'!F50","v":39413}]
[null,null,null,null,null,null,null,null,null,null,null,null,null,null,null,null,null,null,null,null,null,null,null,null,null,null,null,null,null,null,null,null,null,null,null,null,null,null,null,null,null,null,null,null,null,null,null,null,null,null,null,null,null,null,null,null,null,null,null,null,null,null,null,null,null,null,null,null,null,null,null,null,null,null,null,null,null,null,null,null,null,null,null,null,null,null,null,null,null,null,null,null,null,null,null,null,null,null,null,null,null,null,null,null,null,null,null,null,null,null,null,null,null,null,null,null,null,null,null,null,null,null,null,null,null,null,null,null,null,null,null,null,null,null,null,null,null,null,null,null,null,null,null,null,null,null,null,null,null,null,null,null,null,null,null,null,null,null,{"$f":"'Country information'!N51","v":"Cook Islands"},{"$f":"'Country information'!O51","v":"Cook Islands"},{"$f":"'Country information'!C51","v":"dollar"},{"$f":"'Country information'!D51","v":"NZ$"},{"$f":"'Country information'!E51","v":1.34},{"$f":"'Country information'!F51","v":40592.406053240738}]
[null,null,null,null,null,null,null,null,null,null,null,null,null,null,null,null,null,null,null,null,null,null,null,null,null,null,null,null,null,null,null,null,null,null,null,null,null,null,null,null,null,null,null,null,null,null,null,null,null,null,null,null,null,null,null,null,null,null,null,null,null,null,null,null,null,null,null,null,null,null,null,null,null,null,null,null,null,null,null,null,null,null,null,null,null,null,null,null,null,null,null,null,null,null,null,null,null,null,null,null,null,null,null,null,null,null,null,null,null,null,null,null,null,null,null,null,null,null,null,null,null,null,null,null,null,null,null,null,null,null,null,null,null,null,null,null,null,null,null,null,null,null,null,null,null,null,null,null,null,null,null,null,null,null,null,null,null,null,{"$f":"'Country information'!N52","v":"Costa Rica"},{"$f":"'Country information'!O52","v":"Costa Rica"},{"$f":"'Country information'!C52","v":"colon"},{"$f":"'Country information'!D52","v":"₡"},{"$f":"'Country information'!E52","v":501.95},{"$f":"'Country information'!F52","v":40592.406018518515}]
[null,null,null,null,null,null,null,null,null,null,null,null,null,null,null,null,null,null,null,null,null,null,null,null,null,null,null,null,null,null,null,null,null,null,null,null,null,null,null,null,null,null,null,null,null,null,null,null,null,null,null,null,null,null,null,null,null,null,null,null,null,null,null,null,null,null,null,null,null,null,null,null,null,null,null,null,null,null,null,null,null,null,null,null,null,null,null,null,null,null,null,null,null,null,null,null,null,null,null,null,null,null,null,null,null,null,null,null,null,null,null,null,null,null,null,null,null,null,null,null,null,null,null,null,null,null,null,null,null,null,null,null,null,null,null,null,null,null,null,null,null,null,null,null,null,null,null,null,null,null,null,null,null,null,null,null,null,null,{"$f":"'Country information'!N53","v":"Côte d'Ivoire"},{"$f":"'Country information'!O53","v":"Côte d'Ivoire"},{"$f":"'Country information'!C53","v":"franc"},{"$f":"'Country information'!D53","v":"CFAF"},{"$f":"'Country information'!E53","v":503.3},{"$f":"'Country information'!F53","v":40592.406053240738}]
[null,null,null,null,null,null,null,null,null,null,null,null,null,null,null,null,null,null,null,null,null,null,null,null,null,null,null,null,null,null,null,null,null,null,null,null,null,null,null,null,null,null,null,null,null,null,null,null,null,null,null,null,null,null,null,null,null,null,null,null,null,null,null,null,null,null,null,null,null,null,null,null,null,null,null,null,null,null,null,null,null,null,null,null,null,null,null,null,null,null,null,null,null,null,null,null,null,null,null,null,null,null,null,null,null,null,null,null,null,null,null,null,null,null,null,null,null,null,null,null,null,null,null,null,null,null,null,null,null,null,null,null,null,null,null,null,null,null,null,null,null,null,null,null,null,null,null,null,null,null,null,null,null,null,null,null,null,null,{"$f":"'Country information'!N54","v":"Croatia"},{"$f":"'Country information'!O54","v":"Croatia"},{"$f":"'Country information'!C54","v":"kuna"},{"$f":"'Country information'!D54","v":"kn"},{"$f":"'Country information'!E54","v":5.59},{"$f":"'Country information'!F54","v":40592.406018518515}]
[null,null,null,null,null,null,null,null,null,null,null,null,null,null,null,null,null,null,null,null,null,null,null,null,null,null,null,null,null,null,null,null,null,null,null,null,null,null,null,null,null,null,null,null,null,null,null,null,null,null,null,null,null,null,null,null,null,null,null,null,null,null,null,null,null,null,null,null,null,null,null,null,null,null,null,null,null,null,null,null,null,null,null,null,null,null,null,null,null,null,null,null,null,null,null,null,null,null,null,null,null,null,null,null,null,null,null,null,null,null,null,null,null,null,null,null,null,null,null,null,null,null,null,null,null,null,null,null,null,null,null,null,null,null,null,null,null,null,null,null,null,null,null,null,null,null,null,null,null,null,null,null,null,null,null,null,null,null,{"$f":"'Country information'!N55","v":"Cuba (external)"},{"$f":"'Country information'!O55","v":"Cuba (external)"},{"$f":"'Country information'!C55","v":"convertible peso"},{"$f":"'Country information'!D55","v":"Cuc$"},{"$f":"'Country information'!E55","v":0.92589999999999995},{"$f":"'Country information'!F55","v":39413}]
[null,null,null,null,null,null,null,null,null,null,null,null,null,null,null,null,null,null,null,null,null,null,null,null,null,null,null,null,null,null,null,null,null,null,null,null,null,null,null,null,null,null,null,null,null,null,null,null,null,null,null,null,null,null,null,null,null,null,null,null,null,null,null,null,null,null,null,null,null,null,null,null,null,null,null,null,null,null,null,null,null,null,null,null,null,null,null,null,null,null,null,null,null,null,null,null,null,null,null,null,null,null,null,null,null,null,null,null,null,null,null,null,null,null,null,null,null,null,null,null,null,null,null,null,null,null,null,null,null,null,null,null,null,null,null,null,null,null,null,null,null,null,null,null,null,null,null,null,null,null,null,null,null,null,null,null,null,null,{"$f":"'Country information'!N56","v":"Cuba (internal)"},{"$f":"'Country information'!O56","v":"Cuba (internal)"},{"$f":"'Country information'!C56","v":"peso"},{"$f":"'Country information'!D56","v":"₱"},{"$f":"'Country information'!E56","v":26.49708532061473},{"$f":"'Country information'!F56","v":39413}]
[null,null,null,null,null,null,null,null,null,null,null,null,null,null,null,null,null,null,null,null,null,null,null,null,null,null,null,null,null,null,null,null,null,null,null,null,null,null,null,null,null,null,null,null,null,null,null,null,null,null,null,null,null,null,null,null,null,null,null,null,null,null,null,null,null,null,null,null,null,null,null,null,null,null,null,null,null,null,null,null,null,null,null,null,null,null,null,null,null,null,null,null,null,null,null,null,null,null,null,null,null,null,null,null,null,null,null,null,null,null,null,null,null,null,null,null,null,null,null,null,null,null,null,null,null,null,null,null,null,null,null,null,null,null,null,null,null,null,null,null,null,null,null,null,null,null,null,null,null,null,null,null,null,null,null,null,null,null,{"$f":"'Country information'!N57","v":"Cyprus"},{"$f":"'Country information'!O57","v":"Cyprus"},{"$f":"'Country information'!C57","v":"poundC"},{"$f":"'Country information'!D57","v":"£C"},{"$f":"'Country information'!E57","v":0.77},{"$f":"'Country information'!F57","v":40592.406018518515}]
[null,null,null,null,null,null,null,null,null,null,null,null,null,null,null,null,null,null,null,null,null,null,null,null,null,null,null,null,null,null,null,null,null,null,null,null,null,null,null,null,null,null,null,null,null,null,null,null,null,null,null,null,null,null,null,null,null,null,null,null,null,null,null,null,null,null,null,null,null,null,null,null,null,null,null,null,null,null,null,null,null,null,null,null,null,null,null,null,null,null,null,null,null,null,null,null,null,null,null,null,null,null,null,null,null,null,null,null,null,null,null,null,null,null,null,null,null,null,null,null,null,null,null,null,null,null,null,null,null,null,null,null,null,null,null,null,null,null,null,null,null,null,null,null,null,null,null,null,null,null,null,null,null,null,null,null,null,null,{"$f":"'Country information'!N58","v":"Cyprus (Northern)"},{"$f":"'Country information'!O58","v":"Cyprus (Northern)"},{"$f":"'Country information'!C58","v":"new lira"},{"$f":"'Country information'!D58","v":"YTL"},{"$f":"'Country information'!E58","v":1.3449899125756557},{"$f":"'Country information'!F58","v":38817}]
[null,null,null,null,null,null,null,null,null,null,null,null,null,null,null,null,null,null,null,null,null,null,null,null,null,null,null,null,null,null,null,null,null,null,null,null,null,null,null,null,null,null,null,null,null,null,null,null,null,null,null,null,null,null,null,null,null,null,null,null,null,null,null,null,null,null,null,null,null,null,null,null,null,null,null,null,null,null,null,null,null,null,null,null,null,null,null,null,null,null,null,null,null,null,null,null,null,null,null,null,null,null,null,null,null,null,null,null,null,null,null,null,null,null,null,null,null,null,null,null,null,null,null,null,null,null,null,null,null,null,null,null,null,null,null,null,null,null,null,null,null,null,null,null,null,null,null,null,null,null,null,null,null,null,null,null,null,null,{"$f":"'Country information'!N59","v":"Czech"},{"$f":"'Country information'!O59","v":"Czech"},{"$f":"'Country information'!C59","v":"koruna"},{"$f":"'Country information'!D59","v":"Kč"},{"$f":"'Country information'!E59","v":17},{"$f":"'Country information'!F59","v":40599.404351851852}]
[null,null,null,null,null,null,null,null,null,null,null,null,null,null,null,null,null,null,null,null,null,null,null,null,null,null,null,null,null,null,null,null,null,null,null,null,null,null,null,null,null,null,null,null,null,null,null,null,null,null,null,null,null,null,null,null,null,null,null,null,null,null,null,null,null,null,null,null,null,null,null,null,null,null,null,null,null,null,null,null,null,null,null,null,null,null,null,null,null,null,null,null,null,null,null,null,null,null,null,null,null,null,null,null,null,null,null,null,null,null,null,null,null,null,null,null,null,null,null,null,null,null,null,null,null,null,null,null,null,null,null,null,null,null,null,null,null,null,null,null,null,null,null,null,null,null,null,null,null,null,null,null,null,null,null,null,null,null,{"$f":"'Country information'!N60","v":"Denmark"},{"$f":"'Country information'!O60","v":"Denmark"},{"$f":"'Country information'!C60","v":"kroner"},{"$f":"'Country information'!D60","v":"Dkr"},{"$f":"'Country information'!E60","v":5.72},{"$f":"'Country information'!F60","v":40592.406018518515}]
[null,null,null,null,null,null,null,null,null,null,null,null,null,null,null,null,null,null,null,null,null,null,null,null,null,null,null,null,null,null,null,null,null,null,null,null,null,null,null,null,null,null,null,null,null,null,null,null,null,null,null,null,null,null,null,null,null,null,null,null,null,null,null,null,null,null,null,null,null,null,null,null,null,null,null,null,null,null,null,null,null,null,null,null,null,null,null,null,null,null,null,null,null,null,null,null,null,null,null,null,null,null,null,null,null,null,null,null,null,null,null,null,null,null,null,null,null,null,null,null,null,null,null,null,null,null,null,null,null,null,null,null,null,null,null,null,null,null,null,null,null,null,null,null,null,null,null,null,null,null,null,null,null,null,null,null,null,null,{"$f":"'Country information'!N61","v":"Djibouti"},{"$f":"'Country information'!O61","v":"Djibouti"},{"$f":"'Country information'!C61","v":"franc"},{"$f":"'Country information'!D61","v":"DF"},{"$f":"'Country information'!E61","v":177},{"$f":"'Country information'!F61","v":40592.406018518515}]
[null,null,null,null,null,null,null,null,null,null,null,null,null,null,null,null,null,null,null,null,null,null,null,null,null,null,null,null,null,null,null,null,null,null,null,null,null,null,null,null,null,null,null,null,null,null,null,null,null,null,null,null,null,null,null,null,null,null,null,null,null,null,null,null,null,null,null,null,null,null,null,null,null,null,null,null,null,null,null,null,null,null,null,null,null,null,null,null,null,null,null,null,null,null,null,null,null,null,null,null,null,null,null,null,null,null,null,null,null,null,null,null,null,null,null,null,null,null,null,null,null,null,null,null,null,null,null,null,null,null,null,null,null,null,null,null,null,null,null,null,null,null,null,null,null,null,null,null,null,null,null,null,null,null,null,null,null,null,{"$f":"'Country information'!N62","v":"Dominica"},{"$f":"'Country information'!O62","v":"Dominica"},{"$f":"'Country information'!C62","v":"dollar"},{"$f":"'Country information'!D62","v":"EC$"},{"$f":"'Country information'!E62","v":2.7},{"$f":"'Country information'!F62","v":40592.406053240738}]
[null,null,null,null,null,null,null,null,null,null,null,null,null,null,null,null,null,null,null,null,null,null,null,null,null,null,null,null,null,null,null,null,null,null,null,null,null,null,null,null,null,null,null,null,null,null,null,null,null,null,null,null,null,null,null,null,null,null,null,null,null,null,null,null,null,null,null,null,null,null,null,null,null,null,null,null,null,null,null,null,null,null,null,null,null,null,null,null,null,null,null,null,null,null,null,null,null,null,null,null,null,null,null,null,null,null,null,null,null,null,null,null,null,null,null,null,null,null,null,null,null,null,null,null,null,null,null,null,null,null,null,null,null,null,null,null,null,null,null,null,null,null,null,null,null,null,null,null,null,null,null,null,null,null,null,null,null,null,{"$f":"'Country information'!N63","v":"Dominican Rep."},{"$f":"'Country information'!O63","v":"Dominican Rep."},{"$f":"'Country information'!C63","v":"peso"},{"$f":"'Country information'!D63","v":"RD$"},{"$f":"'Country information'!E63","v":33.483499999999999},{"$f":"'Country information'!F63","v":39413}]
[null,null,null,null,null,null,null,null,null,null,null,null,null,null,null,null,null,null,null,null,null,null,null,null,null,null,null,null,null,null,null,null,null,null,null,null,null,null,null,null,null,null,null,null,null,null,null,null,null,null,null,null,null,null,null,null,null,null,null,null,null,null,null,null,null,null,null,null,null,null,null,null,null,null,null,null,null,null,null,null,null,null,null,null,null,null,null,null,null,null,null,null,null,null,null,null,null,null,null,null,null,null,null,null,null,null,null,null,null,null,null,null,null,null,null,null,null,null,null,null,null,null,null,null,null,null,null,null,null,null,null,null,null,null,null,null,null,null,null,null,null,null,null,null,null,null,null,null,null,null,null,null,null,null,null,null,null,null,{"$f":"'Country information'!N64","v":"Dronning Maud Land"},{"$f":"'Country information'!O64","v":"Dronning Maud Land"},{"$f":"'Country information'!C64","v":"krone"},{"$f":"'Country information'!D64","v":"NKr"},{"$f":"'Country information'!E64","v":6.2},{"$f":"'Country information'!F64","v":40592.406053240738}]
[null,null,null,null,null,null,null,null,null,null,null,null,null,null,null,null,null,null,null,null,null,null,null,null,null,null,null,null,null,null,null,null,null,null,null,null,null,null,null,null,null,null,null,null,null,null,null,null,null,null,null,null,null,null,null,null,null,null,null,null,null,null,null,null,null,null,null,null,null,null,null,null,null,null,null,null,null,null,null,null,null,null,null,null,null,null,null,null,null,null,null,null,null,null,null,null,null,null,null,null,null,null,null,null,null,null,null,null,null,null,null,null,null,null,null,null,null,null,null,null,null,null,null,null,null,null,null,null,null,null,null,null,null,null,null,null,null,null,null,null,null,null,null,null,null,null,null,null,null,null,null,null,null,null,null,null,null,null,{"$f":"'Country information'!N65","v":"East Timor"},{"$f":"'Country information'!O65","v":"East Timor"},{"$f":"'Country information'!C65","v":"dollar"},{"$f":"'Country information'!D65","v":"US$"},{"$f":"'Country information'!E65","v":1},{"$f":"'Country information'!F65","v":40592.406018518515}]
[null,null,null,null,null,null,null,null,null,null,null,null,null,null,null,null,null,null,null,null,null,null,null,null,null,null,null,null,null,null,null,null,null,null,null,null,null,null,null,null,null,null,null,null,null,null,null,null,null,null,null,null,null,null,null,null,null,null,null,null,null,null,null,null,null,null,null,null,null,null,null,null,null,null,null,null,null,null,null,null,null,null,null,null,null,null,null,null,null,null,null,null,null,null,null,null,null,null,null,null,null,null,null,null,null,null,null,null,null,null,null,null,null,null,null,null,null,null,null,null,null,null,null,null,null,null,null,null,null,null,null,null,null,null,null,null,null,null,null,null,null,null,null,null,null,null,null,null,null,null,null,null,null,null,null,null,null,null,{"$f":"'Country information'!N66","v":"Ecuador"},{"$f":"'Country information'!O66","v":"Ecuador"},{"$f":"'Country information'!C66","v":"dollar"},{"$f":"'Country information'!D66","v":"US$"},{"$f":"'Country information'!E66","v":1},{"$f":"'Country information'!F66","v":40128.589282407411}]
[null,null,null,null,null,null,null,null,null,null,null,null,null,null,null,null,null,null,null,null,null,null,null,null,null,null,null,null,null,null,null,null,null,null,null,null,null,null,null,null,null,null,null,null,null,null,null,null,null,null,null,null,null,null,null,null,null,null,null,null,null,null,null,null,null,null,null,null,null,null,null,null,null,null,null,null,null,null,null,null,null,null,null,null,null,null,null,null,null,null,null,null,null,null,null,null,null,null,null,null,null,null,null,null,null,null,null,null,null,null,null,null,null,null,null,null,null,null,null,null,null,null,null,null,null,null,null,null,null,null,null,null,null,null,null,null,null,null,null,null,null,null,null,null,null,null,null,null,null,null,null,null,null,null,null,null,null,null,{"$f":"'Country information'!N67","v":"Egypt"},{"$f":"'Country information'!O67","v":"Egypt"},{"$f":"'Country information'!C67","v":"poundE"},{"$f":"'Country information'!D67","v":"£E"},{"$f":"'Country information'!E67","v":5.79},{"$f":"'Country information'!F67","v":40592.406018518515}]
[null,null,null,null,null,null,null,null,null,null,null,null,null,null,null,null,null,null,null,null,null,null,null,null,null,null,null,null,null,null,null,null,null,null,null,null,null,null,null,null,null,null,null,null,null,null,null,null,null,null,null,null,null,null,null,null,null,null,null,null,null,null,null,null,null,null,null,null,null,null,null,null,null,null,null,null,null,null,null,null,null,null,null,null,null,null,null,null,null,null,null,null,null,null,null,null,null,null,null,null,null,null,null,null,null,null,null,null,null,null,null,null,null,null,null,null,null,null,null,null,null,null,null,null,null,null,null,null,null,null,null,null,null,null,null,null,null,null,null,null,null,null,null,null,null,null,null,null,null,null,null,null,null,null,null,null,null,null,{"$f":"'Country information'!N68","v":"El Salvador"},{"$f":"'Country information'!O68","v":"El Salvador"},{"$f":"'Country information'!C68","v":"dollar"},{"$f":"'Country information'!D68","v":"US$"},{"$f":"'Country information'!E68","v":1},{"$f":"'Country information'!F68","v":40592.406018518515}]
[null,null,null,null,null,null,null,null,null,null,null,null,null,null,null,null,null,null,null,null,null,null,null,null,null,null,null,null,null,null,null,null,null,null,null,null,null,null,null,null,null,null,null,null,null,null,null,null,null,null,null,null,null,null,null,null,null,null,null,null,null,null,null,null,null,null,null,null,null,null,null,null,null,null,null,null,null,null,null,null,null,null,null,null,null,null,null,null,null,null,null,null,null,null,null,null,null,null,null,null,null,null,null,null,null,null,null,null,null,null,null,null,null,null,null,null,null,null,null,null,null,null,null,null,null,null,null,null,null,null,null,null,null,null,null,null,null,null,null,null,null,null,null,null,null,null,null,null,null,null,null,null,null,null,null,null,null,null,{"$f":"'Country information'!N69","v":"Equatorial Guinea"},{"$f":"'Country information'!O69","v":"Equatorial Guinea"},{"$f":"'Country information'!C69","v":"franc"},{"$f":"'Country information'!D69","v":"CFAF"},{"$f":"'Country information'!E69","v":503.3},{"$f":"'Country information'!F69","v":40592.406018518515}]
[null,null,null,null,null,null,null,null,null,null,null,null,null,null,null,null,null,null,null,null,null,null,null,null,null,null,null,null,null,null,null,null,null,null,null,null,null,null,null,null,null,null,null,null,null,null,null,null,null,null,null,null,null,null,null,null,null,null,null,null,null,null,null,null,null,null,null,null,null,null,null,null,null,null,null,null,null,null,null,null,null,null,null,null,null,null,null,null,null,null,null,null,null,null,null,null,null,null,null,null,null,null,null,null,null,null,null,null,null,null,null,null,null,null,null,null,null,null,null,null,null,null,null,null,null,null,null,null,null,null,null,null,null,null,null,null,null,null,null,null,null,null,null,null,null,null,null,null,null,null,null,null,null,null,null,null,null,null,{"$f":"'Country information'!N70","v":"Eritrea"},{"$f":"'Country information'!O70","v":"Eritrea"},{"$f":"'Country information'!C70","v":"nakfa"},{"$f":"'Country information'!D70","v":"Nfa"},{"$f":"'Country information'!E70","v":15},{"$f":"'Country information'!F70","v":40592.406018518515}]
[null,null,null,null,null,null,null,null,null,null,null,null,null,null,null,null,null,null,null,null,null,null,null,null,null,null,null,null,null,null,null,null,null,null,null,null,null,null,null,null,null,null,null,null,null,null,null,null,null,null,null,null,null,null,null,null,null,null,null,null,null,null,null,null,null,null,null,null,null,null,null,null,null,null,null,null,null,null,null,null,null,null,null,null,null,null,null,null,null,null,null,null,null,null,null,null,null,null,null,null,null,null,null,null,null,null,null,null,null,null,null,null,null,null,null,null,null,null,null,null,null,null,null,null,null,null,null,null,null,null,null,null,null,null,null,null,null,null,null,null,null,null,null,null,null,null,null,null,null,null,null,null,null,null,null,null,null,null,{"$f":"'Country information'!N71","v":"Estonia"},{"$f":"'Country information'!O71","v":"Estonia"},{"$f":"'Country information'!C71","v":"kroon"},{"$f":"'Country information'!D71","v":"KR"},{"$f":"'Country information'!E71","v":12},{"$f":"'Country information'!F71","v":40592.406018518515}]
[null,null,null,null,null,null,null,null,null,null,null,null,null,null,null,null,null,null,null,null,null,null,null,null,null,null,null,null,null,null,null,null,null,null,null,null,null,null,null,null,null,null,null,null,null,null,null,null,null,null,null,null,null,null,null,null,null,null,null,null,null,null,null,null,null,null,null,null,null,null,null,null,null,null,null,null,null,null,null,null,null,null,null,null,null,null,null,null,null,null,null,null,null,null,null,null,null,null,null,null,null,null,null,null,null,null,null,null,null,null,null,null,null,null,null,null,null,null,null,null,null,null,null,null,null,null,null,null,null,null,null,null,null,null,null,null,null,null,null,null,null,null,null,null,null,null,null,null,null,null,null,null,null,null,null,null,null,null,{"$f":"'Country information'!N72","v":"Ethiopia"},{"$f":"'Country information'!O72","v":"Ethiopia"},{"$f":"'Country information'!C72","v":"birr"},{"$f":"'Country information'!D72","v":"Br"},{"$f":"'Country information'!E72","v":16.489999999999998},{"$f":"'Country information'!F72","v":40592.406018518515}]
[null,null,null,null,null,null,null,null,null,null,null,null,null,null,null,null,null,null,null,null,null,null,null,null,null,null,null,null,null,null,null,null,null,null,null,null,null,null,null,null,null,null,null,null,null,null,null,null,null,null,null,null,null,null,null,null,null,null,null,null,null,null,null,null,null,null,null,null,null,null,null,null,null,null,null,null,null,null,null,null,null,null,null,null,null,null,null,null,null,null,null,null,null,null,null,null,null,null,null,null,null,null,null,null,null,null,null,null,null,null,null,null,null,null,null,null,null,null,null,null,null,null,null,null,null,null,null,null,null,null,null,null,null,null,null,null,null,null,null,null,null,null,null,null,null,null,null,null,null,null,null,null,null,null,null,null,null,null,{"$f":"'Country information'!N73","v":"Faeroe Islands (Føroyar)"},{"$f":"'Country information'!O73","v":"Faeroe Islands (Føroyar)"},{"$f":"'Country information'!C73","v":"kroner"},{"$f":"'Country information'!D73","v":"Dkr"},{"$f":"'Country information'!E73","v":5.72},{"$f":"'Country information'!F73","v":40592.406053240738}]
[null,null,null,null,null,null,null,null,null,null,null,null,null,null,null,null,null,null,null,null,null,null,null,null,null,null,null,null,null,null,null,null,null,null,null,null,null,null,null,null,null,null,null,null,null,null,null,null,null,null,null,null,null,null,null,null,null,null,null,null,null,null,null,null,null,null,null,null,null,null,null,null,null,null,null,null,null,null,null,null,null,null,null,null,null,null,null,null,null,null,null,null,null,null,null,null,null,null,null,null,null,null,null,null,null,null,null,null,null,null,null,null,null,null,null,null,null,null,null,null,null,null,null,null,null,null,null,null,null,null,null,null,null,null,null,null,null,null,null,null,null,null,null,null,null,null,null,null,null,null,null,null,null,null,null,null,null,null,{"$f":"'Country information'!N74","v":"Falkland Islands"},{"$f":"'Country information'!O74","v":"Falkland Islands"},{"$f":"'Country information'!C74","v":"pound"},{"$f":"'Country information'!D74","v":"£"},{"$f":"'Country information'!E74","v":0.64},{"$f":"'Country information'!F74","v":40592.406053240738}]
[null,null,null,null,null,null,null,null,null,null,null,null,null,null,null,null,null,null,null,null,null,null,null,null,null,null,null,null,null,null,null,null,null,null,null,null,null,null,null,null,null,null,null,null,null,null,null,null,null,null,null,null,null,null,null,null,null,null,null,null,null,null,null,null,null,null,null,null,null,null,null,null,null,null,null,null,null,null,null,null,null,null,null,null,null,null,null,null,null,null,null,null,null,null,null,null,null,null,null,null,null,null,null,null,null,null,null,null,null,null,null,null,null,null,null,null,null,null,null,null,null,null,null,null,null,null,null,null,null,null,null,null,null,null,null,null,null,null,null,null,null,null,null,null,null,null,null,null,null,null,null,null,null,null,null,null,null,null,{"$f":"'Country information'!N75","v":"Fiji"},{"$f":"'Country information'!O75","v":"Fiji"},{"$f":"'Country information'!C75","v":"dollar"},{"$f":"'Country information'!D75","v":"F$"},{"$f":"'Country information'!E75","v":1.82},{"$f":"'Country information'!F75","v":40592.406018518515}]
[null,null,null,null,null,null,null,null,null,null,null,null,null,null,null,null,null,null,null,null,null,null,null,null,null,null,null,null,null,null,null,null,null,null,null,null,null,null,null,null,null,null,null,null,null,null,null,null,null,null,null,null,null,null,null,null,null,null,null,null,null,null,null,null,null,null,null,null,null,null,null,null,null,null,null,null,null,null,null,null,null,null,null,null,null,null,null,null,null,null,null,null,null,null,null,null,null,null,null,null,null,null,null,null,null,null,null,null,null,null,null,null,null,null,null,null,null,null,null,null,null,null,null,null,null,null,null,null,null,null,null,null,null,null,null,null,null,null,null,null,null,null,null,null,null,null,null,null,null,null,null,null,null,null,null,null,null,null,{"$f":"'Country information'!N76","v":"Finland"},{"$f":"'Country information'!O76","v":"Finland"},{"$f":"'Country information'!C76","v":"euro"},{"$f":"'Country information'!D76","v":"€"},{"$f":"'Country information'!E76","v":0.77},{"$f":"'Country information'!F76","v":40592.406018518515}]
[null,null,null,null,null,null,null,null,null,null,null,null,null,null,null,null,null,null,null,null,null,null,null,null,null,null,null,null,null,null,null,null,null,null,null,null,null,null,null,null,null,null,null,null,null,null,null,null,null,null,null,null,null,null,null,null,null,null,null,null,null,null,null,null,null,null,null,null,null,null,null,null,null,null,null,null,null,null,null,null,null,null,null,null,null,null,null,null,null,null,null,null,null,null,null,null,null,null,null,null,null,null,null,null,null,null,null,null,null,null,null,null,null,null,null,null,null,null,null,null,null,null,null,null,null,null,null,null,null,null,null,null,null,null,null,null,null,null,null,null,null,null,null,null,null,null,null,null,null,null,null,null,null,null,null,null,null,null,{"$f":"'Country information'!N77","v":"France"},{"$f":"'Country information'!O77","v":"France"},{"$f":"'Country information'!C77","v":"euro"},{"$f":"'Country information'!D77","v":"€"},{"$f":"'Country information'!E77","v":0.77},{"$f":"'Country information'!F77","v":40592.406018518515}]
[null,null,null,null,null,null,null,null,null,null,null,null,null,null,null,null,null,null,null,null,null,null,null,null,null,null,null,null,null,null,null,null,null,null,null,null,null,null,null,null,null,null,null,null,null,null,null,null,null,null,null,null,null,null,null,null,null,null,null,null,null,null,null,null,null,null,null,null,null,null,null,null,null,null,null,null,null,null,null,null,null,null,null,null,null,null,null,null,null,null,null,null,null,null,null,null,null,null,null,null,null,null,null,null,null,null,null,null,null,null,null,null,null,null,null,null,null,null,null,null,null,null,null,null,null,null,null,null,null,null,null,null,null,null,null,null,null,null,null,null,null,null,null,null,null,null,null,null,null,null,null,null,null,null,null,null,null,null,{"$f":"'Country information'!N78","v":"French Guiana"},{"$f":"'Country information'!O78","v":"French Guiana"},{"$f":"'Country information'!C78","v":"euro"},{"$f":"'Country information'!D78","v":"€"},{"$f":"'Country information'!E78","v":0.77},{"$f":"'Country information'!F78","v":40592.406053240738}]
[null,null,null,null,null,null,null,null,null,null,null,null,null,null,null,null,null,null,null,null,null,null,null,null,null,null,null,null,null,null,null,null,null,null,null,null,null,null,null,null,null,null,null,null,null,null,null,null,null,null,null,null,null,null,null,null,null,null,null,null,null,null,null,null,null,null,null,null,null,null,null,null,null,null,null,null,null,null,null,null,null,null,null,null,null,null,null,null,null,null,null,null,null,null,null,null,null,null,null,null,null,null,null,null,null,null,null,null,null,null,null,null,null,null,null,null,null,null,null,null,null,null,null,null,null,null,null,null,null,null,null,null,null,null,null,null,null,null,null,null,null,null,null,null,null,null,null,null,null,null,null,null,null,null,null,null,null,null,{"$f":"'Country information'!N79","v":"French Polynesia"},{"$f":"'Country information'!O79","v":"French Polynesia"},{"$f":"'Country information'!C79","v":"euro"},{"$f":"'Country information'!D79","v":"€"},{"$f":"'Country information'!E79","v":0.73299999999999998},{"$f":"'Country information'!F79","v":39413}]
[null,null,null,null,null,null,null,null,null,null,null,null,null,null,null,null,null,null,null,null,null,null,null,null,null,null,null,null,null,null,null,null,null,null,null,null,null,null,null,null,null,null,null,null,null,null,null,null,null,null,null,null,null,null,null,null,null,null,null,null,null,null,null,null,null,null,null,null,null,null,null,null,null,null,null,null,null,null,null,null,null,null,null,null,null,null,null,null,null,null,null,null,null,null,null,null,null,null,null,null,null,null,null,null,null,null,null,null,null,null,null,null,null,null,null,null,null,null,null,null,null,null,null,null,null,null,null,null,null,null,null,null,null,null,null,null,null,null,null,null,null,null,null,null,null,null,null,null,null,null,null,null,null,null,null,null,null,null,{"$f":"'Country information'!N80","v":"Gabon"},{"$f":"'Country information'!O80","v":"Gabon"},{"$f":"'Country information'!C80","v":"franc"},{"$f":"'Country information'!D80","v":"CFAF"},{"$f":"'Country information'!E80","v":503.3},{"$f":"'Country information'!F80","v":40592.406018518515}]
[null,null,null,null,null,null,null,null,null,null,null,null,null,null,null,null,null,null,null,null,null,null,null,null,null,null,null,null,null,null,null,null,null,null,null,null,null,null,null,null,null,null,null,null,null,null,null,null,null,null,null,null,null,null,null,null,null,null,null,null,null,null,null,null,null,null,null,null,null,null,null,null,null,null,null,null,null,null,null,null,null,null,null,null,null,null,null,null,null,null,null,null,null,null,null,null,null,null,null,null,null,null,null,null,null,null,null,null,null,null,null,null,null,null,null,null,null,null,null,null,null,null,null,null,null,null,null,null,null,null,null,null,null,null,null,null,null,null,null,null,null,null,null,null,null,null,null,null,null,null,null,null,null,null,null,null,null,null,{"$f":"'Country information'!N81","v":"Gambia"},{"$f":"'Country information'!O81","v":"Gambia"},{"$f":"'Country information'!C81","v":"dalasi"},{"$f":"'Country information'!D81","v":"D"},{"$f":"'Country information'!E81","v":28},{"$f":"'Country information'!F81","v":40592.406018518515}]
[null,null,null,null,null,null,null,null,null,null,null,null,null,null,null,null,null,null,null,null,null,null,null,null,null,null,null,null,null,null,null,null,null,null,null,null,null,null,null,null,null,null,null,null,null,null,null,null,null,null,null,null,null,null,null,null,null,null,null,null,null,null,null,null,null,null,null,null,null,null,null,null,null,null,null,null,null,null,null,null,null,null,null,null,null,null,null,null,null,null,null,null,null,null,null,null,null,null,null,null,null,null,null,null,null,null,null,null,null,null,null,null,null,null,null,null,null,null,null,null,null,null,null,null,null,null,null,null,null,null,null,null,null,null,null,null,null,null,null,null,null,null,null,null,null,null,null,null,null,null,null,null,null,null,null,null,null,null,{"$f":"'Country information'!N82","v":"Gaza"},{"$f":"'Country information'!O82","v":"Gaza"},{"$f":"'Country information'!C82","v":"new shekel"},{"$f":"'Country information'!D82","v":"NIS"},{"$f":"'Country information'!E82","v":3.8614000000000002},{"$f":"'Country information'!F82","v":39413}]
[null,null,null,null,null,null,null,null,null,null,null,null,null,null,null,null,null,null,null,null,null,null,null,null,null,null,null,null,null,null,null,null,null,null,null,null,null,null,null,null,null,null,null,null,null,null,null,null,null,null,null,null,null,null,null,null,null,null,null,null,null,null,null,null,null,null,null,null,null,null,null,null,null,null,null,null,null,null,null,null,null,null,null,null,null,null,null,null,null,null,null,null,null,null,null,null,null,null,null,null,null,null,null,null,null,null,null,null,null,null,null,null,null,null,null,null,null,null,null,null,null,null,null,null,null,null,null,null,null,null,null,null,null,null,null,null,null,null,null,null,null,null,null,null,null,null,null,null,null,null,null,null,null,null,null,null,null,null,{"$f":"'Country information'!N83","v":"Georgia"},{"$f":"'Country information'!O83","v":"Georgia"},{"$f":"'Country information'!C83","v":"lari"},{"$f":"'Country information'!D83","v":"GEL"},{"$f":"'Country information'!E83","v":1.76},{"$f":"'Country information'!F83","v":40592.406018518515}]
[null,null,null,null,null,null,null,null,null,null,null,null,null,null,null,null,null,null,null,null,null,null,null,null,null,null,null,null,null,null,null,null,null,null,null,null,null,null,null,null,null,null,null,null,null,null,null,null,null,null,null,null,null,null,null,null,null,null,null,null,null,null,null,null,null,null,null,null,null,null,null,null,null,null,null,null,null,null,null,null,null,null,null,null,null,null,null,null,null,null,null,null,null,null,null,null,null,null,null,null,null,null,null,null,null,null,null,null,null,null,null,null,null,null,null,null,null,null,null,null,null,null,null,null,null,null,null,null,null,null,null,null,null,null,null,null,null,null,null,null,null,null,null,null,null,null,null,null,null,null,null,null,null,null,null,null,null,null,{"$f":"'Country information'!N84","v":"Germany"},{"$f":"'Country information'!O84","v":"Germany"},{"$f":"'Country information'!C84","v":"euro"},{"$f":"'Country information'!D84","v":"€"},{"$f":"'Country information'!E84","v":0.77},{"$f":"'Country information'!F84","v":40592.406053240738}]
[null,null,null,null,null,null,null,null,null,null,null,null,null,null,null,null,null,null,null,null,null,null,null,null,null,null,null,null,null,null,null,null,null,null,null,null,null,null,null,null,null,null,null,null,null,null,null,null,null,null,null,null,null,null,null,null,null,null,null,null,null,null,null,null,null,null,null,null,null,null,null,null,null,null,null,null,null,null,null,null,null,null,null,null,null,null,null,null,null,null,null,null,null,null,null,null,null,null,null,null,null,null,null,null,null,null,null,null,null,null,null,null,null,null,null,null,null,null,null,null,null,null,null,null,null,null,null,null,null,null,null,null,null,null,null,null,null,null,null,null,null,null,null,null,null,null,null,null,null,null,null,null,null,null,null,null,null,null,{"$f":"'Country information'!N85","v":"Ghana"},{"$f":"'Country information'!O85","v":"Ghana"},{"$f":"'Country information'!C85","v":"new cedi"},{"$f":"'Country information'!D85","v":"¢"},{"$f":"'Country information'!E85","v":1.45},{"$f":"'Country information'!F85","v":40592.406018518515}]
[null,null,null,null,null,null,null,null,null,null,null,null,null,null,null,null,null,null,null,null,null,null,null,null,null,null,null,null,null,null,null,null,null,null,null,null,null,null,null,null,null,null,null,null,null,null,null,null,null,null,null,null,null,null,null,null,null,null,null,null,null,null,null,null,null,null,null,null,null,null,null,null,null,null,null,null,null,null,null,null,null,null,null,null,null,null,null,null,null,null,null,null,null,null,null,null,null,null,null,null,null,null,null,null,null,null,null,null,null,null,null,null,null,null,null,null,null,null,null,null,null,null,null,null,null,null,null,null,null,null,null,null,null,null,null,null,null,null,null,null,null,null,null,null,null,null,null,null,null,null,null,null,null,null,null,null,null,null,{"$f":"'Country information'!N86","v":"Gibraltar"},{"$f":"'Country information'!O86","v":"Gibraltar"},{"$f":"'Country information'!C86","v":"pound"},{"$f":"'Country information'!D86","v":"£"},{"$f":"'Country information'!E86","v":0.64},{"$f":"'Country information'!F86","v":40592.406053240738}]
[null,null,null,null,null,null,null,null,null,null,null,null,null,null,null,null,null,null,null,null,null,null,null,null,null,null,null,null,null,null,null,null,null,null,null,null,null,null,null,null,null,null,null,null,null,null,null,null,null,null,null,null,null,null,null,null,null,null,null,null,null,null,null,null,null,null,null,null,null,null,null,null,null,null,null,null,null,null,null,null,null,null,null,null,null,null,null,null,null,null,null,null,null,null,null,null,null,null,null,null,null,null,null,null,null,null,null,null,null,null,null,null,null,null,null,null,null,null,null,null,null,null,null,null,null,null,null,null,null,null,null,null,null,null,null,null,null,null,null,null,null,null,null,null,null,null,null,null,null,null,null,null,null,null,null,null,null,null,{"$f":"'Country information'!N87","v":"Great Britain"},{"$f":"'Country information'!O87","v":"Great Britain"},{"$f":"'Country information'!C87","v":"pound"},{"$f":"'Country information'!D87","v":"£"},{"$f":"'Country information'!E87","v":0.64},{"$f":"'Country information'!F87","v":40592.406053240738}]
[null,null,null,null,null,null,null,null,null,null,null,null,null,null,null,null,null,null,null,null,null,null,null,null,null,null,null,null,null,null,null,null,null,null,null,null,null,null,null,null,null,null,null,null,null,null,null,null,null,null,null,null,null,null,null,null,null,null,null,null,null,null,null,null,null,null,null,null,null,null,null,null,null,null,null,null,null,null,null,null,null,null,null,null,null,null,null,null,null,null,null,null,null,null,null,null,null,null,null,null,null,null,null,null,null,null,null,null,null,null,null,null,null,null,null,null,null,null,null,null,null,null,null,null,null,null,null,null,null,null,null,null,null,null,null,null,null,null,null,null,null,null,null,null,null,null,null,null,null,null,null,null,null,null,null,null,null,null,{"$f":"'Country information'!N88","v":"Greece"},{"$f":"'Country information'!O88","v":"Greece"},{"$f":"'Country information'!C88","v":"euro"},{"$f":"'Country information'!D88","v":"€"},{"$f":"'Country information'!E88","v":0.77},{"$f":"'Country information'!F88","v":40592.406018518515}]
[null,null,null,null,null,null,null,null,null,null,null,null,null,null,null,null,null,null,null,null,null,null,null,null,null,null,null,null,null,null,null,null,null,null,null,null,null,null,null,null,null,null,null,null,null,null,null,null,null,null,null,null,null,null,null,null,null,null,null,null,null,null,null,null,null,null,null,null,null,null,null,null,null,null,null,null,null,null,null,null,null,null,null,null,null,null,null,null,null,null,null,null,null,null,null,null,null,null,null,null,null,null,null,null,null,null,null,null,null,null,null,null,null,null,null,null,null,null,null,null,null,null,null,null,null,null,null,null,null,null,null,null,null,null,null,null,null,null,null,null,null,null,null,null,null,null,null,null,null,null,null,null,null,null,null,null,null,null,{"$f":"'Country information'!N89","v":"Greenland"},{"$f":"'Country information'!O89","v":"Greenland"},{"$f":"'Country information'!C89","v":"kroner"},{"$f":"'Country information'!D89","v":"Dkr"},{"$f":"'Country information'!E89","v":5.72},{"$f":"'Country information'!F89","v":40592.406053240738}]
[null,null,null,null,null,null,null,null,null,null,null,null,null,null,null,null,null,null,null,null,null,null,null,null,null,null,null,null,null,null,null,null,null,null,null,null,null,null,null,null,null,null,null,null,null,null,null,null,null,null,null,null,null,null,null,null,null,null,null,null,null,null,null,null,null,null,null,null,null,null,null,null,null,null,null,null,null,null,null,null,null,null,null,null,null,null,null,null,null,null,null,null,null,null,null,null,null,null,null,null,null,null,null,null,null,null,null,null,null,null,null,null,null,null,null,null,null,null,null,null,null,null,null,null,null,null,null,null,null,null,null,null,null,null,null,null,null,null,null,null,null,null,null,null,null,null,null,null,null,null,null,null,null,null,null,null,null,null,{"$f":"'Country information'!N90","v":"Grenada"},{"$f":"'Country information'!O90","v":"Grenada"},{"$f":"'Country information'!C90","v":"dollar"},{"$f":"'Country information'!D90","v":"EC$"},{"$f":"'Country information'!E90","v":2.7},{"$f":"'Country information'!F90","v":40592.406018518515}]
[null,null,null,null,null,null,null,null,null,null,null,null,null,null,null,null,null,null,null,null,null,null,null,null,null,null,null,null,null,null,null,null,null,null,null,null,null,null,null,null,null,null,null,null,null,null,null,null,null,null,null,null,null,null,null,null,null,null,null,null,null,null,null,null,null,null,null,null,null,null,null,null,null,null,null,null,null,null,null,null,null,null,null,null,null,null,null,null,null,null,null,null,null,null,null,null,null,null,null,null,null,null,null,null,null,null,null,null,null,null,null,null,null,null,null,null,null,null,null,null,null,null,null,null,null,null,null,null,null,null,null,null,null,null,null,null,null,null,null,null,null,null,null,null,null,null,null,null,null,null,null,null,null,null,null,null,null,null,{"$f":"'Country information'!N91","v":"Guadeloupe"},{"$f":"'Country information'!O91","v":"Guadeloupe"},{"$f":"'Country information'!C91","v":"euro"},{"$f":"'Country information'!D91","v":"€"},{"$f":"'Country information'!E91","v":0.77},{"$f":"'Country information'!F91","v":40592.406053240738}]
[null,null,null,null,null,null,null,null,null,null,null,null,null,null,null,null,null,null,null,null,null,null,null,null,null,null,null,null,null,null,null,null,null,null,null,null,null,null,null,null,null,null,null,null,null,null,null,null,null,null,null,null,null,null,null,null,null,null,null,null,null,null,null,null,null,null,null,null,null,null,null,null,null,null,null,null,null,null,null,null,null,null,null,null,null,null,null,null,null,null,null,null,null,null,null,null,null,null,null,null,null,null,null,null,null,null,null,null,null,null,null,null,null,null,null,null,null,null,null,null,null,null,null,null,null,null,null,null,null,null,null,null,null,null,null,null,null,null,null,null,null,null,null,null,null,null,null,null,null,null,null,null,null,null,null,null,null,null,{"$f":"'Country information'!N92","v":"Guam"},{"$f":"'Country information'!O92","v":"Guam"},{"$f":"'Country information'!C92","v":"dollar"},{"$f":"'Country information'!D92","v":"US$"},{"$f":"'Country information'!E92","v":1},{"$f":"'Country information'!F92","v":40128.589282407411}]
[null,null,null,null,null,null,null,null,null,null,null,null,null,null,null,null,null,null,null,null,null,null,null,null,null,null,null,null,null,null,null,null,null,null,null,null,null,null,null,null,null,null,null,null,null,null,null,null,null,null,null,null,null,null,null,null,null,null,null,null,null,null,null,null,null,null,null,null,null,null,null,null,null,null,null,null,null,null,null,null,null,null,null,null,null,null,null,null,null,null,null,null,null,null,null,null,null,null,null,null,null,null,null,null,null,null,null,null,null,null,null,null,null,null,null,null,null,null,null,null,null,null,null,null,null,null,null,null,null,null,null,null,null,null,null,null,null,null,null,null,null,null,null,null,null,null,null,null,null,null,null,null,null,null,null,null,null,null,{"$f":"'Country information'!N93","v":"Guatemala"},{"$f":"'Country information'!O93","v":"Guatemala"},{"$f":"'Country information'!C93","v":"quetzal"},{"$f":"'Country information'!D93","v":"Q"},{"$f":"'Country information'!E93","v":8},{"$f":"'Country information'!F93","v":40592.406018518515}]
[null,null,null,null,null,null,null,null,null,null,null,null,null,null,null,null,null,null,null,null,null,null,null,null,null,null,null,null,null,null,null,null,null,null,null,null,null,null,null,null,null,null,null,null,null,null,null,null,null,null,null,null,null,null,null,null,null,null,null,null,null,null,null,null,null,null,null,null,null,null,null,null,null,null,null,null,null,null,null,null,null,null,null,null,null,null,null,null,null,null,null,null,null,null,null,null,null,null,null,null,null,null,null,null,null,null,null,null,null,null,null,null,null,null,null,null,null,null,null,null,null,null,null,null,null,null,null,null,null,null,null,null,null,null,null,null,null,null,null,null,null,null,null,null,null,null,null,null,null,null,null,null,null,null,null,null,null,null,{"$f":"'Country information'!N94","v":"Guernsey"},{"$f":"'Country information'!O94","v":"Guernsey"},{"$f":"'Country information'!C94","v":"pound"},{"$f":"'Country information'!D94","v":"£"},{"$f":"'Country information'!E94","v":0.64},{"$f":"'Country information'!F94","v":40592.406053240738}]
[null,null,null,null,null,null,null,null,null,null,null,null,null,null,null,null,null,null,null,null,null,null,null,null,null,null,null,null,null,null,null,null,null,null,null,null,null,null,null,null,null,null,null,null,null,null,null,null,null,null,null,null,null,null,null,null,null,null,null,null,null,null,null,null,null,null,null,null,null,null,null,null,null,null,null,null,null,null,null,null,null,null,null,null,null,null,null,null,null,null,null,null,null,null,null,null,null,null,null,null,null,null,null,null,null,null,null,null,null,null,null,null,null,null,null,null,null,null,null,null,null,null,null,null,null,null,null,null,null,null,null,null,null,null,null,null,null,null,null,null,null,null,null,null,null,null,null,null,null,null,null,null,null,null,null,null,null,null,{"$f":"'Country information'!N95","v":"Guinea"},{"$f":"'Country information'!O95","v":"Guinea"},{"$f":"'Country information'!C95","v":"franc"},{"$f":"'Country information'!D95","v":"GNF"},{"$f":"'Country information'!E95","v":6078},{"$f":"'Country information'!F95","v":40592.406018518515}]
[null,null,null,null,null,null,null,null,null,null,null,null,null,null,null,null,null,null,null,null,null,null,null,null,null,null,null,null,null,null,null,null,null,null,null,null,null,null,null,null,null,null,null,null,null,null,null,null,null,null,null,null,null,null,null,null,null,null,null,null,null,null,null,null,null,null,null,null,null,null,null,null,null,null,null,null,null,null,null,null,null,null,null,null,null,null,null,null,null,null,null,null,null,null,null,null,null,null,null,null,null,null,null,null,null,null,null,null,null,null,null,null,null,null,null,null,null,null,null,null,null,null,null,null,null,null,null,null,null,null,null,null,null,null,null,null,null,null,null,null,null,null,null,null,null,null,null,null,null,null,null,null,null,null,null,null,null,null,{"$f":"'Country information'!N96","v":"Guinea-Bissau"},{"$f":"'Country information'!O96","v":"Guinea-Bissau"},{"$f":"'Country information'!C96","v":"franc"},{"$f":"'Country information'!D96","v":"CFAF"},{"$f":"'Country information'!E96","v":503.3},{"$f":"'Country information'!F96","v":40592.406053240738}]
[null,null,null,null,null,null,null,null,null,null,null,null,null,null,null,null,null,null,null,null,null,null,null,null,null,null,null,null,null,null,null,null,null,null,null,null,null,null,null,null,null,null,null,null,null,null,null,null,null,null,null,null,null,null,null,null,null,null,null,null,null,null,null,null,null,null,null,null,null,null,null,null,null,null,null,null,null,null,null,null,null,null,null,null,null,null,null,null,null,null,null,null,null,null,null,null,null,null,null,null,null,null,null,null,null,null,null,null,null,null,null,null,null,null,null,null,null,null,null,null,null,null,null,null,null,null,null,null,null,null,null,null,null,null,null,null,null,null,null,null,null,null,null,null,null,null,null,null,null,null,null,null,null,null,null,null,null,null,{"$f":"'Country information'!N97","v":"Guyana"},{"$f":"'Country information'!O97","v":"Guyana"},{"$f":"'Country information'!C97","v":"dollar"},{"$f":"'Country information'!D97","v":"G$"},{"$f":"'Country information'!E97","v":201},{"$f":"'Country information'!F97","v":40592.406018518515}]
[null,null,null,null,null,null,null,null,null,null,null,null,null,null,null,null,null,null,null,null,null,null,null,null,null,null,null,null,null,null,null,null,null,null,null,null,null,null,null,null,null,null,null,null,null,null,null,null,null,null,null,null,null,null,null,null,null,null,null,null,null,null,null,null,null,null,null,null,null,null,null,null,null,null,null,null,null,null,null,null,null,null,null,null,null,null,null,null,null,null,null,null,null,null,null,null,null,null,null,null,null,null,null,null,null,null,null,null,null,null,null,null,null,null,null,null,null,null,null,null,null,null,null,null,null,null,null,null,null,null,null,null,null,null,null,null,null,null,null,null,null,null,null,null,null,null,null,null,null,null,null,null,null,null,null,null,null,null,{"$f":"'Country information'!N98","v":"Haiti"},{"$f":"'Country information'!O98","v":"Haiti"},{"$f":"'Country information'!C98","v":"gourde"},{"$f":"'Country information'!D98","v":"G"},{"$f":"'Country information'!E98","v":38.5},{"$f":"'Country information'!F98","v":40592.406018518515}]
[null,null,null,null,null,null,null,null,null,null,null,null,null,null,null,null,null,null,null,null,null,null,null,null,null,null,null,null,null,null,null,null,null,null,null,null,null,null,null,null,null,null,null,null,null,null,null,null,null,null,null,null,null,null,null,null,null,null,null,null,null,null,null,null,null,null,null,null,null,null,null,null,null,null,null,null,null,null,null,null,null,null,null,null,null,null,null,null,null,null,null,null,null,null,null,null,null,null,null,null,null,null,null,null,null,null,null,null,null,null,null,null,null,null,null,null,null,null,null,null,null,null,null,null,null,null,null,null,null,null,null,null,null,null,null,null,null,null,null,null,null,null,null,null,null,null,null,null,null,null,null,null,null,null,null,null,null,null,{"$f":"'Country information'!N99","v":"Heard and McDonald Islands"},{"$f":"'Country information'!O99","v":"Heard and McDonald Islands"},{"$f":"'Country information'!C99","v":"dollar"},{"$f":"'Country information'!D99","v":"A$"},{"$f":"'Country information'!E99","v":1.04},{"$f":"'Country information'!F99","v":40592.406053240738}]
[null,null,null,null,null,null,null,null,null,null,null,null,null,null,null,null,null,null,null,null,null,null,null,null,null,null,null,null,null,null,null,null,null,null,null,null,null,null,null,null,null,null,null,null,null,null,null,null,null,null,null,null,null,null,null,null,null,null,null,null,null,null,null,null,null,null,null,null,null,null,null,null,null,null,null,null,null,null,null,null,null,null,null,null,null,null,null,null,null,null,null,null,null,null,null,null,null,null,null,null,null,null,null,null,null,null,null,null,null,null,null,null,null,null,null,null,null,null,null,null,null,null,null,null,null,null,null,null,null,null,null,null,null,null,null,null,null,null,null,null,null,null,null,null,null,null,null,null,null,null,null,null,null,null,null,null,null,null,{"$f":"'Country information'!N100","v":"Honduras"},{"$f":"'Country information'!O100","v":"Honduras"},{"$f":"'Country information'!C100","v":"lempira"},{"$f":"'Country information'!D100","v":"L"},{"$f":"'Country information'!E100","v":18.899999999999999},{"$f":"'Country information'!F100","v":40592.406018518515}]
[null,null,null,null,null,null,null,null,null,null,null,null,null,null,null,null,null,null,null,null,null,null,null,null,null,null,null,null,null,null,null,null,null,null,null,null,null,null,null,null,null,null,null,null,null,null,null,null,null,null,null,null,null,null,null,null,null,null,null,null,null,null,null,null,null,null,null,null,null,null,null,null,null,null,null,null,null,null,null,null,null,null,null,null,null,null,null,null,null,null,null,null,null,null,null,null,null,null,null,null,null,null,null,null,null,null,null,null,null,null,null,null,null,null,null,null,null,null,null,null,null,null,null,null,null,null,null,null,null,null,null,null,null,null,null,null,null,null,null,null,null,null,null,null,null,null,null,null,null,null,null,null,null,null,null,null,null,null,{"$f":"'Country information'!N101","v":"Hong Kong"},{"$f":"'Country information'!O101","v":"Hong Kong"},{"$f":"'Country information'!C101","v":"dollar"},{"$f":"'Country information'!D101","v":"HK$"},{"$f":"'Country information'!E101","v":7.77},{"$f":"'Country information'!F101","v":40592.406030092592}]
[null,null,null,null,null,null,null,null,null,null,null,null,null,null,null,null,null,null,null,null,null,null,null,null,null,null,null,null,null,null,null,null,null,null,null,null,null,null,null,null,null,null,null,null,null,null,null,null,null,null,null,null,null,null,null,null,null,null,null,null,null,null,null,null,null,null,null,null,null,null,null,null,null,null,null,null,null,null,null,null,null,null,null,null,null,null,null,null,null,null,null,null,null,null,null,null,null,null,null,null,null,null,null,null,null,null,null,null,null,null,null,null,null,null,null,null,null,null,null,null,null,null,null,null,null,null,null,null,null,null,null,null,null,null,null,null,null,null,null,null,null,null,null,null,null,null,null,null,null,null,null,null,null,null,null,null,null,null,{"$f":"'Country information'!N102","v":"Hungary"},{"$f":"'Country information'!O102","v":"Hungary"},{"$f":"'Country information'!C102","v":"forint"},{"$f":"'Country information'!D102","v":"Ft"},{"$f":"'Country information'!E102","v":217.12},{"$f":"'Country information'!F102","v":40592.406030092592}]
[null,null,null,null,null,null,null,null,null,null,null,null,null,null,null,null,null,null,null,null,null,null,null,null,null,null,null,null,null,null,null,null,null,null,null,null,null,null,null,null,null,null,null,null,null,null,null,null,null,null,null,null,null,null,null,null,null,null,null,null,null,null,null,null,null,null,null,null,null,null,null,null,null,null,null,null,null,null,null,null,null,null,null,null,null,null,null,null,null,null,null,null,null,null,null,null,null,null,null,null,null,null,null,null,null,null,null,null,null,null,null,null,null,null,null,null,null,null,null,null,null,null,null,null,null,null,null,null,null,null,null,null,null,null,null,null,null,null,null,null,null,null,null,null,null,null,null,null,null,null,null,null,null,null,null,null,null,null,{"$f":"'Country information'!N103","v":"Iceland"},{"$f":"'Country information'!O103","v":"Iceland"},{"$f":"'Country information'!C103","v":"króna"},{"$f":"'Country information'!D103","v":"IKr"},{"$f":"'Country information'!E103","v":117.07},{"$f":"'Country information'!F103","v":40592.406030092592}]
[null,null,null,null,null,null,null,null,null,null,null,null,null,null,null,null,null,null,null,null,null,null,null,null,null,null,null,null,null,null,null,null,null,null,null,null,null,null,null,null,null,null,null,null,null,null,null,null,null,null,null,null,null,null,null,null,null,null,null,null,null,null,null,null,null,null,null,null,null,null,null,null,null,null,null,null,null,null,null,null,null,null,null,null,null,null,null,null,null,null,null,null,null,null,null,null,null,null,null,null,null,null,null,null,null,null,null,null,null,null,null,null,null,null,null,null,null,null,null,null,null,null,null,null,null,null,null,null,null,null,null,null,null,null,null,null,null,null,null,null,null,null,null,null,null,null,null,null,null,null,null,null,null,null,null,null,null,null,{"$f":"'Country information'!N104","v":"India"},{"$f":"'Country information'!O104","v":"India"},{"$f":"'Country information'!C104","v":"rupee"},{"$f":"'Country information'!D104","v":"₨"},{"$f":"'Country information'!E104","v":45.7},{"$f":"'Country information'!F104","v":40592.406030092592}]
[null,null,null,null,null,null,null,null,null,null,null,null,null,null,null,null,null,null,null,null,null,null,null,null,null,null,null,null,null,null,null,null,null,null,null,null,null,null,null,null,null,null,null,null,null,null,null,null,null,null,null,null,null,null,null,null,null,null,null,null,null,null,null,null,null,null,null,null,null,null,null,null,null,null,null,null,null,null,null,null,null,null,null,null,null,null,null,null,null,null,null,null,null,null,null,null,null,null,null,null,null,null,null,null,null,null,null,null,null,null,null,null,null,null,null,null,null,null,null,null,null,null,null,null,null,null,null,null,null,null,null,null,null,null,null,null,null,null,null,null,null,null,null,null,null,null,null,null,null,null,null,null,null,null,null,null,null,null,{"$f":"'Country information'!N105","v":"Indonesia"},{"$f":"'Country information'!O105","v":"Indonesia"},{"$f":"'Country information'!C105","v":"rupiah"},{"$f":"'Country information'!D105","v":"Rp"},{"$f":"'Country information'!E105","v":8900},{"$f":"'Country information'!F105","v":40592.406030092592}]
[null,null,null,null,null,null,null,null,null,null,null,null,null,null,null,null,null,null,null,null,null,null,null,null,null,null,null,null,null,null,null,null,null,null,null,null,null,null,null,null,null,null,null,null,null,null,null,null,null,null,null,null,null,null,null,null,null,null,null,null,null,null,null,null,null,null,null,null,null,null,null,null,null,null,null,null,null,null,null,null,null,null,null,null,null,null,null,null,null,null,null,null,null,null,null,null,null,null,null,null,null,null,null,null,null,null,null,null,null,null,null,null,null,null,null,null,null,null,null,null,null,null,null,null,null,null,null,null,null,null,null,null,null,null,null,null,null,null,null,null,null,null,null,null,null,null,null,null,null,null,null,null,null,null,null,null,null,null,{"$f":"'Country information'!N106","v":"Iran"},{"$f":"'Country information'!O106","v":"Iran"},{"$f":"'Country information'!C106","v":"rial"},{"$f":"'Country information'!D106","v":"﷼"},{"$f":"'Country information'!E106","v":8229},{"$f":"'Country information'!F106","v":40592.406030092592}]
[null,null,null,null,null,null,null,null,null,null,null,null,null,null,null,null,null,null,null,null,null,null,null,null,null,null,null,null,null,null,null,null,null,null,null,null,null,null,null,null,null,null,null,null,null,null,null,null,null,null,null,null,null,null,null,null,null,null,null,null,null,null,null,null,null,null,null,null,null,null,null,null,null,null,null,null,null,null,null,null,null,null,null,null,null,null,null,null,null,null,null,null,null,null,null,null,null,null,null,null,null,null,null,null,null,null,null,null,null,null,null,null,null,null,null,null,null,null,null,null,null,null,null,null,null,null,null,null,null,null,null,null,null,null,null,null,null,null,null,null,null,null,null,null,null,null,null,null,null,null,null,null,null,null,null,null,null,null,{"$f":"'Country information'!N107","v":"Iraq"},{"$f":"'Country information'!O107","v":"Iraq"},{"$f":"'Country information'!C107","v":"new dinar"},{"$f":"'Country information'!D107","v":"ID"},{"$f":"'Country information'!E107","v":1166.5},{"$f":"'Country information'!F107","v":40592.406030092592}]
[null,null,null,null,null,null,null,null,null,null,null,null,null,null,null,null,null,null,null,null,null,null,null,null,null,null,null,null,null,null,null,null,null,null,null,null,null,null,null,null,null,null,null,null,null,null,null,null,null,null,null,null,null,null,null,null,null,null,null,null,null,null,null,null,null,null,null,null,null,null,null,null,null,null,null,null,null,null,null,null,null,null,null,null,null,null,null,null,null,null,null,null,null,null,null,null,null,null,null,null,null,null,null,null,null,null,null,null,null,null,null,null,null,null,null,null,null,null,null,null,null,null,null,null,null,null,null,null,null,null,null,null,null,null,null,null,null,null,null,null,null,null,null,null,null,null,null,null,null,null,null,null,null,null,null,null,null,null,{"$f":"'Country information'!N108","v":"Ireland"},{"$f":"'Country information'!O108","v":"Ireland"},{"$f":"'Country information'!C108","v":"euro"},{"$f":"'Country information'!D108","v":"€"},{"$f":"'Country information'!E108","v":0.77},{"$f":"'Country information'!F108","v":40592.406030092592}]
[null,null,null,null,null,null,null,null,null,null,null,null,null,null,null,null,null,null,null,null,null,null,null,null,null,null,null,null,null,null,null,null,null,null,null,null,null,null,null,null,null,null,null,null,null,null,null,null,null,null,null,null,null,null,null,null,null,null,null,null,null,null,null,null,null,null,null,null,null,null,null,null,null,null,null,null,null,null,null,null,null,null,null,null,null,null,null,null,null,null,null,null,null,null,null,null,null,null,null,null,null,null,null,null,null,null,null,null,null,null,null,null,null,null,null,null,null,null,null,null,null,null,null,null,null,null,null,null,null,null,null,null,null,null,null,null,null,null,null,null,null,null,null,null,null,null,null,null,null,null,null,null,null,null,null,null,null,null,{"$f":"'Country information'!N109","v":"Isle of Man"},{"$f":"'Country information'!O109","v":"Isle of Man"},{"$f":"'Country information'!C109","v":"pound"},{"$f":"'Country information'!D109","v":"£"},{"$f":"'Country information'!E109","v":0.64},{"$f":"'Country information'!F109","v":40592.406053240738}]
[null,null,null,null,null,null,null,null,null,null,null,null,null,null,null,null,null,null,null,null,null,null,null,null,null,null,null,null,null,null,null,null,null,null,null,null,null,null,null,null,null,null,null,null,null,null,null,null,null,null,null,null,null,null,null,null,null,null,null,null,null,null,null,null,null,null,null,null,null,null,null,null,null,null,null,null,null,null,null,null,null,null,null,null,null,null,null,null,null,null,null,null,null,null,null,null,null,null,null,null,null,null,null,null,null,null,null,null,null,null,null,null,null,null,null,null,null,null,null,null,null,null,null,null,null,null,null,null,null,null,null,null,null,null,null,null,null,null,null,null,null,null,null,null,null,null,null,null,null,null,null,null,null,null,null,null,null,null,{"$f":"'Country information'!N110","v":"Israel"},{"$f":"'Country information'!O110","v":"Israel"},{"$f":"'Country information'!C110","v":"new shekel"},{"$f":"'Country information'!D110","v":"₪"},{"$f":"'Country information'!E110","v":3.68},{"$f":"'Country information'!F110","v":40592.406030092592}]
[null,null,null,null,null,null,null,null,null,null,null,null,null,null,null,null,null,null,null,null,null,null,null,null,null,null,null,null,null,null,null,null,null,null,null,null,null,null,null,null,null,null,null,null,null,null,null,null,null,null,null,null,null,null,null,null,null,null,null,null,null,null,null,null,null,null,null,null,null,null,null,null,null,null,null,null,null,null,null,null,null,null,null,null,null,null,null,null,null,null,null,null,null,null,null,null,null,null,null,null,null,null,null,null,null,null,null,null,null,null,null,null,null,null,null,null,null,null,null,null,null,null,null,null,null,null,null,null,null,null,null,null,null,null,null,null,null,null,null,null,null,null,null,null,null,null,null,null,null,null,null,null,null,null,null,null,null,null,{"$f":"'Country information'!N111","v":"Italy"},{"$f":"'Country information'!O111","v":"Italy"},{"$f":"'Country information'!C111","v":"euro"},{"$f":"'Country information'!D111","v":"€"},{"$f":"'Country information'!E111","v":0.77},{"$f":"'Country information'!F111","v":40592.406030092592}]
[null,null,null,null,null,null,null,null,null,null,null,null,null,null,null,null,null,null,null,null,null,null,null,null,null,null,null,null,null,null,null,null,null,null,null,null,null,null,null,null,null,null,null,null,null,null,null,null,null,null,null,null,null,null,null,null,null,null,null,null,null,null,null,null,null,null,null,null,null,null,null,null,null,null,null,null,null,null,null,null,null,null,null,null,null,null,null,null,null,null,null,null,null,null,null,null,null,null,null,null,null,null,null,null,null,null,null,null,null,null,null,null,null,null,null,null,null,null,null,null,null,null,null,null,null,null,null,null,null,null,null,null,null,null,null,null,null,null,null,null,null,null,null,null,null,null,null,null,null,null,null,null,null,null,null,null,null,null,{"$f":"'Country information'!N112","v":"Ivory Coast"},{"$f":"'Country information'!O112","v":"Ivory Coast"},{"$f":"'Country information'!C112","v":"franc"},{"$f":"'Country information'!D112","v":"CFAF"},{"$f":"'Country information'!E112","v":503.3},{"$f":"'Country information'!F112","v":40592.406053240738}]
[null,null,null,null,null,null,null,null,null,null,null,null,null,null,null,null,null,null,null,null,null,null,null,null,null,null,null,null,null,null,null,null,null,null,null,null,null,null,null,null,null,null,null,null,null,null,null,null,null,null,null,null,null,null,null,null,null,null,null,null,null,null,null,null,null,null,null,null,null,null,null,null,null,null,null,null,null,null,null,null,null,null,null,null,null,null,null,null,null,null,null,null,null,null,null,null,null,null,null,null,null,null,null,null,null,null,null,null,null,null,null,null,null,null,null,null,null,null,null,null,null,null,null,null,null,null,null,null,null,null,null,null,null,null,null,null,null,null,null,null,null,null,null,null,null,null,null,null,null,null,null,null,null,null,null,null,null,null,{"$f":"'Country information'!N113","v":"Jamaica"},{"$f":"'Country information'!O113","v":"Jamaica"},{"$f":"'Country information'!C113","v":"dollar"},{"$f":"'Country information'!D113","v":"J$"},{"$f":"'Country information'!E113","v":85.8},{"$f":"'Country information'!F113","v":40592.406030092592}]
[null,null,null,null,null,null,null,null,null,null,null,null,null,null,null,null,null,null,null,null,null,null,null,null,null,null,null,null,null,null,null,null,null,null,null,null,null,null,null,null,null,null,null,null,null,null,null,null,null,null,null,null,null,null,null,null,null,null,null,null,null,null,null,null,null,null,null,null,null,null,null,null,null,null,null,null,null,null,null,null,null,null,null,null,null,null,null,null,null,null,null,null,null,null,null,null,null,null,null,null,null,null,null,null,null,null,null,null,null,null,null,null,null,null,null,null,null,null,null,null,null,null,null,null,null,null,null,null,null,null,null,null,null,null,null,null,null,null,null,null,null,null,null,null,null,null,null,null,null,null,null,null,null,null,null,null,null,null,{"$f":"'Country information'!N114","v":"Japan"},{"$f":"'Country information'!O114","v":"Japan"},{"$f":"'Country information'!C114","v":"yen"},{"$f":"'Country information'!D114","v":"¥"},{"$f":"'Country information'!E114","v":83.83},{"$f":"'Country information'!F114","v":40592.406030092592}]
[null,null,null,null,null,null,null,null,null,null,null,null,null,null,null,null,null,null,null,null,null,null,null,null,null,null,null,null,null,null,null,null,null,null,null,null,null,null,null,null,null,null,null,null,null,null,null,null,null,null,null,null,null,null,null,null,null,null,null,null,null,null,null,null,null,null,null,null,null,null,null,null,null,null,null,null,null,null,null,null,null,null,null,null,null,null,null,null,null,null,null,null,null,null,null,null,null,null,null,null,null,null,null,null,null,null,null,null,null,null,null,null,null,null,null,null,null,null,null,null,null,null,null,null,null,null,null,null,null,null,null,null,null,null,null,null,null,null,null,null,null,null,null,null,null,null,null,null,null,null,null,null,null,null,null,null,null,null,{"$f":"'Country information'!N115","v":"Jersey"},{"$f":"'Country information'!O115","v":"Jersey"},{"$f":"'Country information'!C115","v":"pound"},{"$f":"'Country information'!D115","v":"£"},{"$f":"'Country information'!E115","v":0.64},{"$f":"'Country information'!F115","v":40592.406053240738}]
[null,null,null,null,null,null,null,null,null,null,null,null,null,null,null,null,null,null,null,null,null,null,null,null,null,null,null,null,null,null,null,null,null,null,null,null,null,null,null,null,null,null,null,null,null,null,null,null,null,null,null,null,null,null,null,null,null,null,null,null,null,null,null,null,null,null,null,null,null,null,null,null,null,null,null,null,null,null,null,null,null,null,null,null,null,null,null,null,null,null,null,null,null,null,null,null,null,null,null,null,null,null,null,null,null,null,null,null,null,null,null,null,null,null,null,null,null,null,null,null,null,null,null,null,null,null,null,null,null,null,null,null,null,null,null,null,null,null,null,null,null,null,null,null,null,null,null,null,null,null,null,null,null,null,null,null,null,null,{"$f":"'Country information'!N116","v":"Johnston Island"},{"$f":"'Country information'!O116","v":"Johnston Island"},{"$f":"'Country information'!C116","v":"dollar"},{"$f":"'Country information'!D116","v":"US$"},{"$f":"'Country information'!E116","v":1},{"$f":"'Country information'!F116","v":40128.589282407411}]
[null,null,null,null,null,null,null,null,null,null,null,null,null,null,null,null,null,null,null,null,null,null,null,null,null,null,null,null,null,null,null,null,null,null,null,null,null,null,null,null,null,null,null,null,null,null,null,null,null,null,null,null,null,null,null,null,null,null,null,null,null,null,null,null,null,null,null,null,null,null,null,null,null,null,null,null,null,null,null,null,null,null,null,null,null,null,null,null,null,null,null,null,null,null,null,null,null,null,null,null,null,null,null,null,null,null,null,null,null,null,null,null,null,null,null,null,null,null,null,null,null,null,null,null,null,null,null,null,null,null,null,null,null,null,null,null,null,null,null,null,null,null,null,null,null,null,null,null,null,null,null,null,null,null,null,null,null,null,{"$f":"'Country information'!N117","v":"Jordan"},{"$f":"'Country information'!O117","v":"Jordan"},{"$f":"'Country information'!C117","v":"dinar"},{"$f":"'Country information'!D117","v":"JD"},{"$f":"'Country information'!E117","v":0.71},{"$f":"'Country information'!F117","v":40592.406030092592}]
[null,null,null,null,null,null,null,null,null,null,null,null,null,null,null,null,null,null,null,null,null,null,null,null,null,null,null,null,null,null,null,null,null,null,null,null,null,null,null,null,null,null,null,null,null,null,null,null,null,null,null,null,null,null,null,null,null,null,null,null,null,null,null,null,null,null,null,null,null,null,null,null,null,null,null,null,null,null,null,null,null,null,null,null,null,null,null,null,null,null,null,null,null,null,null,null,null,null,null,null,null,null,null,null,null,null,null,null,null,null,null,null,null,null,null,null,null,null,null,null,null,null,null,null,null,null,null,null,null,null,null,null,null,null,null,null,null,null,null,null,null,null,null,null,null,null,null,null,null,null,null,null,null,null,null,null,null,null,{"$f":"'Country information'!N118","v":"Kampuchea"},{"$f":"'Country information'!O118","v":"Kampuchea"},{"$f":"'Country information'!C118","v":"new riel"},{"$f":"'Country information'!D118","v":"CR"},{"$f":"'Country information'!E118","v":3975.4},{"$f":"'Country information'!F118","v":39413}]
[null,null,null,null,null,null,null,null,null,null,null,null,null,null,null,null,null,null,null,null,null,null,null,null,null,null,null,null,null,null,null,null,null,null,null,null,null,null,null,null,null,null,null,null,null,null,null,null,null,null,null,null,null,null,null,null,null,null,null,null,null,null,null,null,null,null,null,null,null,null,null,null,null,null,null,null,null,null,null,null,null,null,null,null,null,null,null,null,null,null,null,null,null,null,null,null,null,null,null,null,null,null,null,null,null,null,null,null,null,null,null,null,null,null,null,null,null,null,null,null,null,null,null,null,null,null,null,null,null,null,null,null,null,null,null,null,null,null,null,null,null,null,null,null,null,null,null,null,null,null,null,null,null,null,null,null,null,null,{"$f":"'Country information'!N119","v":"Kazakhstan"},{"$f":"'Country information'!O119","v":"Kazakhstan"},{"$f":"'Country information'!C119","v":"tenge"},{"$f":"'Country information'!D119","v":"лв"},{"$f":"'Country information'!E119","v":147.5},{"$f":"'Country information'!F119","v":40592.406030092592}]
[null,null,null,null,null,null,null,null,null,null,null,null,null,null,null,null,null,null,null,null,null,null,null,null,null,null,null,null,null,null,null,null,null,null,null,null,null,null,null,null,null,null,null,null,null,null,null,null,null,null,null,null,null,null,null,null,null,null,null,null,null,null,null,null,null,null,null,null,null,null,null,null,null,null,null,null,null,null,null,null,null,null,null,null,null,null,null,null,null,null,null,null,null,null,null,null,null,null,null,null,null,null,null,null,null,null,null,null,null,null,null,null,null,null,null,null,null,null,null,null,null,null,null,null,null,null,null,null,null,null,null,null,null,null,null,null,null,null,null,null,null,null,null,null,null,null,null,null,null,null,null,null,null,null,null,null,null,null,{"$f":"'Country information'!N120","v":"Kenya"},{"$f":"'Country information'!O120","v":"Kenya"},{"$f":"'Country information'!C120","v":"shilling"},{"$f":"'Country information'!D120","v":"K Sh"},{"$f":"'Country information'!E120","v":80.900000000000006},{"$f":"'Country information'!F120","v":40592.406030092592}]
[null,null,null,null,null,null,null,null,null,null,null,null,null,null,null,null,null,null,null,null,null,null,null,null,null,null,null,null,null,null,null,null,null,null,null,null,null,null,null,null,null,null,null,null,null,null,null,null,null,null,null,null,null,null,null,null,null,null,null,null,null,null,null,null,null,null,null,null,null,null,null,null,null,null,null,null,null,null,null,null,null,null,null,null,null,null,null,null,null,null,null,null,null,null,null,null,null,null,null,null,null,null,null,null,null,null,null,null,null,null,null,null,null,null,null,null,null,null,null,null,null,null,null,null,null,null,null,null,null,null,null,null,null,null,null,null,null,null,null,null,null,null,null,null,null,null,null,null,null,null,null,null,null,null,null,null,null,null,{"$f":"'Country information'!N121","v":"Kiribati"},{"$f":"'Country information'!O121","v":"Kiribati"},{"$f":"'Country information'!C121","v":"dollar"},{"$f":"'Country information'!D121","v":"A$"},{"$f":"'Country information'!E121","v":1.04},{"$f":"'Country information'!F121","v":40592.406053240738}]
[null,null,null,null,null,null,null,null,null,null,null,null,null,null,null,null,null,null,null,null,null,null,null,null,null,null,null,null,null,null,null,null,null,null,null,null,null,null,null,null,null,null,null,null,null,null,null,null,null,null,null,null,null,null,null,null,null,null,null,null,null,null,null,null,null,null,null,null,null,null,null,null,null,null,null,null,null,null,null,null,null,null,null,null,null,null,null,null,null,null,null,null,null,null,null,null,null,null,null,null,null,null,null,null,null,null,null,null,null,null,null,null,null,null,null,null,null,null,null,null,null,null,null,null,null,null,null,null,null,null,null,null,null,null,null,null,null,null,null,null,null,null,null,null,null,null,null,null,null,null,null,null,null,null,null,null,null,null,{"$f":"'Country information'!N122","v":"Korea, North"},{"$f":"'Country information'!O122","v":"Korea, North"},{"$f":"'Country information'!C122","v":"won"},{"$f":"'Country information'!D122","v":"Wn"},{"$f":"'Country information'!E122","v":142.44999999999999},{"$f":"'Country information'!F122","v":39413}]
[null,null,null,null,null,null,null,null,null,null,null,null,null,null,null,null,null,null,null,null,null,null,null,null,null,null,null,null,null,null,null,null,null,null,null,null,null,null,null,null,null,null,null,null,null,null,null,null,null,null,null,null,null,null,null,null,null,null,null,null,null,null,null,null,null,null,null,null,null,null,null,null,null,null,null,null,null,null,null,null,null,null,null,null,null,null,null,null,null,null,null,null,null,null,null,null,null,null,null,null,null,null,null,null,null,null,null,null,null,null,null,null,null,null,null,null,null,null,null,null,null,null,null,null,null,null,null,null,null,null,null,null,null,null,null,null,null,null,null,null,null,null,null,null,null,null,null,null,null,null,null,null,null,null,null,null,null,null,{"$f":"'Country information'!N123","v":"Korea, South"},{"$f":"'Country information'!O123","v":"Korea, South"},{"$f":"'Country information'!C123","v":"won"},{"$f":"'Country information'!D123","v":"W"},{"$f":"'Country information'!E123","v":929.68899999999996},{"$f":"'Country information'!F123","v":39413}]
[null,null,null,null,null,null,null,null,null,null,null,null,null,null,null,null,null,null,null,null,null,null,null,null,null,null,null,null,null,null,null,null,null,null,null,null,null,null,null,null,null,null,null,null,null,null,null,null,null,null,null,null,null,null,null,null,null,null,null,null,null,null,null,null,null,null,null,null,null,null,null,null,null,null,null,null,null,null,null,null,null,null,null,null,null,null,null,null,null,null,null,null,null,null,null,null,null,null,null,null,null,null,null,null,null,null,null,null,null,null,null,null,null,null,null,null,null,null,null,null,null,null,null,null,null,null,null,null,null,null,null,null,null,null,null,null,null,null,null,null,null,null,null,null,null,null,null,null,null,null,null,null,null,null,null,null,null,null,{"$f":"'Country information'!N124","v":"Kuwait"},{"$f":"'Country information'!O124","v":"Kuwait"},{"$f":"'Country information'!C124","v":"dinar"},{"$f":"'Country information'!D124","v":"KD"},{"$f":"'Country information'!E124","v":0.28000000000000003},{"$f":"'Country information'!F124","v":40592.406030092592}]
[null,null,null,null,null,null,null,null,null,null,null,null,null,null,null,null,null,null,null,null,null,null,null,null,null,null,null,null,null,null,null,null,null,null,null,null,null,null,null,null,null,null,null,null,null,null,null,null,null,null,null,null,null,null,null,null,null,null,null,null,null,null,null,null,null,null,null,null,null,null,null,null,null,null,null,null,null,null,null,null,null,null,null,null,null,null,null,null,null,null,null,null,null,null,null,null,null,null,null,null,null,null,null,null,null,null,null,null,null,null,null,null,null,null,null,null,null,null,null,null,null,null,null,null,null,null,null,null,null,null,null,null,null,null,null,null,null,null,null,null,null,null,null,null,null,null,null,null,null,null,null,null,null,null,null,null,null,null,{"$f":"'Country information'!N125","v":"Kyrgyzstan"},{"$f":"'Country information'!O125","v":"Kyrgyzstan"},{"$f":"'Country information'!C125","v":"som"},{"$f":"'Country information'!D125","v":"KGS"},{"$f":"'Country information'!E125","v":46.8},{"$f":"'Country information'!F125","v":40592.406030092592}]
[null,null,null,null,null,null,null,null,null,null,null,null,null,null,null,null,null,null,null,null,null,null,null,null,null,null,null,null,null,null,null,null,null,null,null,null,null,null,null,null,null,null,null,null,null,null,null,null,null,null,null,null,null,null,null,null,null,null,null,null,null,null,null,null,null,null,null,null,null,null,null,null,null,null,null,null,null,null,null,null,null,null,null,null,null,null,null,null,null,null,null,null,null,null,null,null,null,null,null,null,null,null,null,null,null,null,null,null,null,null,null,null,null,null,null,null,null,null,null,null,null,null,null,null,null,null,null,null,null,null,null,null,null,null,null,null,null,null,null,null,null,null,null,null,null,null,null,null,null,null,null,null,null,null,null,null,null,null,{"$f":"'Country information'!N126","v":"Laos"},{"$f":"'Country information'!O126","v":"Laos"},{"$f":"'Country information'!C126","v":"new kip"},{"$f":"'Country information'!D126","v":"₭"},{"$f":"'Country information'!E126","v":8031},{"$f":"'Country information'!F126","v":40592.406030092592}]
[null,null,null,null,null,null,null,null,null,null,null,null,null,null,null,null,null,null,null,null,null,null,null,null,null,null,null,null,null,null,null,null,null,null,null,null,null,null,null,null,null,null,null,null,null,null,null,null,null,null,null,null,null,null,null,null,null,null,null,null,null,null,null,null,null,null,null,null,null,null,null,null,null,null,null,null,null,null,null,null,null,null,null,null,null,null,null,null,null,null,null,null,null,null,null,null,null,null,null,null,null,null,null,null,null,null,null,null,null,null,null,null,null,null,null,null,null,null,null,null,null,null,null,null,null,null,null,null,null,null,null,null,null,null,null,null,null,null,null,null,null,null,null,null,null,null,null,null,null,null,null,null,null,null,null,null,null,null,{"$f":"'Country information'!N127","v":"Latvia"},{"$f":"'Country information'!O127","v":"Latvia"},{"$f":"'Country information'!C127","v":"lat"},{"$f":"'Country information'!D127","v":"Ls"},{"$f":"'Country information'!E127","v":0.54},{"$f":"'Country information'!F127","v":40592.406030092592}]
[null,null,null,null,null,null,null,null,null,null,null,null,null,null,null,null,null,null,null,null,null,null,null,null,null,null,null,null,null,null,null,null,null,null,null,null,null,null,null,null,null,null,null,null,null,null,null,null,null,null,null,null,null,null,null,null,null,null,null,null,null,null,null,null,null,null,null,null,null,null,null,null,null,null,null,null,null,null,null,null,null,null,null,null,null,null,null,null,null,null,null,null,null,null,null,null,null,null,null,null,null,null,null,null,null,null,null,null,null,null,null,null,null,null,null,null,null,null,null,null,null,null,null,null,null,null,null,null,null,null,null,null,null,null,null,null,null,null,null,null,null,null,null,null,null,null,null,null,null,null,null,null,null,null,null,null,null,null,{"$f":"'Country information'!N128","v":"Lebanon"},{"$f":"'Country information'!O128","v":"Lebanon"},{"$f":"'Country information'!C128","v":"pound"},{"$f":"'Country information'!D128","v":"L.L."},{"$f":"'Country information'!E128","v":1500},{"$f":"'Country information'!F128","v":40592.406030092592}]
[null,null,null,null,null,null,null,null,null,null,null,null,null,null,null,null,null,null,null,null,null,null,null,null,null,null,null,null,null,null,null,null,null,null,null,null,null,null,null,null,null,null,null,null,null,null,null,null,null,null,null,null,null,null,null,null,null,null,null,null,null,null,null,null,null,null,null,null,null,null,null,null,null,null,null,null,null,null,null,null,null,null,null,null,null,null,null,null,null,null,null,null,null,null,null,null,null,null,null,null,null,null,null,null,null,null,null,null,null,null,null,null,null,null,null,null,null,null,null,null,null,null,null,null,null,null,null,null,null,null,null,null,null,null,null,null,null,null,null,null,null,null,null,null,null,null,null,null,null,null,null,null,null,null,null,null,null,null,{"$f":"'Country information'!N129","v":"Lesotho"},{"$f":"'Country information'!O129","v":"Lesotho"},{"$f":"'Country information'!C129","v":"loti"},{"$f":"'Country information'!D129","v":"L"},{"$f":"'Country information'!E129","v":7.07},{"$f":"'Country information'!F129","v":40592.406030092592}]
[null,null,null,null,null,null,null,null,null,null,null,null,null,null,null,null,null,null,null,null,null,null,null,null,null,null,null,null,null,null,null,null,null,null,null,null,null,null,null,null,null,null,null,null,null,null,null,null,null,null,null,null,null,null,null,null,null,null,null,null,null,null,null,null,null,null,null,null,null,null,null,null,null,null,null,null,null,null,null,null,null,null,null,null,null,null,null,null,null,null,null,null,null,null,null,null,null,null,null,null,null,null,null,null,null,null,null,null,null,null,null,null,null,null,null,null,null,null,null,null,null,null,null,null,null,null,null,null,null,null,null,null,null,null,null,null,null,null,null,null,null,null,null,null,null,null,null,null,null,null,null,null,null,null,null,null,null,null,{"$f":"'Country information'!N130","v":"Liberia"},{"$f":"'Country information'!O130","v":"Liberia"},{"$f":"'Country information'!C130","v":"dollar"},{"$f":"'Country information'!D130","v":"US$"},{"$f":"'Country information'!E130","v":49},{"$f":"'Country information'!F130","v":40592.406030092592}]
[null,null,null,null,null,null,null,null,null,null,null,null,null,null,null,null,null,null,null,null,null,null,null,null,null,null,null,null,null,null,null,null,null,null,null,null,null,null,null,null,null,null,null,null,null,null,null,null,null,null,null,null,null,null,null,null,null,null,null,null,null,null,null,null,null,null,null,null,null,null,null,null,null,null,null,null,null,null,null,null,null,null,null,null,null,null,null,null,null,null,null,null,null,null,null,null,null,null,null,null,null,null,null,null,null,null,null,null,null,null,null,null,null,null,null,null,null,null,null,null,null,null,null,null,null,null,null,null,null,null,null,null,null,null,null,null,null,null,null,null,null,null,null,null,null,null,null,null,null,null,null,null,null,null,null,null,null,null,{"$f":"'Country information'!N131","v":"Libya"},{"$f":"'Country information'!O131","v":"Libya"},{"$f":"'Country information'!C131","v":"dinar"},{"$f":"'Country information'!D131","v":"LD"},{"$f":"'Country information'!E131","v":1.25},{"$f":"'Country information'!F131","v":40592.406030092592}]
[null,null,null,null,null,null,null,null,null,null,null,null,null,null,null,null,null,null,null,null,null,null,null,null,null,null,null,null,null,null,null,null,null,null,null,null,null,null,null,null,null,null,null,null,null,null,null,null,null,null,null,null,null,null,null,null,null,null,null,null,null,null,null,null,null,null,null,null,null,null,null,null,null,null,null,null,null,null,null,null,null,null,null,null,null,null,null,null,null,null,null,null,null,null,null,null,null,null,null,null,null,null,null,null,null,null,null,null,null,null,null,null,null,null,null,null,null,null,null,null,null,null,null,null,null,null,null,null,null,null,null,null,null,null,null,null,null,null,null,null,null,null,null,null,null,null,null,null,null,null,null,null,null,null,null,null,null,null,{"$f":"'Country information'!N132","v":"Liechtenstein"},{"$f":"'Country information'!O132","v":"Liechtenstein"},{"$f":"'Country information'!C132","v":"franc"},{"$f":"'Country information'!D132","v":"SwF"},{"$f":"'Country information'!E132","v":1},{"$f":"'Country information'!F132","v":40592.406064814815}]
[null,null,null,null,null,null,null,null,null,null,null,null,null,null,null,null,null,null,null,null,null,null,null,null,null,null,null,null,null,null,null,null,null,null,null,null,null,null,null,null,null,null,null,null,null,null,null,null,null,null,null,null,null,null,null,null,null,null,null,null,null,null,null,null,null,null,null,null,null,null,null,null,null,null,null,null,null,null,null,null,null,null,null,null,null,null,null,null,null,null,null,null,null,null,null,null,null,null,null,null,null,null,null,null,null,null,null,null,null,null,null,null,null,null,null,null,null,null,null,null,null,null,null,null,null,null,null,null,null,null,null,null,null,null,null,null,null,null,null,null,null,null,null,null,null,null,null,null,null,null,null,null,null,null,null,null,null,null,{"$f":"'Country information'!N133","v":"Lithuania"},{"$f":"'Country information'!O133","v":"Lithuania"},{"$f":"'Country information'!C133","v":"litai"},{"$f":"'Country information'!D133","v":"Lt"},{"$f":"'Country information'!E133","v":2.65},{"$f":"'Country information'!F133","v":40592.406030092592}]
[null,null,null,null,null,null,null,null,null,null,null,null,null,null,null,null,null,null,null,null,null,null,null,null,null,null,null,null,null,null,null,null,null,null,null,null,null,null,null,null,null,null,null,null,null,null,null,null,null,null,null,null,null,null,null,null,null,null,null,null,null,null,null,null,null,null,null,null,null,null,null,null,null,null,null,null,null,null,null,null,null,null,null,null,null,null,null,null,null,null,null,null,null,null,null,null,null,null,null,null,null,null,null,null,null,null,null,null,null,null,null,null,null,null,null,null,null,null,null,null,null,null,null,null,null,null,null,null,null,null,null,null,null,null,null,null,null,null,null,null,null,null,null,null,null,null,null,null,null,null,null,null,null,null,null,null,null,null,{"$f":"'Country information'!N134","v":"Luxembourg"},{"$f":"'Country information'!O134","v":"Luxembourg"},{"$f":"'Country information'!C134","v":"euro"},{"$f":"'Country information'!D134","v":"€"},{"$f":"'Country information'!E134","v":0.77},{"$f":"'Country information'!F134","v":40592.406030092592}]
[null,null,null,null,null,null,null,null,null,null,null,null,null,null,null,null,null,null,null,null,null,null,null,null,null,null,null,null,null,null,null,null,null,null,null,null,null,null,null,null,null,null,null,null,null,null,null,null,null,null,null,null,null,null,null,null,null,null,null,null,null,null,null,null,null,null,null,null,null,null,null,null,null,null,null,null,null,null,null,null,null,null,null,null,null,null,null,null,null,null,null,null,null,null,null,null,null,null,null,null,null,null,null,null,null,null,null,null,null,null,null,null,null,null,null,null,null,null,null,null,null,null,null,null,null,null,null,null,null,null,null,null,null,null,null,null,null,null,null,null,null,null,null,null,null,null,null,null,null,null,null,null,null,null,null,null,null,null,{"$f":"'Country information'!N135","v":"Macao (Macau)"},{"$f":"'Country information'!O135","v":"Macao (Macau)"},{"$f":"'Country information'!C135","v":"pataca"},{"$f":"'Country information'!D135","v":"P"},{"$f":"'Country information'!E135","v":8},{"$f":"'Country information'!F135","v":39413}]
[null,null,null,null,null,null,null,null,null,null,null,null,null,null,null,null,null,null,null,null,null,null,null,null,null,null,null,null,null,null,null,null,null,null,null,null,null,null,null,null,null,null,null,null,null,null,null,null,null,null,null,null,null,null,null,null,null,null,null,null,null,null,null,null,null,null,null,null,null,null,null,null,null,null,null,null,null,null,null,null,null,null,null,null,null,null,null,null,null,null,null,null,null,null,null,null,null,null,null,null,null,null,null,null,null,null,null,null,null,null,null,null,null,null,null,null,null,null,null,null,null,null,null,null,null,null,null,null,null,null,null,null,null,null,null,null,null,null,null,null,null,null,null,null,null,null,null,null,null,null,null,null,null,null,null,null,null,null,{"$f":"'Country information'!N136","v":"Macedonia"},{"$f":"'Country information'!O136","v":"Macedonia"},{"$f":"'Country information'!C136","v":"denar"},{"$f":"'Country information'!D136","v":"ден"},{"$f":"'Country information'!E136","v":41.462499999999999},{"$f":"'Country information'!F136","v":39413}]
[null,null,null,null,null,null,null,null,null,null,null,null,null,null,null,null,null,null,null,null,null,null,null,null,null,null,null,null,null,null,null,null,null,null,null,null,null,null,null,null,null,null,null,null,null,null,null,null,null,null,null,null,null,null,null,null,null,null,null,null,null,null,null,null,null,null,null,null,null,null,null,null,null,null,null,null,null,null,null,null,null,null,null,null,null,null,null,null,null,null,null,null,null,null,null,null,null,null,null,null,null,null,null,null,null,null,null,null,null,null,null,null,null,null,null,null,null,null,null,null,null,null,null,null,null,null,null,null,null,null,null,null,null,null,null,null,null,null,null,null,null,null,null,null,null,null,null,null,null,null,null,null,null,null,null,null,null,null,{"$f":"'Country information'!N137","v":"Madagascar"},{"$f":"'Country information'!O137","v":"Madagascar"},{"$f":"'Country information'!C137","v":"ariayry"},{"$f":"'Country information'!D137","v":"MGA"},{"$f":"'Country information'!E137","v":2010.61},{"$f":"'Country information'!F137","v":40592.406030092592}]
[null,null,null,null,null,null,null,null,null,null,null,null,null,null,null,null,null,null,null,null,null,null,null,null,null,null,null,null,null,null,null,null,null,null,null,null,null,null,null,null,null,null,null,null,null,null,null,null,null,null,null,null,null,null,null,null,null,null,null,null,null,null,null,null,null,null,null,null,null,null,null,null,null,null,null,null,null,null,null,null,null,null,null,null,null,null,null,null,null,null,null,null,null,null,null,null,null,null,null,null,null,null,null,null,null,null,null,null,null,null,null,null,null,null,null,null,null,null,null,null,null,null,null,null,null,null,null,null,null,null,null,null,null,null,null,null,null,null,null,null,null,null,null,null,null,null,null,null,null,null,null,null,null,null,null,null,null,null,{"$f":"'Country information'!N138","v":"Malawi"},{"$f":"'Country information'!O138","v":"Malawi"},{"$f":"'Country information'!C138","v":"kwacha"},{"$f":"'Country information'!D138","v":"MK"},{"$f":"'Country information'!E138","v":151},{"$f":"'Country information'!F138","v":40592.406030092592}]
[null,null,null,null,null,null,null,null,null,null,null,null,null,null,null,null,null,null,null,null,null,null,null,null,null,null,null,null,null,null,null,null,null,null,null,null,null,null,null,null,null,null,null,null,null,null,null,null,null,null,null,null,null,null,null,null,null,null,null,null,null,null,null,null,null,null,null,null,null,null,null,null,null,null,null,null,null,null,null,null,null,null,null,null,null,null,null,null,null,null,null,null,null,null,null,null,null,null,null,null,null,null,null,null,null,null,null,null,null,null,null,null,null,null,null,null,null,null,null,null,null,null,null,null,null,null,null,null,null,null,null,null,null,null,null,null,null,null,null,null,null,null,null,null,null,null,null,null,null,null,null,null,null,null,null,null,null,null,{"$f":"'Country information'!N139","v":"Malaysia"},{"$f":"'Country information'!O139","v":"Malaysia"},{"$f":"'Country information'!C139","v":"ringgit"},{"$f":"'Country information'!D139","v":"RM"},{"$f":"'Country information'!E139","v":3.17},{"$f":"'Country information'!F139","v":40592.406030092592}]
[null,null,null,null,null,null,null,null,null,null,null,null,null,null,null,null,null,null,null,null,null,null,null,null,null,null,null,null,null,null,null,null,null,null,null,null,null,null,null,null,null,null,null,null,null,null,null,null,null,null,null,null,null,null,null,null,null,null,null,null,null,null,null,null,null,null,null,null,null,null,null,null,null,null,null,null,null,null,null,null,null,null,null,null,null,null,null,null,null,null,null,null,null,null,null,null,null,null,null,null,null,null,null,null,null,null,null,null,null,null,null,null,null,null,null,null,null,null,null,null,null,null,null,null,null,null,null,null,null,null,null,null,null,null,null,null,null,null,null,null,null,null,null,null,null,null,null,null,null,null,null,null,null,null,null,null,null,null,{"$f":"'Country information'!N140","v":"Maldives"},{"$f":"'Country information'!O140","v":"Maldives"},{"$f":"'Country information'!C140","v":"rufiyaa"},{"$f":"'Country information'!D140","v":"Rf"},{"$f":"'Country information'!E140","v":12.8},{"$f":"'Country information'!F140","v":39413}]
[null,null,null,null,null,null,null,null,null,null,null,null,null,null,null,null,null,null,null,null,null,null,null,null,null,null,null,null,null,null,null,null,null,null,null,null,null,null,null,null,null,null,null,null,null,null,null,null,null,null,null,null,null,null,null,null,null,null,null,null,null,null,null,null,null,null,null,null,null,null,null,null,null,null,null,null,null,null,null,null,null,null,null,null,null,null,null,null,null,null,null,null,null,null,null,null,null,null,null,null,null,null,null,null,null,null,null,null,null,null,null,null,null,null,null,null,null,null,null,null,null,null,null,null,null,null,null,null,null,null,null,null,null,null,null,null,null,null,null,null,null,null,null,null,null,null,null,null,null,null,null,null,null,null,null,null,null,null,{"$f":"'Country information'!N141","v":"Mali"},{"$f":"'Country information'!O141","v":"Mali"},{"$f":"'Country information'!C141","v":"franc"},{"$f":"'Country information'!D141","v":"CFAF"},{"$f":"'Country information'!E141","v":503.3},{"$f":"'Country information'!F141","v":40592.406030092592}]
[null,null,null,null,null,null,null,null,null,null,null,null,null,null,null,null,null,null,null,null,null,null,null,null,null,null,null,null,null,null,null,null,null,null,null,null,null,null,null,null,null,null,null,null,null,null,null,null,null,null,null,null,null,null,null,null,null,null,null,null,null,null,null,null,null,null,null,null,null,null,null,null,null,null,null,null,null,null,null,null,null,null,null,null,null,null,null,null,null,null,null,null,null,null,null,null,null,null,null,null,null,null,null,null,null,null,null,null,null,null,null,null,null,null,null,null,null,null,null,null,null,null,null,null,null,null,null,null,null,null,null,null,null,null,null,null,null,null,null,null,null,null,null,null,null,null,null,null,null,null,null,null,null,null,null,null,null,null,{"$f":"'Country information'!N142","v":"Malta"},{"$f":"'Country information'!O142","v":"Malta"},{"$f":"'Country information'!C142","v":"lira"},{"$f":"'Country information'!D142","v":"Lm"},{"$f":"'Country information'!E142","v":0.77},{"$f":"'Country information'!F142","v":40592.406030092592}]
[null,null,null,null,null,null,null,null,null,null,null,null,null,null,null,null,null,null,null,null,null,null,null,null,null,null,null,null,null,null,null,null,null,null,null,null,null,null,null,null,null,null,null,null,null,null,null,null,null,null,null,null,null,null,null,null,null,null,null,null,null,null,null,null,null,null,null,null,null,null,null,null,null,null,null,null,null,null,null,null,null,null,null,null,null,null,null,null,null,null,null,null,null,null,null,null,null,null,null,null,null,null,null,null,null,null,null,null,null,null,null,null,null,null,null,null,null,null,null,null,null,null,null,null,null,null,null,null,null,null,null,null,null,null,null,null,null,null,null,null,null,null,null,null,null,null,null,null,null,null,null,null,null,null,null,null,null,null,{"$f":"'Country information'!N143","v":"Martinique"},{"$f":"'Country information'!O143","v":"Martinique"},{"$f":"'Country information'!C143","v":"euro"},{"$f":"'Country information'!D143","v":"€"},{"$f":"'Country information'!E143","v":0.77},{"$f":"'Country information'!F143","v":40592.406030092592}]
[null,null,null,null,null,null,null,null,null,null,null,null,null,null,null,null,null,null,null,null,null,null,null,null,null,null,null,null,null,null,null,null,null,null,null,null,null,null,null,null,null,null,null,null,null,null,null,null,null,null,null,null,null,null,null,null,null,null,null,null,null,null,null,null,null,null,null,null,null,null,null,null,null,null,null,null,null,null,null,null,null,null,null,null,null,null,null,null,null,null,null,null,null,null,null,null,null,null,null,null,null,null,null,null,null,null,null,null,null,null,null,null,null,null,null,null,null,null,null,null,null,null,null,null,null,null,null,null,null,null,null,null,null,null,null,null,null,null,null,null,null,null,null,null,null,null,null,null,null,null,null,null,null,null,null,null,null,null,{"$f":"'Country information'!N144","v":"Mauritania"},{"$f":"'Country information'!O144","v":"Mauritania"},{"$f":"'Country information'!C144","v":"ouguiya"},{"$f":"'Country information'!D144","v":"UM"},{"$f":"'Country information'!E144","v":290},{"$f":"'Country information'!F144","v":40592.406030092592}]
[null,null,null,null,null,null,null,null,null,null,null,null,null,null,null,null,null,null,null,null,null,null,null,null,null,null,null,null,null,null,null,null,null,null,null,null,null,null,null,null,null,null,null,null,null,null,null,null,null,null,null,null,null,null,null,null,null,null,null,null,null,null,null,null,null,null,null,null,null,null,null,null,null,null,null,null,null,null,null,null,null,null,null,null,null,null,null,null,null,null,null,null,null,null,null,null,null,null,null,null,null,null,null,null,null,null,null,null,null,null,null,null,null,null,null,null,null,null,null,null,null,null,null,null,null,null,null,null,null,null,null,null,null,null,null,null,null,null,null,null,null,null,null,null,null,null,null,null,null,null,null,null,null,null,null,null,null,null,{"$f":"'Country information'!N145","v":"Mauritius"},{"$f":"'Country information'!O145","v":"Mauritius"},{"$f":"'Country information'!C145","v":"rupee"},{"$f":"'Country information'!D145","v":"Mau Rs"},{"$f":"'Country information'!E145","v":30.3},{"$f":"'Country information'!F145","v":40592.406030092592}]
[null,null,null,null,null,null,null,null,null,null,null,null,null,null,null,null,null,null,null,null,null,null,null,null,null,null,null,null,null,null,null,null,null,null,null,null,null,null,null,null,null,null,null,null,null,null,null,null,null,null,null,null,null,null,null,null,null,null,null,null,null,null,null,null,null,null,null,null,null,null,null,null,null,null,null,null,null,null,null,null,null,null,null,null,null,null,null,null,null,null,null,null,null,null,null,null,null,null,null,null,null,null,null,null,null,null,null,null,null,null,null,null,null,null,null,null,null,null,null,null,null,null,null,null,null,null,null,null,null,null,null,null,null,null,null,null,null,null,null,null,null,null,null,null,null,null,null,null,null,null,null,null,null,null,null,null,null,null,{"$f":"'Country information'!N146","v":"Mexico"},{"$f":"'Country information'!O146","v":"Mexico"},{"$f":"'Country information'!C146","v":"peso"},{"$f":"'Country information'!D146","v":"Mex$"},{"$f":"'Country information'!E146","v":12.5},{"$f":"'Country information'!F146","v":40592.406030092592}]
[null,null,null,null,null,null,null,null,null,null,null,null,null,null,null,null,null,null,null,null,null,null,null,null,null,null,null,null,null,null,null,null,null,null,null,null,null,null,null,null,null,null,null,null,null,null,null,null,null,null,null,null,null,null,null,null,null,null,null,null,null,null,null,null,null,null,null,null,null,null,null,null,null,null,null,null,null,null,null,null,null,null,null,null,null,null,null,null,null,null,null,null,null,null,null,null,null,null,null,null,null,null,null,null,null,null,null,null,null,null,null,null,null,null,null,null,null,null,null,null,null,null,null,null,null,null,null,null,null,null,null,null,null,null,null,null,null,null,null,null,null,null,null,null,null,null,null,null,null,null,null,null,null,null,null,null,null,null,{"$f":"'Country information'!N147","v":"Micronesia"},{"$f":"'Country information'!O147","v":"Micronesia"},{"$f":"'Country information'!C147","v":"dollar"},{"$f":"'Country information'!D147","v":"US$"},{"$f":"'Country information'!E147","v":1},{"$f":"'Country information'!F147","v":40592.406030092592}]
[null,null,null,null,null,null,null,null,null,null,null,null,null,null,null,null,null,null,null,null,null,null,null,null,null,null,null,null,null,null,null,null,null,null,null,null,null,null,null,null,null,null,null,null,null,null,null,null,null,null,null,null,null,null,null,null,null,null,null,null,null,null,null,null,null,null,null,null,null,null,null,null,null,null,null,null,null,null,null,null,null,null,null,null,null,null,null,null,null,null,null,null,null,null,null,null,null,null,null,null,null,null,null,null,null,null,null,null,null,null,null,null,null,null,null,null,null,null,null,null,null,null,null,null,null,null,null,null,null,null,null,null,null,null,null,null,null,null,null,null,null,null,null,null,null,null,null,null,null,null,null,null,null,null,null,null,null,null,{"$f":"'Country information'!N148","v":"Midway Islands"},{"$f":"'Country information'!O148","v":"Midway Islands"},{"$f":"'Country information'!C148","v":"dollar"},{"$f":"'Country information'!D148","v":"US$"},{"$f":"'Country information'!E148","v":1},{"$f":"'Country information'!F148","v":40128.589282407411}]
[null,null,null,null,null,null,null,null,null,null,null,null,null,null,null,null,null,null,null,null,null,null,null,null,null,null,null,null,null,null,null,null,null,null,null,null,null,null,null,null,null,null,null,null,null,null,null,null,null,null,null,null,null,null,null,null,null,null,null,null,null,null,null,null,null,null,null,null,null,null,null,null,null,null,null,null,null,null,null,null,null,null,null,null,null,null,null,null,null,null,null,null,null,null,null,null,null,null,null,null,null,null,null,null,null,null,null,null,null,null,null,null,null,null,null,null,null,null,null,null,null,null,null,null,null,null,null,null,null,null,null,null,null,null,null,null,null,null,null,null,null,null,null,null,null,null,null,null,null,null,null,null,null,null,null,null,null,null,{"$f":"'Country information'!N149","v":"Moldova"},{"$f":"'Country information'!O149","v":"Moldova"},{"$f":"'Country information'!C149","v":"Lei"},{"$f":"'Country information'!D149","v":"MDL"},{"$f":"'Country information'!E149","v":12.17},{"$f":"'Country information'!F149","v":40592.406030092592}]
[null,null,null,null,null,null,null,null,null,null,null,null,null,null,null,null,null,null,null,null,null,null,null,null,null,null,null,null,null,null,null,null,null,null,null,null,null,null,null,null,null,null,null,null,null,null,null,null,null,null,null,null,null,null,null,null,null,null,null,null,null,null,null,null,null,null,null,null,null,null,null,null,null,null,null,null,null,null,null,null,null,null,null,null,null,null,null,null,null,null,null,null,null,null,null,null,null,null,null,null,null,null,null,null,null,null,null,null,null,null,null,null,null,null,null,null,null,null,null,null,null,null,null,null,null,null,null,null,null,null,null,null,null,null,null,null,null,null,null,null,null,null,null,null,null,null,null,null,null,null,null,null,null,null,null,null,null,null,{"$f":"'Country information'!N150","v":"Monaco"},{"$f":"'Country information'!O150","v":"Monaco"},{"$f":"'Country information'!C150","v":"euro"},{"$f":"'Country information'!D150","v":"€"},{"$f":"'Country information'!E150","v":0.77},{"$f":"'Country information'!F150","v":40592.406053240738}]
[null,null,null,null,null,null,null,null,null,null,null,null,null,null,null,null,null,null,null,null,null,null,null,null,null,null,null,null,null,null,null,null,null,null,null,null,null,null,null,null,null,null,null,null,null,null,null,null,null,null,null,null,null,null,null,null,null,null,null,null,null,null,null,null,null,null,null,null,null,null,null,null,null,null,null,null,null,null,null,null,null,null,null,null,null,null,null,null,null,null,null,null,null,null,null,null,null,null,null,null,null,null,null,null,null,null,null,null,null,null,null,null,null,null,null,null,null,null,null,null,null,null,null,null,null,null,null,null,null,null,null,null,null,null,null,null,null,null,null,null,null,null,null,null,null,null,null,null,null,null,null,null,null,null,null,null,null,null,{"$f":"'Country information'!N151","v":"Mongolia"},{"$f":"'Country information'!O151","v":"Mongolia"},{"$f":"'Country information'!C151","v":"tughrik"},{"$f":"'Country information'!D151","v":"₮"},{"$f":"'Country information'!E151","v":1262.45},{"$f":"'Country information'!F151","v":40592.406030092592}]
[null,null,null,null,null,null,null,null,null,null,null,null,null,null,null,null,null,null,null,null,null,null,null,null,null,null,null,null,null,null,null,null,null,null,null,null,null,null,null,null,null,null,null,null,null,null,null,null,null,null,null,null,null,null,null,null,null,null,null,null,null,null,null,null,null,null,null,null,null,null,null,null,null,null,null,null,null,null,null,null,null,null,null,null,null,null,null,null,null,null,null,null,null,null,null,null,null,null,null,null,null,null,null,null,null,null,null,null,null,null,null,null,null,null,null,null,null,null,null,null,null,null,null,null,null,null,null,null,null,null,null,null,null,null,null,null,null,null,null,null,null,null,null,null,null,null,null,null,null,null,null,null,null,null,null,null,null,null,{"$f":"'Country information'!N152","v":"Montserrat"},{"$f":"'Country information'!O152","v":"Montserrat"},{"$f":"'Country information'!C152","v":"dollar"},{"$f":"'Country information'!D152","v":"EC$"},{"$f":"'Country information'!E152","v":2.7},{"$f":"'Country information'!F152","v":40592.406053240738}]
[null,null,null,null,null,null,null,null,null,null,null,null,null,null,null,null,null,null,null,null,null,null,null,null,null,null,null,null,null,null,null,null,null,null,null,null,null,null,null,null,null,null,null,null,null,null,null,null,null,null,null,null,null,null,null,null,null,null,null,null,null,null,null,null,null,null,null,null,null,null,null,null,null,null,null,null,null,null,null,null,null,null,null,null,null,null,null,null,null,null,null,null,null,null,null,null,null,null,null,null,null,null,null,null,null,null,null,null,null,null,null,null,null,null,null,null,null,null,null,null,null,null,null,null,null,null,null,null,null,null,null,null,null,null,null,null,null,null,null,null,null,null,null,null,null,null,null,null,null,null,null,null,null,null,null,null,null,null,{"$f":"'Country information'!N153","v":"Morocco"},{"$f":"'Country information'!O153","v":"Morocco"},{"$f":"'Country information'!C153","v":"dirham"},{"$f":"'Country information'!D153","v":"DH"},{"$f":"'Country information'!E153","v":8.5},{"$f":"'Country information'!F153","v":40592.406041666669}]
[null,null,null,null,null,null,null,null,null,null,null,null,null,null,null,null,null,null,null,null,null,null,null,null,null,null,null,null,null,null,null,null,null,null,null,null,null,null,null,null,null,null,null,null,null,null,null,null,null,null,null,null,null,null,null,null,null,null,null,null,null,null,null,null,null,null,null,null,null,null,null,null,null,null,null,null,null,null,null,null,null,null,null,null,null,null,null,null,null,null,null,null,null,null,null,null,null,null,null,null,null,null,null,null,null,null,null,null,null,null,null,null,null,null,null,null,null,null,null,null,null,null,null,null,null,null,null,null,null,null,null,null,null,null,null,null,null,null,null,null,null,null,null,null,null,null,null,null,null,null,null,null,null,null,null,null,null,null,{"$f":"'Country information'!N154","v":"Mozambique"},{"$f":"'Country information'!O154","v":"Mozambique"},{"$f":"'Country information'!C154","v":"metical"},{"$f":"'Country information'!D154","v":"Mt"},{"$f":"'Country information'!E154","v":35.71},{"$f":"'Country information'!F154","v":40592.406041666669}]
[null,null,null,null,null,null,null,null,null,null,null,null,null,null,null,null,null,null,null,null,null,null,null,null,null,null,null,null,null,null,null,null,null,null,null,null,null,null,null,null,null,null,null,null,null,null,null,null,null,null,null,null,null,null,null,null,null,null,null,null,null,null,null,null,null,null,null,null,null,null,null,null,null,null,null,null,null,null,null,null,null,null,null,null,null,null,null,null,null,null,null,null,null,null,null,null,null,null,null,null,null,null,null,null,null,null,null,null,null,null,null,null,null,null,null,null,null,null,null,null,null,null,null,null,null,null,null,null,null,null,null,null,null,null,null,null,null,null,null,null,null,null,null,null,null,null,null,null,null,null,null,null,null,null,null,null,null,null,{"$f":"'Country information'!N155","v":"Myanmar"},{"$f":"'Country information'!O155","v":"Myanmar"},{"$f":"'Country information'!C155","v":"kyat"},{"$f":"'Country information'!D155","v":"K"},{"$f":"'Country information'!E155","v":6.4208499999999997},{"$f":"'Country information'!F155","v":39413}]
[null,null,null,null,null,null,null,null,null,null,null,null,null,null,null,null,null,null,null,null,null,null,null,null,null,null,null,null,null,null,null,null,null,null,null,null,null,null,null,null,null,null,null,null,null,null,null,null,null,null,null,null,null,null,null,null,null,null,null,null,null,null,null,null,null,null,null,null,null,null,null,null,null,null,null,null,null,null,null,null,null,null,null,null,null,null,null,null,null,null,null,null,null,null,null,null,null,null,null,null,null,null,null,null,null,null,null,null,null,null,null,null,null,null,null,null,null,null,null,null,null,null,null,null,null,null,null,null,null,null,null,null,null,null,null,null,null,null,null,null,null,null,null,null,null,null,null,null,null,null,null,null,null,null,null,null,null,null,{"$f":"'Country information'!N156","v":"Namibia"},{"$f":"'Country information'!O156","v":"Namibia"},{"$f":"'Country information'!C156","v":"dollar"},{"$f":"'Country information'!D156","v":"N$"},{"$f":"'Country information'!E156","v":7.07},{"$f":"'Country information'!F156","v":40592.406041666669}]
[null,null,null,null,null,null,null,null,null,null,null,null,null,null,null,null,null,null,null,null,null,null,null,null,null,null,null,null,null,null,null,null,null,null,null,null,null,null,null,null,null,null,null,null,null,null,null,null,null,null,null,null,null,null,null,null,null,null,null,null,null,null,null,null,null,null,null,null,null,null,null,null,null,null,null,null,null,null,null,null,null,null,null,null,null,null,null,null,null,null,null,null,null,null,null,null,null,null,null,null,null,null,null,null,null,null,null,null,null,null,null,null,null,null,null,null,null,null,null,null,null,null,null,null,null,null,null,null,null,null,null,null,null,null,null,null,null,null,null,null,null,null,null,null,null,null,null,null,null,null,null,null,null,null,null,null,null,null,{"$f":"'Country information'!N157","v":"Nauru"},{"$f":"'Country information'!O157","v":"Nauru"},{"$f":"'Country information'!C157","v":"dollar"},{"$f":"'Country information'!D157","v":"A$"},{"$f":"'Country information'!E157","v":1.04},{"$f":"'Country information'!F157","v":40592.406053240738}]
[null,null,null,null,null,null,null,null,null,null,null,null,null,null,null,null,null,null,null,null,null,null,null,null,null,null,null,null,null,null,null,null,null,null,null,null,null,null,null,null,null,null,null,null,null,null,null,null,null,null,null,null,null,null,null,null,null,null,null,null,null,null,null,null,null,null,null,null,null,null,null,null,null,null,null,null,null,null,null,null,null,null,null,null,null,null,null,null,null,null,null,null,null,null,null,null,null,null,null,null,null,null,null,null,null,null,null,null,null,null,null,null,null,null,null,null,null,null,null,null,null,null,null,null,null,null,null,null,null,null,null,null,null,null,null,null,null,null,null,null,null,null,null,null,null,null,null,null,null,null,null,null,null,null,null,null,null,null,{"$f":"'Country information'!N158","v":"Nepal"},{"$f":"'Country information'!O158","v":"Nepal"},{"$f":"'Country information'!C158","v":"rupee"},{"$f":"'Country information'!D158","v":"NRs"},{"$f":"'Country information'!E158","v":72.95},{"$f":"'Country information'!F158","v":40592.406041666669}]
[null,null,null,null,null,null,null,null,null,null,null,null,null,null,null,null,null,null,null,null,null,null,null,null,null,null,null,null,null,null,null,null,null,null,null,null,null,null,null,null,null,null,null,null,null,null,null,null,null,null,null,null,null,null,null,null,null,null,null,null,null,null,null,null,null,null,null,null,null,null,null,null,null,null,null,null,null,null,null,null,null,null,null,null,null,null,null,null,null,null,null,null,null,null,null,null,null,null,null,null,null,null,null,null,null,null,null,null,null,null,null,null,null,null,null,null,null,null,null,null,null,null,null,null,null,null,null,null,null,null,null,null,null,null,null,null,null,null,null,null,null,null,null,null,null,null,null,null,null,null,null,null,null,null,null,null,null,null,{"$f":"'Country information'!N159","v":"Netherlands"},{"$f":"'Country information'!O159","v":"Netherlands"},{"$f":"'Country information'!C159","v":"euro"},{"$f":"'Country information'!D159","v":"€"},{"$f":"'Country information'!E159","v":0.77},{"$f":"'Country information'!F159","v":40592.406041666669}]
[null,null,null,null,null,null,null,null,null,null,null,null,null,null,null,null,null,null,null,null,null,null,null,null,null,null,null,null,null,null,null,null,null,null,null,null,null,null,null,null,null,null,null,null,null,null,null,null,null,null,null,null,null,null,null,null,null,null,null,null,null,null,null,null,null,null,null,null,null,null,null,null,null,null,null,null,null,null,null,null,null,null,null,null,null,null,null,null,null,null,null,null,null,null,null,null,null,null,null,null,null,null,null,null,null,null,null,null,null,null,null,null,null,null,null,null,null,null,null,null,null,null,null,null,null,null,null,null,null,null,null,null,null,null,null,null,null,null,null,null,null,null,null,null,null,null,null,null,null,null,null,null,null,null,null,null,null,null,{"$f":"'Country information'!N160","v":"Netherlands Antilles"},{"$f":"'Country information'!O160","v":"Netherlands Antilles"},{"$f":"'Country information'!C160","v":"guilder"},{"$f":"'Country information'!D160","v":"NAf."},{"$f":"'Country information'!E160","v":1.78},{"$f":"'Country information'!F160","v":40592.406041666669}]
[null,null,null,null,null,null,null,null,null,null,null,null,null,null,null,null,null,null,null,null,null,null,null,null,null,null,null,null,null,null,null,null,null,null,null,null,null,null,null,null,null,null,null,null,null,null,null,null,null,null,null,null,null,null,null,null,null,null,null,null,null,null,null,null,null,null,null,null,null,null,null,null,null,null,null,null,null,null,null,null,null,null,null,null,null,null,null,null,null,null,null,null,null,null,null,null,null,null,null,null,null,null,null,null,null,null,null,null,null,null,null,null,null,null,null,null,null,null,null,null,null,null,null,null,null,null,null,null,null,null,null,null,null,null,null,null,null,null,null,null,null,null,null,null,null,null,null,null,null,null,null,null,null,null,null,null,null,null,{"$f":"'Country information'!N161","v":"New Caledonia"},{"$f":"'Country information'!O161","v":"New Caledonia"},{"$f":"'Country information'!C161","v":"franc"},{"$f":"'Country information'!D161","v":"XPF"},{"$f":"'Country information'!E161","v":80.113100000000003},{"$f":"'Country information'!F161","v":39413}]
[null,null,null,null,null,null,null,null,null,null,null,null,null,null,null,null,null,null,null,null,null,null,null,null,null,null,null,null,null,null,null,null,null,null,null,null,null,null,null,null,null,null,null,null,null,null,null,null,null,null,null,null,null,null,null,null,null,null,null,null,null,null,null,null,null,null,null,null,null,null,null,null,null,null,null,null,null,null,null,null,null,null,null,null,null,null,null,null,null,null,null,null,null,null,null,null,null,null,null,null,null,null,null,null,null,null,null,null,null,null,null,null,null,null,null,null,null,null,null,null,null,null,null,null,null,null,null,null,null,null,null,null,null,null,null,null,null,null,null,null,null,null,null,null,null,null,null,null,null,null,null,null,null,null,null,null,null,null,{"$f":"'Country information'!N162","v":"New Zealand"},{"$f":"'Country information'!O162","v":"New Zealand"},{"$f":"'Country information'!C162","v":"dollar"},{"$f":"'Country information'!D162","v":"NZ$"},{"$f":"'Country information'!E162","v":1.34},{"$f":"'Country information'!F162","v":40592.406041666669}]
[null,null,null,null,null,null,null,null,null,null,null,null,null,null,null,null,null,null,null,null,null,null,null,null,null,null,null,null,null,null,null,null,null,null,null,null,null,null,null,null,null,null,null,null,null,null,null,null,null,null,null,null,null,null,null,null,null,null,null,null,null,null,null,null,null,null,null,null,null,null,null,null,null,null,null,null,null,null,null,null,null,null,null,null,null,null,null,null,null,null,null,null,null,null,null,null,null,null,null,null,null,null,null,null,null,null,null,null,null,null,null,null,null,null,null,null,null,null,null,null,null,null,null,null,null,null,null,null,null,null,null,null,null,null,null,null,null,null,null,null,null,null,null,null,null,null,null,null,null,null,null,null,null,null,null,null,null,null,{"$f":"'Country information'!N163","v":"Nicaragua"},{"$f":"'Country information'!O163","v":"Nicaragua"},{"$f":"'Country information'!C163","v":"gold cordoba"},{"$f":"'Country information'!D163","v":"C$"},{"$f":"'Country information'!E163","v":21.79},{"$f":"'Country information'!F163","v":40592.406041666669}]
[null,null,null,null,null,null,null,null,null,null,null,null,null,null,null,null,null,null,null,null,null,null,null,null,null,null,null,null,null,null,null,null,null,null,null,null,null,null,null,null,null,null,null,null,null,null,null,null,null,null,null,null,null,null,null,null,null,null,null,null,null,null,null,null,null,null,null,null,null,null,null,null,null,null,null,null,null,null,null,null,null,null,null,null,null,null,null,null,null,null,null,null,null,null,null,null,null,null,null,null,null,null,null,null,null,null,null,null,null,null,null,null,null,null,null,null,null,null,null,null,null,null,null,null,null,null,null,null,null,null,null,null,null,null,null,null,null,null,null,null,null,null,null,null,null,null,null,null,null,null,null,null,null,null,null,null,null,null,{"$f":"'Country information'!N164","v":"Niger"},{"$f":"'Country information'!O164","v":"Niger"},{"$f":"'Country information'!C164","v":"franc"},{"$f":"'Country information'!D164","v":"CFAF"},{"$f":"'Country information'!E164","v":503.3},{"$f":"'Country information'!F164","v":40592.406041666669}]
[null,null,null,null,null,null,null,null,null,null,null,null,null,null,null,null,null,null,null,null,null,null,null,null,null,null,null,null,null,null,null,null,null,null,null,null,null,null,null,null,null,null,null,null,null,null,null,null,null,null,null,null,null,null,null,null,null,null,null,null,null,null,null,null,null,null,null,null,null,null,null,null,null,null,null,null,null,null,null,null,null,null,null,null,null,null,null,null,null,null,null,null,null,null,null,null,null,null,null,null,null,null,null,null,null,null,null,null,null,null,null,null,null,null,null,null,null,null,null,null,null,null,null,null,null,null,null,null,null,null,null,null,null,null,null,null,null,null,null,null,null,null,null,null,null,null,null,null,null,null,null,null,null,null,null,null,null,null,{"$f":"'Country information'!N165","v":"Nigeria"},{"$f":"'Country information'!O165","v":"Nigeria"},{"$f":"'Country information'!C165","v":"naira"},{"$f":"'Country information'!D165","v":"₦"},{"$f":"'Country information'!E165","v":150.6},{"$f":"'Country information'!F165","v":40592.406041666669}]
[null,null,null,null,null,null,null,null,null,null,null,null,null,null,null,null,null,null,null,null,null,null,null,null,null,null,null,null,null,null,null,null,null,null,null,null,null,null,null,null,null,null,null,null,null,null,null,null,null,null,null,null,null,null,null,null,null,null,null,null,null,null,null,null,null,null,null,null,null,null,null,null,null,null,null,null,null,null,null,null,null,null,null,null,null,null,null,null,null,null,null,null,null,null,null,null,null,null,null,null,null,null,null,null,null,null,null,null,null,null,null,null,null,null,null,null,null,null,null,null,null,null,null,null,null,null,null,null,null,null,null,null,null,null,null,null,null,null,null,null,null,null,null,null,null,null,null,null,null,null,null,null,null,null,null,null,null,null,{"$f":"'Country information'!N166","v":"Niue"},{"$f":"'Country information'!O166","v":"Niue"},{"$f":"'Country information'!C166","v":"dollar"},{"$f":"'Country information'!D166","v":"NZ$"},{"$f":"'Country information'!E166","v":1.34},{"$f":"'Country information'!F166","v":40592.406053240738}]
[null,null,null,null,null,null,null,null,null,null,null,null,null,null,null,null,null,null,null,null,null,null,null,null,null,null,null,null,null,null,null,null,null,null,null,null,null,null,null,null,null,null,null,null,null,null,null,null,null,null,null,null,null,null,null,null,null,null,null,null,null,null,null,null,null,null,null,null,null,null,null,null,null,null,null,null,null,null,null,null,null,null,null,null,null,null,null,null,null,null,null,null,null,null,null,null,null,null,null,null,null,null,null,null,null,null,null,null,null,null,null,null,null,null,null,null,null,null,null,null,null,null,null,null,null,null,null,null,null,null,null,null,null,null,null,null,null,null,null,null,null,null,null,null,null,null,null,null,null,null,null,null,null,null,null,null,null,null,{"$f":"'Country information'!N167","v":"Norfolk Island"},{"$f":"'Country information'!O167","v":"Norfolk Island"},{"$f":"'Country information'!C167","v":"dollar"},{"$f":"'Country information'!D167","v":"A$"},{"$f":"'Country information'!E167","v":1.04},{"$f":"'Country information'!F167","v":40592.406053240738}]
[null,null,null,null,null,null,null,null,null,null,null,null,null,null,null,null,null,null,null,null,null,null,null,null,null,null,null,null,null,null,null,null,null,null,null,null,null,null,null,null,null,null,null,null,null,null,null,null,null,null,null,null,null,null,null,null,null,null,null,null,null,null,null,null,null,null,null,null,null,null,null,null,null,null,null,null,null,null,null,null,null,null,null,null,null,null,null,null,null,null,null,null,null,null,null,null,null,null,null,null,null,null,null,null,null,null,null,null,null,null,null,null,null,null,null,null,null,null,null,null,null,null,null,null,null,null,null,null,null,null,null,null,null,null,null,null,null,null,null,null,null,null,null,null,null,null,null,null,null,null,null,null,null,null,null,null,null,null,{"$f":"'Country information'!N168","v":"Norway"},{"$f":"'Country information'!O168","v":"Norway"},{"$f":"'Country information'!C168","v":"krone"},{"$f":"'Country information'!D168","v":"NKr"},{"$f":"'Country information'!E168","v":6.2},{"$f":"'Country information'!F168","v":40592.406041666669}]
[null,null,null,null,null,null,null,null,null,null,null,null,null,null,null,null,null,null,null,null,null,null,null,null,null,null,null,null,null,null,null,null,null,null,null,null,null,null,null,null,null,null,null,null,null,null,null,null,null,null,null,null,null,null,null,null,null,null,null,null,null,null,null,null,null,null,null,null,null,null,null,null,null,null,null,null,null,null,null,null,null,null,null,null,null,null,null,null,null,null,null,null,null,null,null,null,null,null,null,null,null,null,null,null,null,null,null,null,null,null,null,null,null,null,null,null,null,null,null,null,null,null,null,null,null,null,null,null,null,null,null,null,null,null,null,null,null,null,null,null,null,null,null,null,null,null,null,null,null,null,null,null,null,null,null,null,null,null,{"$f":"'Country information'!N169","v":"Oman"},{"$f":"'Country information'!O169","v":"Oman"},{"$f":"'Country information'!C169","v":"rial"},{"$f":"'Country information'!D169","v":"﷼"},{"$f":"'Country information'!E169","v":0.39},{"$f":"'Country information'!F169","v":40592.406041666669}]
[null,null,null,null,null,null,null,null,null,null,null,null,null,null,null,null,null,null,null,null,null,null,null,null,null,null,null,null,null,null,null,null,null,null,null,null,null,null,null,null,null,null,null,null,null,null,null,null,null,null,null,null,null,null,null,null,null,null,null,null,null,null,null,null,null,null,null,null,null,null,null,null,null,null,null,null,null,null,null,null,null,null,null,null,null,null,null,null,null,null,null,null,null,null,null,null,null,null,null,null,null,null,null,null,null,null,null,null,null,null,null,null,null,null,null,null,null,null,null,null,null,null,null,null,null,null,null,null,null,null,null,null,null,null,null,null,null,null,null,null,null,null,null,null,null,null,null,null,null,null,null,null,null,null,null,null,null,null,{"$f":"'Country information'!N170","v":"Pakistan"},{"$f":"'Country information'!O170","v":"Pakistan"},{"$f":"'Country information'!C170","v":"rupee"},{"$f":"'Country information'!D170","v":"Rs"},{"$f":"'Country information'!E170","v":85.7},{"$f":"'Country information'!F170","v":40592.406041666669}]
[null,null,null,null,null,null,null,null,null,null,null,null,null,null,null,null,null,null,null,null,null,null,null,null,null,null,null,null,null,null,null,null,null,null,null,null,null,null,null,null,null,null,null,null,null,null,null,null,null,null,null,null,null,null,null,null,null,null,null,null,null,null,null,null,null,null,null,null,null,null,null,null,null,null,null,null,null,null,null,null,null,null,null,null,null,null,null,null,null,null,null,null,null,null,null,null,null,null,null,null,null,null,null,null,null,null,null,null,null,null,null,null,null,null,null,null,null,null,null,null,null,null,null,null,null,null,null,null,null,null,null,null,null,null,null,null,null,null,null,null,null,null,null,null,null,null,null,null,null,null,null,null,null,null,null,null,null,null,{"$f":"'Country information'!N171","v":"Palau"},{"$f":"'Country information'!O171","v":"Palau"},{"$f":"'Country information'!C171","v":"dollar"},{"$f":"'Country information'!D171","v":"US$"},{"$f":"'Country information'!E171","v":1},{"$f":"'Country information'!F171","v":40592.406041666669}]
[null,null,null,null,null,null,null,null,null,null,null,null,null,null,null,null,null,null,null,null,null,null,null,null,null,null,null,null,null,null,null,null,null,null,null,null,null,null,null,null,null,null,null,null,null,null,null,null,null,null,null,null,null,null,null,null,null,null,null,null,null,null,null,null,null,null,null,null,null,null,null,null,null,null,null,null,null,null,null,null,null,null,null,null,null,null,null,null,null,null,null,null,null,null,null,null,null,null,null,null,null,null,null,null,null,null,null,null,null,null,null,null,null,null,null,null,null,null,null,null,null,null,null,null,null,null,null,null,null,null,null,null,null,null,null,null,null,null,null,null,null,null,null,null,null,null,null,null,null,null,null,null,null,null,null,null,null,null,{"$f":"'Country information'!N172","v":"Panama"},{"$f":"'Country information'!O172","v":"Panama"},{"$f":"'Country information'!C172","v":"balboa"},{"$f":"'Country information'!D172","v":"B/."},{"$f":"'Country information'!E172","v":1},{"$f":"'Country information'!F172","v":40592.406041666669}]
[null,null,null,null,null,null,null,null,null,null,null,null,null,null,null,null,null,null,null,null,null,null,null,null,null,null,null,null,null,null,null,null,null,null,null,null,null,null,null,null,null,null,null,null,null,null,null,null,null,null,null,null,null,null,null,null,null,null,null,null,null,null,null,null,null,null,null,null,null,null,null,null,null,null,null,null,null,null,null,null,null,null,null,null,null,null,null,null,null,null,null,null,null,null,null,null,null,null,null,null,null,null,null,null,null,null,null,null,null,null,null,null,null,null,null,null,null,null,null,null,null,null,null,null,null,null,null,null,null,null,null,null,null,null,null,null,null,null,null,null,null,null,null,null,null,null,null,null,null,null,null,null,null,null,null,null,null,null,{"$f":"'Country information'!N173","v":"Papua New Guinea"},{"$f":"'Country information'!O173","v":"Papua New Guinea"},{"$f":"'Country information'!C173","v":"kina"},{"$f":"'Country information'!D173","v":"K"},{"$f":"'Country information'!E173","v":2.48},{"$f":"'Country information'!F173","v":40592.406041666669}]
[null,null,null,null,null,null,null,null,null,null,null,null,null,null,null,null,null,null,null,null,null,null,null,null,null,null,null,null,null,null,null,null,null,null,null,null,null,null,null,null,null,null,null,null,null,null,null,null,null,null,null,null,null,null,null,null,null,null,null,null,null,null,null,null,null,null,null,null,null,null,null,null,null,null,null,null,null,null,null,null,null,null,null,null,null,null,null,null,null,null,null,null,null,null,null,null,null,null,null,null,null,null,null,null,null,null,null,null,null,null,null,null,null,null,null,null,null,null,null,null,null,null,null,null,null,null,null,null,null,null,null,null,null,null,null,null,null,null,null,null,null,null,null,null,null,null,null,null,null,null,null,null,null,null,null,null,null,null,{"$f":"'Country information'!N174","v":"Paraguay"},{"$f":"'Country information'!O174","v":"Paraguay"},{"$f":"'Country information'!C174","v":"guarani"},{"$f":"'Country information'!D174","v":"PYG"},{"$f":"'Country information'!E174","v":4700},{"$f":"'Country information'!F174","v":40592.406041666669}]
[null,null,null,null,null,null,null,null,null,null,null,null,null,null,null,null,null,null,null,null,null,null,null,null,null,null,null,null,null,null,null,null,null,null,null,null,null,null,null,null,null,null,null,null,null,null,null,null,null,null,null,null,null,null,null,null,null,null,null,null,null,null,null,null,null,null,null,null,null,null,null,null,null,null,null,null,null,null,null,null,null,null,null,null,null,null,null,null,null,null,null,null,null,null,null,null,null,null,null,null,null,null,null,null,null,null,null,null,null,null,null,null,null,null,null,null,null,null,null,null,null,null,null,null,null,null,null,null,null,null,null,null,null,null,null,null,null,null,null,null,null,null,null,null,null,null,null,null,null,null,null,null,null,null,null,null,null,null,{"$f":"'Country information'!N175","v":"Peru"},{"$f":"'Country information'!O175","v":"Peru"},{"$f":"'Country information'!C175","v":"new sol"},{"$f":"'Country information'!D175","v":"S/."},{"$f":"'Country information'!E175","v":3.01485},{"$f":"'Country information'!F175","v":39413}]
[null,null,null,null,null,null,null,null,null,null,null,null,null,null,null,null,null,null,null,null,null,null,null,null,null,null,null,null,null,null,null,null,null,null,null,null,null,null,null,null,null,null,null,null,null,null,null,null,null,null,null,null,null,null,null,null,null,null,null,null,null,null,null,null,null,null,null,null,null,null,null,null,null,null,null,null,null,null,null,null,null,null,null,null,null,null,null,null,null,null,null,null,null,null,null,null,null,null,null,null,null,null,null,null,null,null,null,null,null,null,null,null,null,null,null,null,null,null,null,null,null,null,null,null,null,null,null,null,null,null,null,null,null,null,null,null,null,null,null,null,null,null,null,null,null,null,null,null,null,null,null,null,null,null,null,null,null,null,{"$f":"'Country information'!N176","v":"Philippines"},{"$f":"'Country information'!O176","v":"Philippines"},{"$f":"'Country information'!C176","v":"peso"},{"$f":"'Country information'!D176","v":"PHP"},{"$f":"'Country information'!E176","v":44.1},{"$f":"'Country information'!F176","v":40592.406041666669}]
[null,null,null,null,null,null,null,null,null,null,null,null,null,null,null,null,null,null,null,null,null,null,null,null,null,null,null,null,null,null,null,null,null,null,null,null,null,null,null,null,null,null,null,null,null,null,null,null,null,null,null,null,null,null,null,null,null,null,null,null,null,null,null,null,null,null,null,null,null,null,null,null,null,null,null,null,null,null,null,null,null,null,null,null,null,null,null,null,null,null,null,null,null,null,null,null,null,null,null,null,null,null,null,null,null,null,null,null,null,null,null,null,null,null,null,null,null,null,null,null,null,null,null,null,null,null,null,null,null,null,null,null,null,null,null,null,null,null,null,null,null,null,null,null,null,null,null,null,null,null,null,null,null,null,null,null,null,null,{"$f":"'Country information'!N177","v":"Pitcairn Island"},{"$f":"'Country information'!O177","v":"Pitcairn Island"},{"$f":"'Country information'!C177","v":"dollar"},{"$f":"'Country information'!D177","v":"NZ$"},{"$f":"'Country information'!E177","v":1.34},{"$f":"'Country information'!F177","v":40592.406053240738}]
[null,null,null,null,null,null,null,null,null,null,null,null,null,null,null,null,null,null,null,null,null,null,null,null,null,null,null,null,null,null,null,null,null,null,null,null,null,null,null,null,null,null,null,null,null,null,null,null,null,null,null,null,null,null,null,null,null,null,null,null,null,null,null,null,null,null,null,null,null,null,null,null,null,null,null,null,null,null,null,null,null,null,null,null,null,null,null,null,null,null,null,null,null,null,null,null,null,null,null,null,null,null,null,null,null,null,null,null,null,null,null,null,null,null,null,null,null,null,null,null,null,null,null,null,null,null,null,null,null,null,null,null,null,null,null,null,null,null,null,null,null,null,null,null,null,null,null,null,null,null,null,null,null,null,null,null,null,null,{"$f":"'Country information'!N178","v":"Poland"},{"$f":"'Country information'!O178","v":"Poland"},{"$f":"'Country information'!C178","v":"zloty"},{"$f":"'Country information'!D178","v":"zł"},{"$f":"'Country information'!E178","v":3.11},{"$f":"'Country information'!F178","v":40592.406041666669}]
[null,null,null,null,null,null,null,null,null,null,null,null,null,null,null,null,null,null,null,null,null,null,null,null,null,null,null,null,null,null,null,null,null,null,null,null,null,null,null,null,null,null,null,null,null,null,null,null,null,null,null,null,null,null,null,null,null,null,null,null,null,null,null,null,null,null,null,null,null,null,null,null,null,null,null,null,null,null,null,null,null,null,null,null,null,null,null,null,null,null,null,null,null,null,null,null,null,null,null,null,null,null,null,null,null,null,null,null,null,null,null,null,null,null,null,null,null,null,null,null,null,null,null,null,null,null,null,null,null,null,null,null,null,null,null,null,null,null,null,null,null,null,null,null,null,null,null,null,null,null,null,null,null,null,null,null,null,null,{"$f":"'Country information'!N179","v":"Portugal"},{"$f":"'Country information'!O179","v":"Portugal"},{"$f":"'Country information'!C179","v":"euro"},{"$f":"'Country information'!D179","v":"€"},{"$f":"'Country information'!E179","v":0.77},{"$f":"'Country information'!F179","v":40592.406041666669}]
[null,null,null,null,null,null,null,null,null,null,null,null,null,null,null,null,null,null,null,null,null,null,null,null,null,null,null,null,null,null,null,null,null,null,null,null,null,null,null,null,null,null,null,null,null,null,null,null,null,null,null,null,null,null,null,null,null,null,null,null,null,null,null,null,null,null,null,null,null,null,null,null,null,null,null,null,null,null,null,null,null,null,null,null,null,null,null,null,null,null,null,null,null,null,null,null,null,null,null,null,null,null,null,null,null,null,null,null,null,null,null,null,null,null,null,null,null,null,null,null,null,null,null,null,null,null,null,null,null,null,null,null,null,null,null,null,null,null,null,null,null,null,null,null,null,null,null,null,null,null,null,null,null,null,null,null,null,null,{"$f":"'Country information'!N180","v":"Puerto Rico"},{"$f":"'Country information'!O180","v":"Puerto Rico"},{"$f":"'Country information'!C180","v":"dollar"},{"$f":"'Country information'!D180","v":"US$"},{"$f":"'Country information'!E180","v":1},{"$f":"'Country information'!F180","v":40128.589282407411}]
[null,null,null,null,null,null,null,null,null,null,null,null,null,null,null,null,null,null,null,null,null,null,null,null,null,null,null,null,null,null,null,null,null,null,null,null,null,null,null,null,null,null,null,null,null,null,null,null,null,null,null,null,null,null,null,null,null,null,null,null,null,null,null,null,null,null,null,null,null,null,null,null,null,null,null,null,null,null,null,null,null,null,null,null,null,null,null,null,null,null,null,null,null,null,null,null,null,null,null,null,null,null,null,null,null,null,null,null,null,null,null,null,null,null,null,null,null,null,null,null,null,null,null,null,null,null,null,null,null,null,null,null,null,null,null,null,null,null,null,null,null,null,null,null,null,null,null,null,null,null,null,null,null,null,null,null,null,null,{"$f":"'Country information'!N181","v":"Qatar"},{"$f":"'Country information'!O181","v":"Qatar"},{"$f":"'Country information'!C181","v":"riyal"},{"$f":"'Country information'!D181","v":"QAR"},{"$f":"'Country information'!E181","v":3.64},{"$f":"'Country information'!F181","v":40592.406041666669}]
[null,null,null,null,null,null,null,null,null,null,null,null,null,null,null,null,null,null,null,null,null,null,null,null,null,null,null,null,null,null,null,null,null,null,null,null,null,null,null,null,null,null,null,null,null,null,null,null,null,null,null,null,null,null,null,null,null,null,null,null,null,null,null,null,null,null,null,null,null,null,null,null,null,null,null,null,null,null,null,null,null,null,null,null,null,null,null,null,null,null,null,null,null,null,null,null,null,null,null,null,null,null,null,null,null,null,null,null,null,null,null,null,null,null,null,null,null,null,null,null,null,null,null,null,null,null,null,null,null,null,null,null,null,null,null,null,null,null,null,null,null,null,null,null,null,null,null,null,null,null,null,null,null,null,null,null,null,null,{"$f":"'Country information'!N182","v":"Reunion"},{"$f":"'Country information'!O182","v":"Reunion"},{"$f":"'Country information'!C182","v":"euro"},{"$f":"'Country information'!D182","v":"€"},{"$f":"'Country information'!E182","v":0.77},{"$f":"'Country information'!F182","v":40592.406053240738}]
[null,null,null,null,null,null,null,null,null,null,null,null,null,null,null,null,null,null,null,null,null,null,null,null,null,null,null,null,null,null,null,null,null,null,null,null,null,null,null,null,null,null,null,null,null,null,null,null,null,null,null,null,null,null,null,null,null,null,null,null,null,null,null,null,null,null,null,null,null,null,null,null,null,null,null,null,null,null,null,null,null,null,null,null,null,null,null,null,null,null,null,null,null,null,null,null,null,null,null,null,null,null,null,null,null,null,null,null,null,null,null,null,null,null,null,null,null,null,null,null,null,null,null,null,null,null,null,null,null,null,null,null,null,null,null,null,null,null,null,null,null,null,null,null,null,null,null,null,null,null,null,null,null,null,null,null,null,null,{"$f":"'Country information'!N183","v":"Romania"},{"$f":"'Country information'!O183","v":"Romania"},{"$f":"'Country information'!C183","v":"Lei"},{"$f":"'Country information'!D183","v":"L"},{"$f":"'Country information'!E183","v":3.29},{"$f":"'Country information'!F183","v":40592.406041666669}]
[null,null,null,null,null,null,null,null,null,null,null,null,null,null,null,null,null,null,null,null,null,null,null,null,null,null,null,null,null,null,null,null,null,null,null,null,null,null,null,null,null,null,null,null,null,null,null,null,null,null,null,null,null,null,null,null,null,null,null,null,null,null,null,null,null,null,null,null,null,null,null,null,null,null,null,null,null,null,null,null,null,null,null,null,null,null,null,null,null,null,null,null,null,null,null,null,null,null,null,null,null,null,null,null,null,null,null,null,null,null,null,null,null,null,null,null,null,null,null,null,null,null,null,null,null,null,null,null,null,null,null,null,null,null,null,null,null,null,null,null,null,null,null,null,null,null,null,null,null,null,null,null,null,null,null,null,null,null,{"$f":"'Country information'!N184","v":"Russia"},{"$f":"'Country information'!O184","v":"Russia"},{"$f":"'Country information'!C184","v":"ruble"},{"$f":"'Country information'!D184","v":"руб"},{"$f":"'Country information'!E184","v":31.4},{"$f":"'Country information'!F184","v":40592.406041666669}]
[null,null,null,null,null,null,null,null,null,null,null,null,null,null,null,null,null,null,null,null,null,null,null,null,null,null,null,null,null,null,null,null,null,null,null,null,null,null,null,null,null,null,null,null,null,null,null,null,null,null,null,null,null,null,null,null,null,null,null,null,null,null,null,null,null,null,null,null,null,null,null,null,null,null,null,null,null,null,null,null,null,null,null,null,null,null,null,null,null,null,null,null,null,null,null,null,null,null,null,null,null,null,null,null,null,null,null,null,null,null,null,null,null,null,null,null,null,null,null,null,null,null,null,null,null,null,null,null,null,null,null,null,null,null,null,null,null,null,null,null,null,null,null,null,null,null,null,null,null,null,null,null,null,null,null,null,null,null,{"$f":"'Country information'!N185","v":"Rwanda"},{"$f":"'Country information'!O185","v":"Rwanda"},{"$f":"'Country information'!C185","v":"franc"},{"$f":"'Country information'!D185","v":"RF"},{"$f":"'Country information'!E185","v":592.02},{"$f":"'Country information'!F185","v":40592.406041666669}]
[null,null,null,null,null,null,null,null,null,null,null,null,null,null,null,null,null,null,null,null,null,null,null,null,null,null,null,null,null,null,null,null,null,null,null,null,null,null,null,null,null,null,null,null,null,null,null,null,null,null,null,null,null,null,null,null,null,null,null,null,null,null,null,null,null,null,null,null,null,null,null,null,null,null,null,null,null,null,null,null,null,null,null,null,null,null,null,null,null,null,null,null,null,null,null,null,null,null,null,null,null,null,null,null,null,null,null,null,null,null,null,null,null,null,null,null,null,null,null,null,null,null,null,null,null,null,null,null,null,null,null,null,null,null,null,null,null,null,null,null,null,null,null,null,null,null,null,null,null,null,null,null,null,null,null,null,null,null,{"$f":"'Country information'!N186","v":"Samoa (America)"},{"$f":"'Country information'!O186","v":"Samoa (America)"},{"$f":"'Country information'!C186","v":"dollar"},{"$f":"'Country information'!D186","v":"US$"},{"$f":"'Country information'!E186","v":1},{"$f":"'Country information'!F186","v":40128.589282407411}]
[null,null,null,null,null,null,null,null,null,null,null,null,null,null,null,null,null,null,null,null,null,null,null,null,null,null,null,null,null,null,null,null,null,null,null,null,null,null,null,null,null,null,null,null,null,null,null,null,null,null,null,null,null,null,null,null,null,null,null,null,null,null,null,null,null,null,null,null,null,null,null,null,null,null,null,null,null,null,null,null,null,null,null,null,null,null,null,null,null,null,null,null,null,null,null,null,null,null,null,null,null,null,null,null,null,null,null,null,null,null,null,null,null,null,null,null,null,null,null,null,null,null,null,null,null,null,null,null,null,null,null,null,null,null,null,null,null,null,null,null,null,null,null,null,null,null,null,null,null,null,null,null,null,null,null,null,null,null,{"$f":"'Country information'!N187","v":"Samoa (Western)"},{"$f":"'Country information'!O187","v":"Samoa (Western)"},{"$f":"'Country information'!C187","v":"tala"},{"$f":"'Country information'!D187","v":"WS$"},{"$f":"'Country information'!E187","v":2.6702300000000001},{"$f":"'Country information'!F187","v":39413}]
[null,null,null,null,null,null,null,null,null,null,null,null,null,null,null,null,null,null,null,null,null,null,null,null,null,null,null,null,null,null,null,null,null,null,null,null,null,null,null,null,null,null,null,null,null,null,null,null,null,null,null,null,null,null,null,null,null,null,null,null,null,null,null,null,null,null,null,null,null,null,null,null,null,null,null,null,null,null,null,null,null,null,null,null,null,null,null,null,null,null,null,null,null,null,null,null,null,null,null,null,null,null,null,null,null,null,null,null,null,null,null,null,null,null,null,null,null,null,null,null,null,null,null,null,null,null,null,null,null,null,null,null,null,null,null,null,null,null,null,null,null,null,null,null,null,null,null,null,null,null,null,null,null,null,null,null,null,null,{"$f":"'Country information'!N188","v":"San Marino"},{"$f":"'Country information'!O188","v":"San Marino"},{"$f":"'Country information'!C188","v":"euro"},{"$f":"'Country information'!D188","v":"€"},{"$f":"'Country information'!E188","v":0.77},{"$f":"'Country information'!F188","v":40592.406053240738}]
[null,null,null,null,null,null,null,null,null,null,null,null,null,null,null,null,null,null,null,null,null,null,null,null,null,null,null,null,null,null,null,null,null,null,null,null,null,null,null,null,null,null,null,null,null,null,null,null,null,null,null,null,null,null,null,null,null,null,null,null,null,null,null,null,null,null,null,null,null,null,null,null,null,null,null,null,null,null,null,null,null,null,null,null,null,null,null,null,null,null,null,null,null,null,null,null,null,null,null,null,null,null,null,null,null,null,null,null,null,null,null,null,null,null,null,null,null,null,null,null,null,null,null,null,null,null,null,null,null,null,null,null,null,null,null,null,null,null,null,null,null,null,null,null,null,null,null,null,null,null,null,null,null,null,null,null,null,null,{"$f":"'Country information'!N189","v":"Sao Tome & Principe"},{"$f":"'Country information'!O189","v":"Sao Tome & Principe"},{"$f":"'Country information'!C189","v":"dobra"},{"$f":"'Country information'!D189","v":"Db"},{"$f":"'Country information'!E189","v":18526.1191},{"$f":"'Country information'!F189","v":40592.406041666669}]
[null,null,null,null,null,null,null,null,null,null,null,null,null,null,null,null,null,null,null,null,null,null,null,null,null,null,null,null,null,null,null,null,null,null,null,null,null,null,null,null,null,null,null,null,null,null,null,null,null,null,null,null,null,null,null,null,null,null,null,null,null,null,null,null,null,null,null,null,null,null,null,null,null,null,null,null,null,null,null,null,null,null,null,null,null,null,null,null,null,null,null,null,null,null,null,null,null,null,null,null,null,null,null,null,null,null,null,null,null,null,null,null,null,null,null,null,null,null,null,null,null,null,null,null,null,null,null,null,null,null,null,null,null,null,null,null,null,null,null,null,null,null,null,null,null,null,null,null,null,null,null,null,null,null,null,null,null,null,{"$f":"'Country information'!N190","v":"Saudi Arabia"},{"$f":"'Country information'!O190","v":"Saudi Arabia"},{"$f":"'Country information'!C190","v":"riyal"},{"$f":"'Country information'!D190","v":"SRls"},{"$f":"'Country information'!E190","v":3.75},{"$f":"'Country information'!F190","v":40592.406041666669}]
[null,null,null,null,null,null,null,null,null,null,null,null,null,null,null,null,null,null,null,null,null,null,null,null,null,null,null,null,null,null,null,null,null,null,null,null,null,null,null,null,null,null,null,null,null,null,null,null,null,null,null,null,null,null,null,null,null,null,null,null,null,null,null,null,null,null,null,null,null,null,null,null,null,null,null,null,null,null,null,null,null,null,null,null,null,null,null,null,null,null,null,null,null,null,null,null,null,null,null,null,null,null,null,null,null,null,null,null,null,null,null,null,null,null,null,null,null,null,null,null,null,null,null,null,null,null,null,null,null,null,null,null,null,null,null,null,null,null,null,null,null,null,null,null,null,null,null,null,null,null,null,null,null,null,null,null,null,null,{"$f":"'Country information'!N191","v":"Senegal"},{"$f":"'Country information'!O191","v":"Senegal"},{"$f":"'Country information'!C191","v":"franc"},{"$f":"'Country information'!D191","v":"CFAF"},{"$f":"'Country information'!E191","v":503.3},{"$f":"'Country information'!F191","v":40592.406041666669}]
[null,null,null,null,null,null,null,null,null,null,null,null,null,null,null,null,null,null,null,null,null,null,null,null,null,null,null,null,null,null,null,null,null,null,null,null,null,null,null,null,null,null,null,null,null,null,null,null,null,null,null,null,null,null,null,null,null,null,null,null,null,null,null,null,null,null,null,null,null,null,null,null,null,null,null,null,null,null,null,null,null,null,null,null,null,null,null,null,null,null,null,null,null,null,null,null,null,null,null,null,null,null,null,null,null,null,null,null,null,null,null,null,null,null,null,null,null,null,null,null,null,null,null,null,null,null,null,null,null,null,null,null,null,null,null,null,null,null,null,null,null,null,null,null,null,null,null,null,null,null,null,null,null,null,null,null,null,null,{"$f":"'Country information'!N192","v":"Serbia"},{"$f":"'Country information'!O192","v":"Serbia"},{"$f":"'Country information'!C192","v":"dinar"},{"$f":"'Country information'!D192","v":"Din"},{"$f":"'Country information'!E192","v":0.77},{"$f":"'Country information'!F192","v":40592.406041666669}]
[null,null,null,null,null,null,null,null,null,null,null,null,null,null,null,null,null,null,null,null,null,null,null,null,null,null,null,null,null,null,null,null,null,null,null,null,null,null,null,null,null,null,null,null,null,null,null,null,null,null,null,null,null,null,null,null,null,null,null,null,null,null,null,null,null,null,null,null,null,null,null,null,null,null,null,null,null,null,null,null,null,null,null,null,null,null,null,null,null,null,null,null,null,null,null,null,null,null,null,null,null,null,null,null,null,null,null,null,null,null,null,null,null,null,null,null,null,null,null,null,null,null,null,null,null,null,null,null,null,null,null,null,null,null,null,null,null,null,null,null,null,null,null,null,null,null,null,null,null,null,null,null,null,null,null,null,null,null,{"$f":"'Country information'!N193","v":"Seychelles"},{"$f":"'Country information'!O193","v":"Seychelles"},{"$f":"'Country information'!C193","v":"rupee"},{"$f":"'Country information'!D193","v":"SR"},{"$f":"'Country information'!E193","v":12.1},{"$f":"'Country information'!F193","v":40592.406041666669}]
[null,null,null,null,null,null,null,null,null,null,null,null,null,null,null,null,null,null,null,null,null,null,null,null,null,null,null,null,null,null,null,null,null,null,null,null,null,null,null,null,null,null,null,null,null,null,null,null,null,null,null,null,null,null,null,null,null,null,null,null,null,null,null,null,null,null,null,null,null,null,null,null,null,null,null,null,null,null,null,null,null,null,null,null,null,null,null,null,null,null,null,null,null,null,null,null,null,null,null,null,null,null,null,null,null,null,null,null,null,null,null,null,null,null,null,null,null,null,null,null,null,null,null,null,null,null,null,null,null,null,null,null,null,null,null,null,null,null,null,null,null,null,null,null,null,null,null,null,null,null,null,null,null,null,null,null,null,null,{"$f":"'Country information'!N194","v":"Sierra Leone"},{"$f":"'Country information'!O194","v":"Sierra Leone"},{"$f":"'Country information'!C194","v":"leone"},{"$f":"'Country information'!D194","v":"Le"},{"$f":"'Country information'!E194","v":4146},{"$f":"'Country information'!F194","v":40592.406041666669}]
[null,null,null,null,null,null,null,null,null,null,null,null,null,null,null,null,null,null,null,null,null,null,null,null,null,null,null,null,null,null,null,null,null,null,null,null,null,null,null,null,null,null,null,null,null,null,null,null,null,null,null,null,null,null,null,null,null,null,null,null,null,null,null,null,null,null,null,null,null,null,null,null,null,null,null,null,null,null,null,null,null,null,null,null,null,null,null,null,null,null,null,null,null,null,null,null,null,null,null,null,null,null,null,null,null,null,null,null,null,null,null,null,null,null,null,null,null,null,null,null,null,null,null,null,null,null,null,null,null,null,null,null,null,null,null,null,null,null,null,null,null,null,null,null,null,null,null,null,null,null,null,null,null,null,null,null,null,null,{"$f":"'Country information'!N195","v":"Singapore"},{"$f":"'Country information'!O195","v":"Singapore"},{"$f":"'Country information'!C195","v":"dollar"},{"$f":"'Country information'!D195","v":"S$"},{"$f":"'Country information'!E195","v":1.32},{"$f":"'Country information'!F195","v":40592.406041666669}]
[null,null,null,null,null,null,null,null,null,null,null,null,null,null,null,null,null,null,null,null,null,null,null,null,null,null,null,null,null,null,null,null,null,null,null,null,null,null,null,null,null,null,null,null,null,null,null,null,null,null,null,null,null,null,null,null,null,null,null,null,null,null,null,null,null,null,null,null,null,null,null,null,null,null,null,null,null,null,null,null,null,null,null,null,null,null,null,null,null,null,null,null,null,null,null,null,null,null,null,null,null,null,null,null,null,null,null,null,null,null,null,null,null,null,null,null,null,null,null,null,null,null,null,null,null,null,null,null,null,null,null,null,null,null,null,null,null,null,null,null,null,null,null,null,null,null,null,null,null,null,null,null,null,null,null,null,null,null,{"$f":"'Country information'!N196","v":"Slovakia"},{"$f":"'Country information'!O196","v":"Slovakia"},{"$f":"'Country information'!C196","v":"koruna"},{"$f":"'Country information'!D196","v":"Sk"},{"$f":"'Country information'!E196","v":22.549199999999999},{"$f":"'Country information'!F196","v":39413}]
[null,null,null,null,null,null,null,null,null,null,null,null,null,null,null,null,null,null,null,null,null,null,null,null,null,null,null,null,null,null,null,null,null,null,null,null,null,null,null,null,null,null,null,null,null,null,null,null,null,null,null,null,null,null,null,null,null,null,null,null,null,null,null,null,null,null,null,null,null,null,null,null,null,null,null,null,null,null,null,null,null,null,null,null,null,null,null,null,null,null,null,null,null,null,null,null,null,null,null,null,null,null,null,null,null,null,null,null,null,null,null,null,null,null,null,null,null,null,null,null,null,null,null,null,null,null,null,null,null,null,null,null,null,null,null,null,null,null,null,null,null,null,null,null,null,null,null,null,null,null,null,null,null,null,null,null,null,null,{"$f":"'Country information'!N197","v":"Slovenia"},{"$f":"'Country information'!O197","v":"Slovenia"},{"$f":"'Country information'!C197","v":"euro"},{"$f":"'Country information'!D197","v":"€"},{"$f":"'Country information'!E197","v":0.77},{"$f":"'Country information'!F197","v":40592.406041666669}]
[null,null,null,null,null,null,null,null,null,null,null,null,null,null,null,null,null,null,null,null,null,null,null,null,null,null,null,null,null,null,null,null,null,null,null,null,null,null,null,null,null,null,null,null,null,null,null,null,null,null,null,null,null,null,null,null,null,null,null,null,null,null,null,null,null,null,null,null,null,null,null,null,null,null,null,null,null,null,null,null,null,null,null,null,null,null,null,null,null,null,null,null,null,null,null,null,null,null,null,null,null,null,null,null,null,null,null,null,null,null,null,null,null,null,null,null,null,null,null,null,null,null,null,null,null,null,null,null,null,null,null,null,null,null,null,null,null,null,null,null,null,null,null,null,null,null,null,null,null,null,null,null,null,null,null,null,null,null,{"$f":"'Country information'!N198","v":"Solomon Island"},{"$f":"'Country information'!O198","v":"Solomon Island"},{"$f":"'Country information'!C198","v":"dollar"},{"$f":"'Country information'!D198","v":"SI$"},{"$f":"'Country information'!E198","v":7.2949999999999999},{"$f":"'Country information'!F198","v":39413}]
[null,null,null,null,null,null,null,null,null,null,null,null,null,null,null,null,null,null,null,null,null,null,null,null,null,null,null,null,null,null,null,null,null,null,null,null,null,null,null,null,null,null,null,null,null,null,null,null,null,null,null,null,null,null,null,null,null,null,null,null,null,null,null,null,null,null,null,null,null,null,null,null,null,null,null,null,null,null,null,null,null,null,null,null,null,null,null,null,null,null,null,null,null,null,null,null,null,null,null,null,null,null,null,null,null,null,null,null,null,null,null,null,null,null,null,null,null,null,null,null,null,null,null,null,null,null,null,null,null,null,null,null,null,null,null,null,null,null,null,null,null,null,null,null,null,null,null,null,null,null,null,null,null,null,null,null,null,null,{"$f":"'Country information'!N199","v":"Somalia"},{"$f":"'Country information'!O199","v":"Somalia"},{"$f":"'Country information'!C199","v":"shilling"},{"$f":"'Country information'!D199","v":"So. Sh."},{"$f":"'Country information'!E199","v":1405.15},{"$f":"'Country information'!F199","v":39413}]
[null,null,null,null,null,null,null,null,null,null,null,null,null,null,null,null,null,null,null,null,null,null,null,null,null,null,null,null,null,null,null,null,null,null,null,null,null,null,null,null,null,null,null,null,null,null,null,null,null,null,null,null,null,null,null,null,null,null,null,null,null,null,null,null,null,null,null,null,null,null,null,null,null,null,null,null,null,null,null,null,null,null,null,null,null,null,null,null,null,null,null,null,null,null,null,null,null,null,null,null,null,null,null,null,null,null,null,null,null,null,null,null,null,null,null,null,null,null,null,null,null,null,null,null,null,null,null,null,null,null,null,null,null,null,null,null,null,null,null,null,null,null,null,null,null,null,null,null,null,null,null,null,null,null,null,null,null,null,{"$f":"'Country information'!N200","v":"South Africa"},{"$f":"'Country information'!O200","v":"South Africa"},{"$f":"'Country information'!C200","v":"rand"},{"$f":"'Country information'!D200","v":"R"},{"$f":"'Country information'!E200","v":7.07},{"$f":"'Country information'!F200","v":40592.406041666669}]
[null,null,null,null,null,null,null,null,null,null,null,null,null,null,null,null,null,null,null,null,null,null,null,null,null,null,null,null,null,null,null,null,null,null,null,null,null,null,null,null,null,null,null,null,null,null,null,null,null,null,null,null,null,null,null,null,null,null,null,null,null,null,null,null,null,null,null,null,null,null,null,null,null,null,null,null,null,null,null,null,null,null,null,null,null,null,null,null,null,null,null,null,null,null,null,null,null,null,null,null,null,null,null,null,null,null,null,null,null,null,null,null,null,null,null,null,null,null,null,null,null,null,null,null,null,null,null,null,null,null,null,null,null,null,null,null,null,null,null,null,null,null,null,null,null,null,null,null,null,null,null,null,null,null,null,null,null,null,{"$f":"'Country information'!N201","v":"Spain"},{"$f":"'Country information'!O201","v":"Spain"},{"$f":"'Country information'!C201","v":"euro"},{"$f":"'Country information'!D201","v":"€"},{"$f":"'Country information'!E201","v":0.77},{"$f":"'Country information'!F201","v":40592.406041666669}]
[null,null,null,null,null,null,null,null,null,null,null,null,null,null,null,null,null,null,null,null,null,null,null,null,null,null,null,null,null,null,null,null,null,null,null,null,null,null,null,null,null,null,null,null,null,null,null,null,null,null,null,null,null,null,null,null,null,null,null,null,null,null,null,null,null,null,null,null,null,null,null,null,null,null,null,null,null,null,null,null,null,null,null,null,null,null,null,null,null,null,null,null,null,null,null,null,null,null,null,null,null,null,null,null,null,null,null,null,null,null,null,null,null,null,null,null,null,null,null,null,null,null,null,null,null,null,null,null,null,null,null,null,null,null,null,null,null,null,null,null,null,null,null,null,null,null,null,null,null,null,null,null,null,null,null,null,null,null,{"$f":"'Country information'!N202","v":"Sri Lanka"},{"$f":"'Country information'!O202","v":"Sri Lanka"},{"$f":"'Country information'!C202","v":"rupee"},{"$f":"'Country information'!D202","v":"SLRs"},{"$f":"'Country information'!E202","v":111.35},{"$f":"'Country information'!F202","v":40592.406041666669}]
[null,null,null,null,null,null,null,null,null,null,null,null,null,null,null,null,null,null,null,null,null,null,null,null,null,null,null,null,null,null,null,null,null,null,null,null,null,null,null,null,null,null,null,null,null,null,null,null,null,null,null,null,null,null,null,null,null,null,null,null,null,null,null,null,null,null,null,null,null,null,null,null,null,null,null,null,null,null,null,null,null,null,null,null,null,null,null,null,null,null,null,null,null,null,null,null,null,null,null,null,null,null,null,null,null,null,null,null,null,null,null,null,null,null,null,null,null,null,null,null,null,null,null,null,null,null,null,null,null,null,null,null,null,null,null,null,null,null,null,null,null,null,null,null,null,null,null,null,null,null,null,null,null,null,null,null,null,null,{"$f":"'Country information'!N203","v":"St. Helena"},{"$f":"'Country information'!O203","v":"St. Helena"},{"$f":"'Country information'!C203","v":"pound"},{"$f":"'Country information'!D203","v":"£"},{"$f":"'Country information'!E203","v":0.64},{"$f":"'Country information'!F203","v":40592.406053240738}]
[null,null,null,null,null,null,null,null,null,null,null,null,null,null,null,null,null,null,null,null,null,null,null,null,null,null,null,null,null,null,null,null,null,null,null,null,null,null,null,null,null,null,null,null,null,null,null,null,null,null,null,null,null,null,null,null,null,null,null,null,null,null,null,null,null,null,null,null,null,null,null,null,null,null,null,null,null,null,null,null,null,null,null,null,null,null,null,null,null,null,null,null,null,null,null,null,null,null,null,null,null,null,null,null,null,null,null,null,null,null,null,null,null,null,null,null,null,null,null,null,null,null,null,null,null,null,null,null,null,null,null,null,null,null,null,null,null,null,null,null,null,null,null,null,null,null,null,null,null,null,null,null,null,null,null,null,null,null,{"$f":"'Country information'!N204","v":"St. Kitts and Nevis"},{"$f":"'Country information'!O204","v":"St. Kitts and Nevis"},{"$f":"'Country information'!C204","v":"dollar"},{"$f":"'Country information'!D204","v":"EC$"},{"$f":"'Country information'!E204","v":2.7},{"$f":"'Country information'!F204","v":40592.406053240738}]
[null,null,null,null,null,null,null,null,null,null,null,null,null,null,null,null,null,null,null,null,null,null,null,null,null,null,null,null,null,null,null,null,null,null,null,null,null,null,null,null,null,null,null,null,null,null,null,null,null,null,null,null,null,null,null,null,null,null,null,null,null,null,null,null,null,null,null,null,null,null,null,null,null,null,null,null,null,null,null,null,null,null,null,null,null,null,null,null,null,null,null,null,null,null,null,null,null,null,null,null,null,null,null,null,null,null,null,null,null,null,null,null,null,null,null,null,null,null,null,null,null,null,null,null,null,null,null,null,null,null,null,null,null,null,null,null,null,null,null,null,null,null,null,null,null,null,null,null,null,null,null,null,null,null,null,null,null,null,{"$f":"'Country information'!N205","v":"St. Lucia"},{"$f":"'Country information'!O205","v":"St. Lucia"},{"$f":"'Country information'!C205","v":"dollar"},{"$f":"'Country information'!D205","v":"EC$"},{"$f":"'Country information'!E205","v":2.7},{"$f":"'Country information'!F205","v":40592.406053240738}]
[null,null,null,null,null,null,null,null,null,null,null,null,null,null,null,null,null,null,null,null,null,null,null,null,null,null,null,null,null,null,null,null,null,null,null,null,null,null,null,null,null,null,null,null,null,null,null,null,null,null,null,null,null,null,null,null,null,null,null,null,null,null,null,null,null,null,null,null,null,null,null,null,null,null,null,null,null,null,null,null,null,null,null,null,null,null,null,null,null,null,null,null,null,null,null,null,null,null,null,null,null,null,null,null,null,null,null,null,null,null,null,null,null,null,null,null,null,null,null,null,null,null,null,null,null,null,null,null,null,null,null,null,null,null,null,null,null,null,null,null,null,null,null,null,null,null,null,null,null,null,null,null,null,null,null,null,null,null,{"$f":"'Country information'!N206","v":"St. Vincent and the Grenadines"},{"$f":"'Country information'!O206","v":"St. Vincent and the Grenadines"},{"$f":"'Country information'!C206","v":"dollar"},{"$f":"'Country information'!D206","v":"EC$"},{"$f":"'Country information'!E206","v":2.7},{"$f":"'Country information'!F206","v":40592.406053240738}]
[null,null,null,null,null,null,null,null,null,null,null,null,null,null,null,null,null,null,null,null,null,null,null,null,null,null,null,null,null,null,null,null,null,null,null,null,null,null,null,null,null,null,null,null,null,null,null,null,null,null,null,null,null,null,null,null,null,null,null,null,null,null,null,null,null,null,null,null,null,null,null,null,null,null,null,null,null,null,null,null,null,null,null,null,null,null,null,null,null,null,null,null,null,null,null,null,null,null,null,null,null,null,null,null,null,null,null,null,null,null,null,null,null,null,null,null,null,null,null,null,null,null,null,null,null,null,null,null,null,null,null,null,null,null,null,null,null,null,null,null,null,null,null,null,null,null,null,null,null,null,null,null,null,null,null,null,null,null,{"$f":"'Country information'!N207","v":"Sudan"},{"$f":"'Country information'!O207","v":"Sudan"},{"$f":"'Country information'!C207","v":"dinar"},{"$f":"'Country information'!D207","v":"SDD"},{"$f":"'Country information'!E207","v":2.37},{"$f":"'Country information'!F207","v":40592.406041666669}]
[null,null,null,null,null,null,null,null,null,null,null,null,null,null,null,null,null,null,null,null,null,null,null,null,null,null,null,null,null,null,null,null,null,null,null,null,null,null,null,null,null,null,null,null,null,null,null,null,null,null,null,null,null,null,null,null,null,null,null,null,null,null,null,null,null,null,null,null,null,null,null,null,null,null,null,null,null,null,null,null,null,null,null,null,null,null,null,null,null,null,null,null,null,null,null,null,null,null,null,null,null,null,null,null,null,null,null,null,null,null,null,null,null,null,null,null,null,null,null,null,null,null,null,null,null,null,null,null,null,null,null,null,null,null,null,null,null,null,null,null,null,null,null,null,null,null,null,null,null,null,null,null,null,null,null,null,null,null,{"$f":"'Country information'!N208","v":"Suriname"},{"$f":"'Country information'!O208","v":"Suriname"},{"$f":"'Country information'!C208","v":"Dollar"},{"$f":"'Country information'!D208","v":"$Sur"},{"$f":"'Country information'!E208","v":2.8},{"$f":"'Country information'!F208","v":40592.406041666669}]
[null,null,null,null,null,null,null,null,null,null,null,null,null,null,null,null,null,null,null,null,null,null,null,null,null,null,null,null,null,null,null,null,null,null,null,null,null,null,null,null,null,null,null,null,null,null,null,null,null,null,null,null,null,null,null,null,null,null,null,null,null,null,null,null,null,null,null,null,null,null,null,null,null,null,null,null,null,null,null,null,null,null,null,null,null,null,null,null,null,null,null,null,null,null,null,null,null,null,null,null,null,null,null,null,null,null,null,null,null,null,null,null,null,null,null,null,null,null,null,null,null,null,null,null,null,null,null,null,null,null,null,null,null,null,null,null,null,null,null,null,null,null,null,null,null,null,null,null,null,null,null,null,null,null,null,null,null,null,{"$f":"'Country information'!N209","v":"Svalbard and Jan Mayen Islands"},{"$f":"'Country information'!O209","v":"Svalbard and Jan Mayen Islands"},{"$f":"'Country information'!C209","v":"krone"},{"$f":"'Country information'!D209","v":"NKr"},{"$f":"'Country information'!E209","v":6.2},{"$f":"'Country information'!F209","v":40592.406053240738}]
[null,null,null,null,null,null,null,null,null,null,null,null,null,null,null,null,null,null,null,null,null,null,null,null,null,null,null,null,null,null,null,null,null,null,null,null,null,null,null,null,null,null,null,null,null,null,null,null,null,null,null,null,null,null,null,null,null,null,null,null,null,null,null,null,null,null,null,null,null,null,null,null,null,null,null,null,null,null,null,null,null,null,null,null,null,null,null,null,null,null,null,null,null,null,null,null,null,null,null,null,null,null,null,null,null,null,null,null,null,null,null,null,null,null,null,null,null,null,null,null,null,null,null,null,null,null,null,null,null,null,null,null,null,null,null,null,null,null,null,null,null,null,null,null,null,null,null,null,null,null,null,null,null,null,null,null,null,null,{"$f":"'Country information'!N210","v":"Swaziland"},{"$f":"'Country information'!O210","v":"Swaziland"},{"$f":"'Country information'!C210","v":"lilangeni"},{"$f":"'Country information'!D210","v":"SZL"},{"$f":"'Country information'!E210","v":7.07},{"$f":"'Country information'!F210","v":40592.406041666669}]
[null,null,null,null,null,null,null,null,null,null,null,null,null,null,null,null,null,null,null,null,null,null,null,null,null,null,null,null,null,null,null,null,null,null,null,null,null,null,null,null,null,null,null,null,null,null,null,null,null,null,null,null,null,null,null,null,null,null,null,null,null,null,null,null,null,null,null,null,null,null,null,null,null,null,null,null,null,null,null,null,null,null,null,null,null,null,null,null,null,null,null,null,null,null,null,null,null,null,null,null,null,null,null,null,null,null,null,null,null,null,null,null,null,null,null,null,null,null,null,null,null,null,null,null,null,null,null,null,null,null,null,null,null,null,null,null,null,null,null,null,null,null,null,null,null,null,null,null,null,null,null,null,null,null,null,null,null,null,{"$f":"'Country information'!N211","v":"Sweden"},{"$f":"'Country information'!O211","v":"Sweden"},{"$f":"'Country information'!C211","v":"kronor"},{"$f":"'Country information'!D211","v":"SEK"},{"$f":"'Country information'!E211","v":7.04},{"$f":"'Country information'!F211","v":40592.406041666669}]
[null,null,null,null,null,null,null,null,null,null,null,null,null,null,null,null,null,null,null,null,null,null,null,null,null,null,null,null,null,null,null,null,null,null,null,null,null,null,null,null,null,null,null,null,null,null,null,null,null,null,null,null,null,null,null,null,null,null,null,null,null,null,null,null,null,null,null,null,null,null,null,null,null,null,null,null,null,null,null,null,null,null,null,null,null,null,null,null,null,null,null,null,null,null,null,null,null,null,null,null,null,null,null,null,null,null,null,null,null,null,null,null,null,null,null,null,null,null,null,null,null,null,null,null,null,null,null,null,null,null,null,null,null,null,null,null,null,null,null,null,null,null,null,null,null,null,null,null,null,null,null,null,null,null,null,null,null,null,{"$f":"'Country information'!N212","v":"Switzerland"},{"$f":"'Country information'!O212","v":"Switzerland"},{"$f":"'Country information'!C212","v":"franc"},{"$f":"'Country information'!D212","v":"CHF"},{"$f":"'Country information'!E212","v":1},{"$f":"'Country information'!F212","v":40592.406041666669}]
[null,null,null,null,null,null,null,null,null,null,null,null,null,null,null,null,null,null,null,null,null,null,null,null,null,null,null,null,null,null,null,null,null,null,null,null,null,null,null,null,null,null,null,null,null,null,null,null,null,null,null,null,null,null,null,null,null,null,null,null,null,null,null,null,null,null,null,null,null,null,null,null,null,null,null,null,null,null,null,null,null,null,null,null,null,null,null,null,null,null,null,null,null,null,null,null,null,null,null,null,null,null,null,null,null,null,null,null,null,null,null,null,null,null,null,null,null,null,null,null,null,null,null,null,null,null,null,null,null,null,null,null,null,null,null,null,null,null,null,null,null,null,null,null,null,null,null,null,null,null,null,null,null,null,null,null,null,null,{"$f":"'Country information'!N213","v":"Syria"},{"$f":"'Country information'!O213","v":"Syria"},{"$f":"'Country information'!C213","v":"poundS"},{"$f":"'Country information'!D213","v":"£S"},{"$f":"'Country information'!E213","v":46.45},{"$f":"'Country information'!F213","v":40592.406041666669}]
[null,null,null,null,null,null,null,null,null,null,null,null,null,null,null,null,null,null,null,null,null,null,null,null,null,null,null,null,null,null,null,null,null,null,null,null,null,null,null,null,null,null,null,null,null,null,null,null,null,null,null,null,null,null,null,null,null,null,null,null,null,null,null,null,null,null,null,null,null,null,null,null,null,null,null,null,null,null,null,null,null,null,null,null,null,null,null,null,null,null,null,null,null,null,null,null,null,null,null,null,null,null,null,null,null,null,null,null,null,null,null,null,null,null,null,null,null,null,null,null,null,null,null,null,null,null,null,null,null,null,null,null,null,null,null,null,null,null,null,null,null,null,null,null,null,null,null,null,null,null,null,null,null,null,null,null,null,null,{"$f":"'Country information'!N214","v":"Tahiti"},{"$f":"'Country information'!O214","v":"Tahiti"},{"$f":"'Country information'!C214","v":"franc"},{"$f":"'Country information'!D214","v":"CFPF"},{"$f":"'Country information'!E214","v":80.127700000000004},{"$f":"'Country information'!F214","v":39413}]
[null,null,null,null,null,null,null,null,null,null,null,null,null,null,null,null,null,null,null,null,null,null,null,null,null,null,null,null,null,null,null,null,null,null,null,null,null,null,null,null,null,null,null,null,null,null,null,null,null,null,null,null,null,null,null,null,null,null,null,null,null,null,null,null,null,null,null,null,null,null,null,null,null,null,null,null,null,null,null,null,null,null,null,null,null,null,null,null,null,null,null,null,null,null,null,null,null,null,null,null,null,null,null,null,null,null,null,null,null,null,null,null,null,null,null,null,null,null,null,null,null,null,null,null,null,null,null,null,null,null,null,null,null,null,null,null,null,null,null,null,null,null,null,null,null,null,null,null,null,null,null,null,null,null,null,null,null,null,{"$f":"'Country information'!N215","v":"Taiwan"},{"$f":"'Country information'!O215","v":"Taiwan"},{"$f":"'Country information'!C215","v":"new dollar"},{"$f":"'Country information'!D215","v":"NT$"},{"$f":"'Country information'!E215","v":30.5},{"$f":"'Country information'!F215","v":40592.406041666669}]
[null,null,null,null,null,null,null,null,null,null,null,null,null,null,null,null,null,null,null,null,null,null,null,null,null,null,null,null,null,null,null,null,null,null,null,null,null,null,null,null,null,null,null,null,null,null,null,null,null,null,null,null,null,null,null,null,null,null,null,null,null,null,null,null,null,null,null,null,null,null,null,null,null,null,null,null,null,null,null,null,null,null,null,null,null,null,null,null,null,null,null,null,null,null,null,null,null,null,null,null,null,null,null,null,null,null,null,null,null,null,null,null,null,null,null,null,null,null,null,null,null,null,null,null,null,null,null,null,null,null,null,null,null,null,null,null,null,null,null,null,null,null,null,null,null,null,null,null,null,null,null,null,null,null,null,null,null,null,{"$f":"'Country information'!N216","v":"Tajikistan"},{"$f":"'Country information'!O216","v":"Tajikistan"},{"$f":"'Country information'!C216","v":"somoni"},{"$f":"'Country information'!D216","v":"TJS"},{"$f":"'Country information'!E216","v":4.4000000000000004},{"$f":"'Country information'!F216","v":40592.406041666669}]
[null,null,null,null,null,null,null,null,null,null,null,null,null,null,null,null,null,null,null,null,null,null,null,null,null,null,null,null,null,null,null,null,null,null,null,null,null,null,null,null,null,null,null,null,null,null,null,null,null,null,null,null,null,null,null,null,null,null,null,null,null,null,null,null,null,null,null,null,null,null,null,null,null,null,null,null,null,null,null,null,null,null,null,null,null,null,null,null,null,null,null,null,null,null,null,null,null,null,null,null,null,null,null,null,null,null,null,null,null,null,null,null,null,null,null,null,null,null,null,null,null,null,null,null,null,null,null,null,null,null,null,null,null,null,null,null,null,null,null,null,null,null,null,null,null,null,null,null,null,null,null,null,null,null,null,null,null,null,{"$f":"'Country information'!N217","v":"Tanzania"},{"$f":"'Country information'!O217","v":"Tanzania"},{"$f":"'Country information'!C217","v":"shilling"},{"$f":"'Country information'!D217","v":"TSh"},{"$f":"'Country information'!E217","v":1483},{"$f":"'Country information'!F217","v":40592.406041666669}]
[null,null,null,null,null,null,null,null,null,null,null,null,null,null,null,null,null,null,null,null,null,null,null,null,null,null,null,null,null,null,null,null,null,null,null,null,null,null,null,null,null,null,null,null,null,null,null,null,null,null,null,null,null,null,null,null,null,null,null,null,null,null,null,null,null,null,null,null,null,null,null,null,null,null,null,null,null,null,null,null,null,null,null,null,null,null,null,null,null,null,null,null,null,null,null,null,null,null,null,null,null,null,null,null,null,null,null,null,null,null,null,null,null,null,null,null,null,null,null,null,null,null,null,null,null,null,null,null,null,null,null,null,null,null,null,null,null,null,null,null,null,null,null,null,null,null,null,null,null,null,null,null,null,null,null,null,null,null,{"$f":"'Country information'!N218","v":"Thailand"},{"$f":"'Country information'!O218","v":"Thailand"},{"$f":"'Country information'!C218","v":"baht"},{"$f":"'Country information'!D218","v":"฿"},{"$f":"'Country information'!E218","v":30.18},{"$f":"'Country information'!F218","v":40592.406041666669}]
[null,null,null,null,null,null,null,null,null,null,null,null,null,null,null,null,null,null,null,null,null,null,null,null,null,null,null,null,null,null,null,null,null,null,null,null,null,null,null,null,null,null,null,null,null,null,null,null,null,null,null,null,null,null,null,null,null,null,null,null,null,null,null,null,null,null,null,null,null,null,null,null,null,null,null,null,null,null,null,null,null,null,null,null,null,null,null,null,null,null,null,null,null,null,null,null,null,null,null,null,null,null,null,null,null,null,null,null,null,null,null,null,null,null,null,null,null,null,null,null,null,null,null,null,null,null,null,null,null,null,null,null,null,null,null,null,null,null,null,null,null,null,null,null,null,null,null,null,null,null,null,null,null,null,null,null,null,null,{"$f":"'Country information'!N219","v":"Timor-Leste"},{"$f":"'Country information'!O219","v":"Timor-Leste"},{"$f":"'Country information'!C219","v":"dollar"},{"$f":"'Country information'!D219","v":"US$"},{"$f":"'Country information'!E219","v":1},{"$f":"'Country information'!F219","v":40128.589282407411}]
[null,null,null,null,null,null,null,null,null,null,null,null,null,null,null,null,null,null,null,null,null,null,null,null,null,null,null,null,null,null,null,null,null,null,null,null,null,null,null,null,null,null,null,null,null,null,null,null,null,null,null,null,null,null,null,null,null,null,null,null,null,null,null,null,null,null,null,null,null,null,null,null,null,null,null,null,null,null,null,null,null,null,null,null,null,null,null,null,null,null,null,null,null,null,null,null,null,null,null,null,null,null,null,null,null,null,null,null,null,null,null,null,null,null,null,null,null,null,null,null,null,null,null,null,null,null,null,null,null,null,null,null,null,null,null,null,null,null,null,null,null,null,null,null,null,null,null,null,null,null,null,null,null,null,null,null,null,null,{"$f":"'Country information'!N220","v":"Togo"},{"$f":"'Country information'!O220","v":"Togo"},{"$f":"'Country information'!C220","v":"franc"},{"$f":"'Country information'!D220","v":"CFAF"},{"$f":"'Country information'!E220","v":503.3},{"$f":"'Country information'!F220","v":40592.406041666669}]
[null,null,null,null,null,null,null,null,null,null,null,null,null,null,null,null,null,null,null,null,null,null,null,null,null,null,null,null,null,null,null,null,null,null,null,null,null,null,null,null,null,null,null,null,null,null,null,null,null,null,null,null,null,null,null,null,null,null,null,null,null,null,null,null,null,null,null,null,null,null,null,null,null,null,null,null,null,null,null,null,null,null,null,null,null,null,null,null,null,null,null,null,null,null,null,null,null,null,null,null,null,null,null,null,null,null,null,null,null,null,null,null,null,null,null,null,null,null,null,null,null,null,null,null,null,null,null,null,null,null,null,null,null,null,null,null,null,null,null,null,null,null,null,null,null,null,null,null,null,null,null,null,null,null,null,null,null,null,{"$f":"'Country information'!N221","v":"Tokelau"},{"$f":"'Country information'!O221","v":"Tokelau"},{"$f":"'Country information'!C221","v":"dollar"},{"$f":"'Country information'!D221","v":"NZ$"},{"$f":"'Country information'!E221","v":503.3},{"$f":"'Country information'!F221","v":40592.406064814815}]
[null,null,null,null,null,null,null,null,null,null,null,null,null,null,null,null,null,null,null,null,null,null,null,null,null,null,null,null,null,null,null,null,null,null,null,null,null,null,null,null,null,null,null,null,null,null,null,null,null,null,null,null,null,null,null,null,null,null,null,null,null,null,null,null,null,null,null,null,null,null,null,null,null,null,null,null,null,null,null,null,null,null,null,null,null,null,null,null,null,null,null,null,null,null,null,null,null,null,null,null,null,null,null,null,null,null,null,null,null,null,null,null,null,null,null,null,null,null,null,null,null,null,null,null,null,null,null,null,null,null,null,null,null,null,null,null,null,null,null,null,null,null,null,null,null,null,null,null,null,null,null,null,null,null,null,null,null,null,{"$f":"'Country information'!N222","v":"Tonga"},{"$f":"'Country information'!O222","v":"Tonga"},{"$f":"'Country information'!C222","v":"pa'anga"},{"$f":"'Country information'!D222","v":"PT or T$"},{"$f":"'Country information'!E222","v":1.77},{"$f":"'Country information'!F222","v":40592.406041666669}]
[null,null,null,null,null,null,null,null,null,null,null,null,null,null,null,null,null,null,null,null,null,null,null,null,null,null,null,null,null,null,null,null,null,null,null,null,null,null,null,null,null,null,null,null,null,null,null,null,null,null,null,null,null,null,null,null,null,null,null,null,null,null,null,null,null,null,null,null,null,null,null,null,null,null,null,null,null,null,null,null,null,null,null,null,null,null,null,null,null,null,null,null,null,null,null,null,null,null,null,null,null,null,null,null,null,null,null,null,null,null,null,null,null,null,null,null,null,null,null,null,null,null,null,null,null,null,null,null,null,null,null,null,null,null,null,null,null,null,null,null,null,null,null,null,null,null,null,null,null,null,null,null,null,null,null,null,null,null,{"$f":"'Country information'!N223","v":"Trinidad and Tobago"},{"$f":"'Country information'!O223","v":"Trinidad and Tobago"},{"$f":"'Country information'!C223","v":"dollar"},{"$f":"'Country information'!D223","v":"TT$"},{"$f":"'Country information'!E223","v":6.31},{"$f":"'Country information'!F223","v":39413}]
[null,null,null,null,null,null,null,null,null,null,null,null,null,null,null,null,null,null,null,null,null,null,null,null,null,null,null,null,null,null,null,null,null,null,null,null,null,null,null,null,null,null,null,null,null,null,null,null,null,null,null,null,null,null,null,null,null,null,null,null,null,null,null,null,null,null,null,null,null,null,null,null,null,null,null,null,null,null,null,null,null,null,null,null,null,null,null,null,null,null,null,null,null,null,null,null,null,null,null,null,null,null,null,null,null,null,null,null,null,null,null,null,null,null,null,null,null,null,null,null,null,null,null,null,null,null,null,null,null,null,null,null,null,null,null,null,null,null,null,null,null,null,null,null,null,null,null,null,null,null,null,null,null,null,null,null,null,null,{"$f":"'Country information'!N224","v":"Tunisia"},{"$f":"'Country information'!O224","v":"Tunisia"},{"$f":"'Country information'!C224","v":"dinar"},{"$f":"'Country information'!D224","v":"TD"},{"$f":"'Country information'!E224","v":1.45},{"$f":"'Country information'!F224","v":40592.406041666669}]
[null,null,null,null,null,null,null,null,null,null,null,null,null,null,null,null,null,null,null,null,null,null,null,null,null,null,null,null,null,null,null,null,null,null,null,null,null,null,null,null,null,null,null,null,null,null,null,null,null,null,null,null,null,null,null,null,null,null,null,null,null,null,null,null,null,null,null,null,null,null,null,null,null,null,null,null,null,null,null,null,null,null,null,null,null,null,null,null,null,null,null,null,null,null,null,null,null,null,null,null,null,null,null,null,null,null,null,null,null,null,null,null,null,null,null,null,null,null,null,null,null,null,null,null,null,null,null,null,null,null,null,null,null,null,null,null,null,null,null,null,null,null,null,null,null,null,null,null,null,null,null,null,null,null,null,null,null,null,{"$f":"'Country information'!N225","v":"Turkey"},{"$f":"'Country information'!O225","v":"Turkey"},{"$f":"'Country information'!C225","v":"new lira"},{"$f":"'Country information'!D225","v":"YTL"},{"$f":"'Country information'!E225","v":1.51},{"$f":"'Country information'!F225","v":40592.406053240738}]
[null,null,null,null,null,null,null,null,null,null,null,null,null,null,null,null,null,null,null,null,null,null,null,null,null,null,null,null,null,null,null,null,null,null,null,null,null,null,null,null,null,null,null,null,null,null,null,null,null,null,null,null,null,null,null,null,null,null,null,null,null,null,null,null,null,null,null,null,null,null,null,null,null,null,null,null,null,null,null,null,null,null,null,null,null,null,null,null,null,null,null,null,null,null,null,null,null,null,null,null,null,null,null,null,null,null,null,null,null,null,null,null,null,null,null,null,null,null,null,null,null,null,null,null,null,null,null,null,null,null,null,null,null,null,null,null,null,null,null,null,null,null,null,null,null,null,null,null,null,null,null,null,null,null,null,null,null,null,{"$f":"'Country information'!N226","v":"Turkmenistan"},{"$f":"'Country information'!O226","v":"Turkmenistan"},{"$f":"'Country information'!C226","v":"manat"},{"$f":"'Country information'!D226","v":"TMM"},{"$f":"'Country information'!E226","v":2.84},{"$f":"'Country information'!F226","v":40592.406053240738}]
[null,null,null,null,null,null,null,null,null,null,null,null,null,null,null,null,null,null,null,null,null,null,null,null,null,null,null,null,null,null,null,null,null,null,null,null,null,null,null,null,null,null,null,null,null,null,null,null,null,null,null,null,null,null,null,null,null,null,null,null,null,null,null,null,null,null,null,null,null,null,null,null,null,null,null,null,null,null,null,null,null,null,null,null,null,null,null,null,null,null,null,null,null,null,null,null,null,null,null,null,null,null,null,null,null,null,null,null,null,null,null,null,null,null,null,null,null,null,null,null,null,null,null,null,null,null,null,null,null,null,null,null,null,null,null,null,null,null,null,null,null,null,null,null,null,null,null,null,null,null,null,null,null,null,null,null,null,null,{"$f":"'Country information'!N227","v":"Turks and Caicos Islands"},{"$f":"'Country information'!O227","v":"Turks and Caicos Islands"},{"$f":"'Country information'!C227","v":"dollar"},{"$f":"'Country information'!D227","v":"US$"},{"$f":"'Country information'!E227","v":1},{"$f":"'Country information'!F227","v":40128.589282407411}]
[null,null,null,null,null,null,null,null,null,null,null,null,null,null,null,null,null,null,null,null,null,null,null,null,null,null,null,null,null,null,null,null,null,null,null,null,null,null,null,null,null,null,null,null,null,null,null,null,null,null,null,null,null,null,null,null,null,null,null,null,null,null,null,null,null,null,null,null,null,null,null,null,null,null,null,null,null,null,null,null,null,null,null,null,null,null,null,null,null,null,null,null,null,null,null,null,null,null,null,null,null,null,null,null,null,null,null,null,null,null,null,null,null,null,null,null,null,null,null,null,null,null,null,null,null,null,null,null,null,null,null,null,null,null,null,null,null,null,null,null,null,null,null,null,null,null,null,null,null,null,null,null,null,null,null,null,null,null,{"$f":"'Country information'!N228","v":"Tuvalu"},{"$f":"'Country information'!O228","v":"Tuvalu"},{"$f":"'Country information'!C228","v":"dollar"},{"$f":"'Country information'!D228","v":"A$"},{"$f":"'Country information'!E228","v":1.04},{"$f":"'Country information'!F228","v":40592.406053240738}]
[null,null,null,null,null,null,null,null,null,null,null,null,null,null,null,null,null,null,null,null,null,null,null,null,null,null,null,null,null,null,null,null,null,null,null,null,null,null,null,null,null,null,null,null,null,null,null,null,null,null,null,null,null,null,null,null,null,null,null,null,null,null,null,null,null,null,null,null,null,null,null,null,null,null,null,null,null,null,null,null,null,null,null,null,null,null,null,null,null,null,null,null,null,null,null,null,null,null,null,null,null,null,null,null,null,null,null,null,null,null,null,null,null,null,null,null,null,null,null,null,null,null,null,null,null,null,null,null,null,null,null,null,null,null,null,null,null,null,null,null,null,null,null,null,null,null,null,null,null,null,null,null,null,null,null,null,null,null,{"$f":"'Country information'!N229","v":"Uganda"},{"$f":"'Country information'!O229","v":"Uganda"},{"$f":"'Country information'!C229","v":"shilling"},{"$f":"'Country information'!D229","v":"USh"},{"$f":"'Country information'!E229","v":2313},{"$f":"'Country information'!F229","v":40592.406053240738}]
[null,null,null,null,null,null,null,null,null,null,null,null,null,null,null,null,null,null,null,null,null,null,null,null,null,null,null,null,null,null,null,null,null,null,null,null,null,null,null,null,null,null,null,null,null,null,null,null,null,null,null,null,null,null,null,null,null,null,null,null,null,null,null,null,null,null,null,null,null,null,null,null,null,null,null,null,null,null,null,null,null,null,null,null,null,null,null,null,null,null,null,null,null,null,null,null,null,null,null,null,null,null,null,null,null,null,null,null,null,null,null,null,null,null,null,null,null,null,null,null,null,null,null,null,null,null,null,null,null,null,null,null,null,null,null,null,null,null,null,null,null,null,null,null,null,null,null,null,null,null,null,null,null,null,null,null,null,null,{"$f":"'Country information'!N230","v":"Ukraine"},{"$f":"'Country information'!O230","v":"Ukraine"},{"$f":"'Country information'!C230","v":"Hryvnia"},{"$f":"'Country information'!D230","v":"UAH"},{"$f":"'Country information'!E230","v":7.89},{"$f":"'Country information'!F230","v":40592.406053240738}]
[null,null,null,null,null,null,null,null,null,null,null,null,null,null,null,null,null,null,null,null,null,null,null,null,null,null,null,null,null,null,null,null,null,null,null,null,null,null,null,null,null,null,null,null,null,null,null,null,null,null,null,null,null,null,null,null,null,null,null,null,null,null,null,null,null,null,null,null,null,null,null,null,null,null,null,null,null,null,null,null,null,null,null,null,null,null,null,null,null,null,null,null,null,null,null,null,null,null,null,null,null,null,null,null,null,null,null,null,null,null,null,null,null,null,null,null,null,null,null,null,null,null,null,null,null,null,null,null,null,null,null,null,null,null,null,null,null,null,null,null,null,null,null,null,null,null,null,null,null,null,null,null,null,null,null,null,null,null,{"$f":"'Country information'!N231","v":"United Arab Emirates"},{"$f":"'Country information'!O231","v":"United Arab Emirates"},{"$f":"'Country information'!C231","v":"dirham"},{"$f":"'Country information'!D231","v":"Dh"},{"$f":"'Country information'!E231","v":3.67},{"$f":"'Country information'!F231","v":40592.406053240738}]
[null,null,null,null,null,null,null,null,null,null,null,null,null,null,null,null,null,null,null,null,null,null,null,null,null,null,null,null,null,null,null,null,null,null,null,null,null,null,null,null,null,null,null,null,null,null,null,null,null,null,null,null,null,null,null,null,null,null,null,null,null,null,null,null,null,null,null,null,null,null,null,null,null,null,null,null,null,null,null,null,null,null,null,null,null,null,null,null,null,null,null,null,null,null,null,null,null,null,null,null,null,null,null,null,null,null,null,null,null,null,null,null,null,null,null,null,null,null,null,null,null,null,null,null,null,null,null,null,null,null,null,null,null,null,null,null,null,null,null,null,null,null,null,null,null,null,null,null,null,null,null,null,null,null,null,null,null,null,{"$f":"'Country information'!N232","v":"United Kingdom"},{"$f":"'Country information'!O232","v":"United Kingdom"},{"$f":"'Country information'!C232","v":"pound"},{"$f":"'Country information'!D232","v":"£"},{"$f":"'Country information'!E232","v":0.64},{"$f":"'Country information'!F232","v":40592.406053240738}]
[null,null,null,null,null,null,null,null,null,null,null,null,null,null,null,null,null,null,null,null,null,null,null,null,null,null,null,null,null,null,null,null,null,null,null,null,null,null,null,null,null,null,null,null,null,null,null,null,null,null,null,null,null,null,null,null,null,null,null,null,null,null,null,null,null,null,null,null,null,null,null,null,null,null,null,null,null,null,null,null,null,null,null,null,null,null,null,null,null,null,null,null,null,null,null,null,null,null,null,null,null,null,null,null,null,null,null,null,null,null,null,null,null,null,null,null,null,null,null,null,null,null,null,null,null,null,null,null,null,null,null,null,null,null,null,null,null,null,null,null,null,null,null,null,null,null,null,null,null,null,null,null,null,null,null,null,null,null,{"$f":"'Country information'!N233","v":"United States"},{"$f":"'Country information'!O233","v":"United States"},{"$f":"'Country information'!C233","v":"dollar"},{"$f":"'Country information'!D233","v":"US$"},{"$f":"'Country information'!E233","v":1},{"$f":"'Country information'!F233","v":40128.589282407411}]
[null,null,null,null,null,null,null,null,null,null,null,null,null,null,null,null,null,null,null,null,null,null,null,null,null,null,null,null,null,null,null,null,null,null,null,null,null,null,null,null,null,null,null,null,null,null,null,null,null,null,null,null,null,null,null,null,null,null,null,null,null,null,null,null,null,null,null,null,null,null,null,null,null,null,null,null,null,null,null,null,null,null,null,null,null,null,null,null,null,null,null,null,null,null,null,null,null,null,null,null,null,null,null,null,null,null,null,null,null,null,null,null,null,null,null,null,null,null,null,null,null,null,null,null,null,null,null,null,null,null,null,null,null,null,null,null,null,null,null,null,null,null,null,null,null,null,null,null,null,null,null,null,null,null,null,null,null,null,{"$f":"'Country information'!N234","v":"Uruguay"},{"$f":"'Country information'!O234","v":"Uruguay"},{"$f":"'Country information'!C234","v":"peso uruguayo"},{"$f":"'Country information'!D234","v":"$U"},{"$f":"'Country information'!E234","v":19.899999999999999},{"$f":"'Country information'!F234","v":40592.406053240738}]
[null,null,null,null,null,null,null,null,null,null,null,null,null,null,null,null,null,null,null,null,null,null,null,null,null,null,null,null,null,null,null,null,null,null,null,null,null,null,null,null,null,null,null,null,null,null,null,null,null,null,null,null,null,null,null,null,null,null,null,null,null,null,null,null,null,null,null,null,null,null,null,null,null,null,null,null,null,null,null,null,null,null,null,null,null,null,null,null,null,null,null,null,null,null,null,null,null,null,null,null,null,null,null,null,null,null,null,null,null,null,null,null,null,null,null,null,null,null,null,null,null,null,null,null,null,null,null,null,null,null,null,null,null,null,null,null,null,null,null,null,null,null,null,null,null,null,null,null,null,null,null,null,null,null,null,null,null,null,{"$f":"'Country information'!N235","v":"Uzbekistan"},{"$f":"'Country information'!O235","v":"Uzbekistan"},{"$f":"'Country information'!C235","v":"som"},{"$f":"'Country information'!D235","v":"UZS"},{"$f":"'Country information'!E235","v":1645},{"$f":"'Country information'!F235","v":40592.406053240738}]
[null,null,null,null,null,null,null,null,null,null,null,null,null,null,null,null,null,null,null,null,null,null,null,null,null,null,null,null,null,null,null,null,null,null,null,null,null,null,null,null,null,null,null,null,null,null,null,null,null,null,null,null,null,null,null,null,null,null,null,null,null,null,null,null,null,null,null,null,null,null,null,null,null,null,null,null,null,null,null,null,null,null,null,null,null,null,null,null,null,null,null,null,null,null,null,null,null,null,null,null,null,null,null,null,null,null,null,null,null,null,null,null,null,null,null,null,null,null,null,null,null,null,null,null,null,null,null,null,null,null,null,null,null,null,null,null,null,null,null,null,null,null,null,null,null,null,null,null,null,null,null,null,null,null,null,null,null,null,{"$f":"'Country information'!N236","v":"Vanuatu"},{"$f":"'Country information'!O236","v":"Vanuatu"},{"$f":"'Country information'!C236","v":"vatu"},{"$f":"'Country information'!D236","v":"VT"},{"$f":"'Country information'!E236","v":92.59},{"$f":"'Country information'!F236","v":40592.406053240738}]
[null,null,null,null,null,null,null,null,null,null,null,null,null,null,null,null,null,null,null,null,null,null,null,null,null,null,null,null,null,null,null,null,null,null,null,null,null,null,null,null,null,null,null,null,null,null,null,null,null,null,null,null,null,null,null,null,null,null,null,null,null,null,null,null,null,null,null,null,null,null,null,null,null,null,null,null,null,null,null,null,null,null,null,null,null,null,null,null,null,null,null,null,null,null,null,null,null,null,null,null,null,null,null,null,null,null,null,null,null,null,null,null,null,null,null,null,null,null,null,null,null,null,null,null,null,null,null,null,null,null,null,null,null,null,null,null,null,null,null,null,null,null,null,null,null,null,null,null,null,null,null,null,null,null,null,null,null,null,{"$f":"'Country information'!N237","v":"Vatican"},{"$f":"'Country information'!O237","v":"Vatican"},{"$f":"'Country information'!C237","v":"euro"},{"$f":"'Country information'!D237","v":"€"},{"$f":"'Country information'!E237","v":0.77},{"$f":"'Country information'!F237","v":40592.406053240738}]
[null,null,null,null,null,null,null,null,null,null,null,null,null,null,null,null,null,null,null,null,null,null,null,null,null,null,null,null,null,null,null,null,null,null,null,null,null,null,null,null,null,null,null,null,null,null,null,null,null,null,null,null,null,null,null,null,null,null,null,null,null,null,null,null,null,null,null,null,null,null,null,null,null,null,null,null,null,null,null,null,null,null,null,null,null,null,null,null,null,null,null,null,null,null,null,null,null,null,null,null,null,null,null,null,null,null,null,null,null,null,null,null,null,null,null,null,null,null,null,null,null,null,null,null,null,null,null,null,null,null,null,null,null,null,null,null,null,null,null,null,null,null,null,null,null,null,null,null,null,null,null,null,null,null,null,null,null,null,{"$f":"'Country information'!N238","v":"Venezuela"},{"$f":"'Country information'!O238","v":"Venezuela"},{"$f":"'Country information'!C238","v":"bolivar"},{"$f":"'Country information'!D238","v":"Bs"},{"$f":"'Country information'!E238","v":2.6},{"$f":"'Country information'!F238","v":39731.583252314813}]
[null,null,null,null,null,null,null,null,null,null,null,null,null,null,null,null,null,null,null,null,null,null,null,null,null,null,null,null,null,null,null,null,null,null,null,null,null,null,null,null,null,null,null,null,null,null,null,null,null,null,null,null,null,null,null,null,null,null,null,null,null,null,null,null,null,null,null,null,null,null,null,null,null,null,null,null,null,null,null,null,null,null,null,null,null,null,null,null,null,null,null,null,null,null,null,null,null,null,null,null,null,null,null,null,null,null,null,null,null,null,null,null,null,null,null,null,null,null,null,null,null,null,null,null,null,null,null,null,null,null,null,null,null,null,null,null,null,null,null,null,null,null,null,null,null,null,null,null,null,null,null,null,null,null,null,null,null,null,{"$f":"'Country information'!N239","v":"Vietnam"},{"$f":"'Country information'!O239","v":"Vietnam"},{"$f":"'Country information'!C239","v":"dong"},{"$f":"'Country information'!D239","v":"₫"},{"$f":"'Country information'!E239","v":19500},{"$f":"'Country information'!F239","v":40592.406053240738}]
[null,null,null,null,null,null,null,null,null,null,null,null,null,null,null,null,null,null,null,null,null,null,null,null,null,null,null,null,null,null,null,null,null,null,null,null,null,null,null,null,null,null,null,null,null,null,null,null,null,null,null,null,null,null,null,null,null,null,null,null,null,null,null,null,null,null,null,null,null,null,null,null,null,null,null,null,null,null,null,null,null,null,null,null,null,null,null,null,null,null,null,null,null,null,null,null,null,null,null,null,null,null,null,null,null,null,null,null,null,null,null,null,null,null,null,null,null,null,null,null,null,null,null,null,null,null,null,null,null,null,null,null,null,null,null,null,null,null,null,null,null,null,null,null,null,null,null,null,null,null,null,null,null,null,null,null,null,null,{"$f":"'Country information'!N240","v":"Virgin Islands"},{"$f":"'Country information'!O240","v":"Virgin Islands"},{"$f":"'Country information'!C240","v":"dollar"},{"$f":"'Country information'!D240","v":"US$"},{"$f":"'Country information'!E240","v":1},{"$f":"'Country information'!F240","v":40128.589282407411}]
[null,null,null,null,null,null,null,null,null,null,null,null,null,null,null,null,null,null,null,null,null,null,null,null,null,null,null,null,null,null,null,null,null,null,null,null,null,null,null,null,null,null,null,null,null,null,null,null,null,null,null,null,null,null,null,null,null,null,null,null,null,null,null,null,null,null,null,null,null,null,null,null,null,null,null,null,null,null,null,null,null,null,null,null,null,null,null,null,null,null,null,null,null,null,null,null,null,null,null,null,null,null,null,null,null,null,null,null,null,null,null,null,null,null,null,null,null,null,null,null,null,null,null,null,null,null,null,null,null,null,null,null,null,null,null,null,null,null,null,null,null,null,null,null,null,null,null,null,null,null,null,null,null,null,null,null,null,null,{"$f":"'Country information'!N241","v":"Wake Island"},{"$f":"'Country information'!O241","v":"Wake Island"},{"$f":"'Country information'!C241","v":"dollar"},{"$f":"'Country information'!D241","v":"US$"},{"$f":"'Country information'!E241","v":1},{"$f":"'Country information'!F241","v":40128.589282407411}]
[null,null,null,null,null,null,null,null,null,null,null,null,null,null,null,null,null,null,null,null,null,null,null,null,null,null,null,null,null,null,null,null,null,null,null,null,null,null,null,null,null,null,null,null,null,null,null,null,null,null,null,null,null,null,null,null,null,null,null,null,null,null,null,null,null,null,null,null,null,null,null,null,null,null,null,null,null,null,null,null,null,null,null,null,null,null,null,null,null,null,null,null,null,null,null,null,null,null,null,null,null,null,null,null,null,null,null,null,null,null,null,null,null,null,null,null,null,null,null,null,null,null,null,null,null,null,null,null,null,null,null,null,null,null,null,null,null,null,null,null,null,null,null,null,null,null,null,null,null,null,null,null,null,null,null,null,null,null,{"$f":"'Country information'!N242","v":"Wallis and Futuna Islands"},{"$f":"'Country information'!O242","v":"Wallis and Futuna Islands"},{"$f":"'Country information'!C242","v":"franc"},{"$f":"'Country information'!D242","v":"CFPF"},{"$f":"'Country information'!E242","v":80.127700000000004},{"$f":"'Country information'!F242","v":39413}]
[null,null,null,null,null,null,null,null,null,null,null,null,null,null,null,null,null,null,null,null,null,null,null,null,null,null,null,null,null,null,null,null,null,null,null,null,null,null,null,null,null,null,null,null,null,null,null,null,null,null,null,null,null,null,null,null,null,null,null,null,null,null,null,null,null,null,null,null,null,null,null,null,null,null,null,null,null,null,null,null,null,null,null,null,null,null,null,null,null,null,null,null,null,null,null,null,null,null,null,null,null,null,null,null,null,null,null,null,null,null,null,null,null,null,null,null,null,null,null,null,null,null,null,null,null,null,null,null,null,null,null,null,null,null,null,null,null,null,null,null,null,null,null,null,null,null,null,null,null,null,null,null,null,null,null,null,null,null,{"$f":"'Country information'!N243","v":"Western Sahara"},{"$f":"'Country information'!O243","v":"Western Sahara"},{"$f":"'Country information'!C243","v":"euro"},{"$f":"'Country information'!D243","v":"€"},{"$f":"'Country information'!E243","v":0.77},{"$f":"'Country information'!F243","v":40592.406053240738}]
[null,null,null,null,null,null,null,null,null,null,null,null,null,null,null,null,null,null,null,null,null,null,null,null,null,null,null,null,null,null,null,null,null,null,null,null,null,null,null,null,null,null,null,null,null,null,null,null,null,null,null,null,null,null,null,null,null,null,null,null,null,null,null,null,null,null,null,null,null,null,null,null,null,null,null,null,null,null,null,null,null,null,null,null,null,null,null,null,null,null,null,null,null,null,null,null,null,null,null,null,null,null,null,null,null,null,null,null,null,null,null,null,null,null,null,null,null,null,null,null,null,null,null,null,null,null,null,null,null,null,null,null,null,null,null,null,null,null,null,null,null,null,null,null,null,null,null,null,null,null,null,null,null,null,null,null,null,null,{"$f":"'Country information'!N244","v":"Western Samoa"},{"$f":"'Country information'!O244","v":"Western Samoa"},{"$f":"'Country information'!C244","v":"tala"},{"$f":"'Country information'!D244","v":"WS$"},{"$f":"'Country information'!E244","v":2.23},{"$f":"'Country information'!F244","v":40592.406053240738}]
[null,null,null,null,null,null,null,null,null,null,null,null,null,null,null,null,null,null,null,null,null,null,null,null,null,null,null,null,null,null,null,null,null,null,null,null,null,null,null,null,null,null,null,null,null,null,null,null,null,null,null,null,null,null,null,null,null,null,null,null,null,null,null,null,null,null,null,null,null,null,null,null,null,null,null,null,null,null,null,null,null,null,null,null,null,null,null,null,null,null,null,null,null,null,null,null,null,null,null,null,null,null,null,null,null,null,null,null,null,null,null,null,null,null,null,null,null,null,null,null,null,null,null,null,null,null,null,null,null,null,null,null,null,null,null,null,null,null,null,null,null,null,null,null,null,null,null,null,null,null,null,null,null,null,null,null,null,null,{"$f":"'Country information'!N245","v":"Yemen"},{"$f":"'Country information'!O245","v":"Yemen"},{"$f":"'Country information'!C245","v":"rial"},{"$f":"'Country information'!D245","v":"YRls"},{"$f":"'Country information'!E245","v":214},{"$f":"'Country information'!F245","v":40592.406053240738}]
[null,null,null,null,null,null,null,null,null,null,null,null,null,null,null,null,null,null,null,null,null,null,null,null,null,null,null,null,null,null,null,null,null,null,null,null,null,null,null,null,null,null,null,null,null,null,null,null,null,null,null,null,null,null,null,null,null,null,null,null,null,null,null,null,null,null,null,null,null,null,null,null,null,null,null,null,null,null,null,null,null,null,null,null,null,null,null,null,null,null,null,null,null,null,null,null,null,null,null,null,null,null,null,null,null,null,null,null,null,null,null,null,null,null,null,null,null,null,null,null,null,null,null,null,null,null,null,null,null,null,null,null,null,null,null,null,null,null,null,null,null,null,null,null,null,null,null,null,null,null,null,null,null,null,null,null,null,null,{"$f":"'Country information'!N246","v":"Zambia"},{"$f":"'Country information'!O246","v":"Zambia"},{"$f":"'Country information'!C246","v":"kwacha"},{"$f":"'Country information'!D246","v":"ZK"},{"$f":"'Country information'!E246","v":4925},{"$f":"'Country information'!F246","v":40592.406053240738}]
[null,null,null,null,null,null,null,null,null,null,null,null,null,null,null,null,null,null,null,null,null,null,null,null,null,null,null,null,null,null,null,null,null,null,null,null,null,null,null,null,null,null,null,null,null,null,null,null,null,null,null,null,null,null,null,null,null,null,null,null,null,null,null,null,null,null,null,null,null,null,null,null,null,null,null,null,null,null,null,null,null,null,null,null,null,null,null,null,null,null,null,null,null,null,null,null,null,null,null,null,null,null,null,null,null,null,null,null,null,null,null,null,null,null,null,null,null,null,null,null,null,null,null,null,null,null,null,null,null,null,null,null,null,null,null,null,null,null,null,null,null,null,null,null,null,null,null,null,null,null,null,null,null,null,null,null,null,null,{"$f":"'Country information'!N247","v":"Zimbabwe"},{"$f":"'Country information'!O247","v":"Zimbabwe"},{"$f":"'Country information'!C247","v":"dollar"},{"$f":"'Country information'!D247","v":"Z$"},{"$f":"'Country information'!E247","v":1},{"$f":"'Country information'!F247","v":40592.406053240738}]

{"sheet":"Results","index":2,"n_rows":35,"n_cols":124,"rows_kept":35,"cut":false,"hidden":false,"merged":[[17,101,17,107],[14,15,14,17],[21,84,21,86],[21,87,21,93],[21,94,21,100],[21,101,21,107],[18,84,18,86],[18,87,18,93],[18,94,18,100],[18,101,18,107],[19,84,19,86],[19,87,19,93],[19,94,19,100],[19,101,19,107],[20,84,20,86],[20,87,20,93],[20,94,20,100],[20,101,20,107],[18,15,18,17],[19,15,19,17],[20,15,20,17],[18,18,18,24],[18,25,18,31],[20,32,20,38],[5,7,5,107],[6,7,6,107],[16,84,16,107],[9,94,9,100],[13,94,13,100],[14,94,14,100],[13,84,13,86],[14,84,14,86],[8,84,8,107],[10,18,10,24],[10,25,10,31],[10,32,10,38],[10,39,10,45],[10,46,10,52],[11,18,11,24],[11,25,11,31],[11,32,11,38],[11,39,11,45],[13,15,13,17],[13,53,13,59],[9,39,9,45],[9,46,9,52],[12,18,12,24],[9,18,9,24],[19,39,19,45],[19,46,19,52],[20,18,20,24],[20,25,20,31],[13,46,13,52],[13,18,13,24],[13,25,13,31],[13,32,13,38],[13,39,13,45],[17,84,17,93],[17,94,17,100],[21,15,21,17],[22,15,22,17],[10,87,10,93],[11,87,11,93],[12,87,12,93],[13,87,13,93],[14,87,14,93],[10,84,10,86],[11,84,11,86],[22,18,22,24],[22,25,22,31],[22,32,22,38],[22,39,22,45],[22,46,22,52],[22,53,22,59],[17,18,17,24],[17,25,17,31],[17,32,17,38],[17,39,17,45],[10,53,10,59],[11,53,11,59],[12,53,12,59],[9,53,9,59],[9,84,9,93],[10,101,10,107],[11,101,11,107],[12,101,12,107],[12,39,12,45],[12,46,12,52],[11,94,11,100],[12,94,12,100],[21,61,21,75],[14,53,14,59],[18,53,18,59],[19,53,19,59],[20,53,20,59],[21,53,21,59],[17,46,17,52],[21,18,21,24],[21,25,21,31],[21,32,21,38],[21,39,21,45],[21,46,21,52],[18,61,18,75],[17,53,17,59],[19,61,19,75],[20,61,20,75],[18,32,18,38],[18,39,18,45],[18,46,18,52],[19,18,19,24],[19,25,19,31],[20,39,20,45],[20,46,20,52],[19,32,19,38],[13,101,13,107],[14,101,14,107],[12,84,12,86],[12,25,12,31],[12,32,12,38],[1,7,1,116],[10,61,10,75],[11,61,11,75],[12,61,12,75],[13,61,13,75],[14,18,14,24],[14,25,14,31],[14,32,14,38],[14,39,14,45],[14,46,14,52],[3,7,3,107],[10,15,10,17],[11,15,11,17],[12,15,12,17],[10,94,10,100],[11,46,11,52],[9,101,9,107],[9,25,9,31],[9,32,9,38]]}
[]
[null,null,null,null,null,null,null,{"$f":"Lists!G14","v":"Results"}]
[]
[null,null,null,null,null,null,null,"This cost comparison is based on the inputs you have selected and the default values in the tool. All of the default values can be changed by following the links on this page. You will also find links to additional product information to help with your design decisions.\n\nYou may enter values directly in the table below if you have calculated them outside of this tool. These changes will be reflected on the charts and table on this page. However, you may need to update the other tabs for all of the values in the report to be accurate."]
[]
[null,null,null,null,null,null,null,{"$f":"\"This analysis compares the cost of deploying GreenBridge zero client computing for \" &'Report Info'!B3 & \" concurrent users using \" &'Report Info'!B5 & \" host servers. The analysis shows the expected cost of deploying the Windows Server solution using \" &'Report Info'!B19& \" is \" & 'Report Info'!B12 &\". Deploying a similar solution with traditional computers is estimated to cost \"&'Report Info'!B17&\". This represents a \"&'Report Info'!B18&\" percent reduction in costs from a traditional deployment.\"","v":"This analysis compares the cost of deploying GreenBridge zero client computing for 1,000 concurrent users using 72 host servers. The analysis shows the expected cost of deploying the Windows Server solution using LAN connections is US$ 445,026. Deploying a similar solution with traditional computers is estimated to cost US$ 1,647,908. This represents a 73% percent reduction in costs from a traditional deployment."}]
[null,null,null,null,null,null,null,{"$f":"\"Because multiple stations can be powered by a single host computer, you can reduce the upfront costs of technology. The cost savings on the upfront hardware investment is estimated to be \"&'Report Info'!B21&\". The hardware cost per station for The HUB 400 zero clients is \"&'Report Info'!B22&\", which compares to \"&'Report Info'!B23&\" for a traditional computer deployment.\"","v":"Because multiple stations can be powered by a single host computer, you can reduce the upfront costs of technology. The cost savings on the upfront hardware investment is estimated to be US$ 284,300. The hardware cost per station for The HUB 400 zero clients is US$ 318, which compares to US$ 602 for a traditional computer deployment."}]
[]
[null,null,null,null,null,null,null,"Windows MultiPoint costs",null,null,null,null,null,null,null,null,null,null,null,null,null,null,null,null,null,null,null,null,null,null,null,null,null,null,null,null,null,null,null,null,null,null,null,null,null,null,null,null,null,null,null,null,null,null,null,null,null,null,null,null,null,null,null,null,null,null,null,null,null,null,null,null,null,null,null,null,null,null,null,null,null,null,null,null,"% Difference in Costs Over 5-Years"]
[null,null,null,null,null,null,null,null,null,null,null,null,null,null,null,null,null,null,"Year 1",null,null,null,null,null,null,"Year 2",null,null,null,null,null,null,"Year 3",null,null,null,null,null,null,"Year 4",null,null,null,null,null,null,"Year 5",null,null,null,null,null,null,"Average",null,null,null,null,null,null,null,null,null,null,null,null,null,null,null,null,null,null,null,null,null,null,null,null,null,null,null,null,null,null,"Windows MultiPoint",null,null,null,null,null,null,null,null,null,"Traditional",null,null,null,null,null,null,"% difference"]
[null,null,null,null,null,null,null,"Hardware",null,null,null,null,null,null,null,{"$f":"CurrencySymbol","v":"US$"},null,null,{"$f":"DP11","v":317800},null,null,null,null,null,null,{"$f":"DQ11","v":0},null,null,null,null,null,null,{"$f":"DR11","v":0},null,null,null,null,null,null,{"$f":"DS11","v":0},null,null,null,null,null,null,{"$f":"DT11","v":0},null,null,null,null,null,null,{"$f":"SUM(S11:BA11)/5","v":63560},null,null,null,null,null,null,null,"See calculation details",null,null,null,null,null,null,null,null,null,null,null,null,null,null,null,"Hardware",null,null,null,null,null,null,{"$f":"CurrencySymbol","v":"US$"},null,null,{"$f":"BB11*5","v":317800},null,null,null,null,null,null,{"$f":"BB19*5","v":602100},null,null,null,null,null,null,{"$f":"IF(CQ11=0,\"N/A\",1-CJ11/CQ11)","v":0.47218070088025244},null,null,null,null,null,null,null,null,null,null,null,null,null,null,null,null,null,{"$f":"Calculations!CC19","v":317800},0,0,0,0]
[null,null,null,null,null,null,null,"Software",null,null,null,null,null,null,null,{"$f":"CurrencySymbol","v":"US$"},null,null,{"$f":"DP12","v":38360},null,null,null,null,null,null,{"$f":"DQ12","v":0},null,null,null,null,null,null,{"$f":"DR12","v":0},null,null,null,null,null,null,{"$f":"DS12","v":0},null,null,null,null,null,null,{"$f":"DT12","v":0},null,null,null,null,null,null,{"$f":"SUM(S12:BA12)/5","v":7672},null,null,null,null,null,null,null,"See calculation details",null,null,null,null,null,null,null,null,null,null,null,null,null,null,null,"Software",null,null,null,null,null,null,{"$f":"CurrencySymbol","v":"US$"},null,null,{"$f":"BB12*5","v":38360},null,null,null,null,null,null,{"$f":"BB20*5","v":115000},null,null,null,null,null,null,{"$f":"IF(CQ12=0,\"N/A\",1-CJ12/CQ12)","v":0.6664347826086956},null,null,null,null,null,null,null,null,null,null,null,null,null,null,null,null,null,{"$f":"Calculations!CC25","v":38360},{"$f":"IF(Software!$BH$9=Lists!$B$35,Calculations!$CC$25,0)","v":0},{"$f":"IF(Software!$BH$9=Lists!$B$35,Calculations!$CC$25,0)","v":0},{"$f":"IF(Software!$BH$9=Lists!$B$35,Calculations!$CC$25,0)","v":0},{"$f":"IF(Software!$BH$9=Lists!$B$35,Calculations!$CC$25,0)","v":0}]
[null,null,null,null,null,null,null,"Deployment",null,null,null,null,null,null,null,{"$f":"CurrencySymbol","v":"US$"},null,null,{"$f":"DP13","v":3850},null,null,null,null,null,null,{"$f":"DQ13","v":0},null,null,null,null,null,null,{"$f":"DR13","v":0},null,null,null,null,null,null,{"$f":"DS13","v":0},null,null,null,null,null,null,{"$f":"DT13","v":0},null,null,null,null,null,null,{"$f":"SUM(S13:BA13)/5","v":770},null,null,null,null,null,null,null,"See calculation details",null,null,null,null,null,null,null,null,null,null,null,null,null,null,null,"Deployment",null,null,null,null,null,null,{"$f":"CurrencySymbol","v":"US$"},null,null,{"$f":"BB13*5","v":3850},null,null,null,null,null,null,{"$f":"BB21*5","v":52183.333333333343},null,null,null,null,null,null,{"$f":"IF(CQ13=0,\"N/A\",1-CJ13/CQ13)","v":0.9262216544235069},null,null,null,null,null,null,null,null,null,null,null,null,null,null,null,null,null,{"$f":"Calculations!CC31","v":3850},0,0,0,0]
[null,null,null,null,null,null,null,"Operations",null,null,null,null,null,null,null,{"$f":"CurrencySymbol","v":"US$"},null,null,{"$f":"DP14","v":17003.27808},null,null,null,null,null,null,{"$f":"DQ14","v":17003.27808},null,null,null,null,null,null,{"$f":"DR14","v":17003.27808},null,null,null,null,null,null,{"$f":"DS14","v":17003.27808},null,null,null,null,null,null,{"$f":"DT14","v":17003.27808},null,null,null,null,null,null,{"$f":"SUM(S14:BA14)/5","v":17003.27808},null,null,null,null,null,null,null,"See calculation details",null,null,null,null,null,null,null,null,null,null,null,null,null,null,null,"Operations",null,null,null,null,null,null,{"$f":"CurrencySymbol","v":"US$"},null,null,{"$f":"BB14*5","v":85016.390400000004},null,null,null,null,null,null,{"$f":"BB22*5","v":878624.28373333323},null,null,null,null,null,null,{"$f":"IF(CQ14=0,\"N/A\",1-CJ14/CQ14)","v":0.90323919794390417},null,null,null,null,null,null,null,null,null,null,null,null,null,null,null,null,null,{"$f":"Calculations!CC39","v":17003.27808},{"$f":"Calculations!CC39","v":17003.27808},{"$f":"Calculations!CC39","v":17003.27808},{"$f":"Calculations!CC39","v":17003.27808},{"$f":"Calculations!CC39","v":17003.27808}]
[null,null,null,null,null,null,null,"Total",null,null,null,null,null,null,null,{"$f":"CurrencySymbol","v":"US$"},null,null,{"$f":"SUM(S11:Y14)","v":377013.27808000002},null,null,null,null,null,null,{"$f":"SUM(Z11:AF14)","v":17003.27808},null,null,null,null,null,null,{"$f":"SUM(AG11:AM14)","v":17003.27808},null,null,null,null,null,null,{"$f":"SUM(AN11:AT14)","v":17003.27808},null,null,null,null,null,null,{"$f":"SUM(AU11:BA14)","v":17003.27808},null,null,null,null,null,null,{"$f":"SUM(BB11:BH14)","v":89005.278080000004},null,null,null,null,null,null,null,null,null,null,null,null,null,null,null,null,null,null,null,null,null,null,null,"Total",null,null,null,null,null,null,{"$f":"CurrencySymbol","v":"US$"},null,null,{"$f":"BB15*5","v":445026.39040000003},null,null,null,null,null,null,{"$f":"BB23*5","v":1647907.6170666667},null,null,null,null,null,null,{"$f":"IF(CQ15=0,\"N/A\",1-CJ15/CQ15)","v":0.72994457590276651}]
[]
[null,null,null,null,null,null,null,"Traditional deployment costs",null,null,null,null,null,null,null,null,null,null,null,null,null,null,null,null,null,null,null,null,null,null,null,null,null,null,null,null,null,null,null,null,null,null,null,null,null,null,null,null,null,null,null,null,null,null,null,null,null,null,null,null,null,null,null,null,null,null,null,null,null,null,null,null,null,null,null,null,null,null,null,null,null,null,null,null,"% Difference in Acquisition Costs"]
[null,null,null,null,null,null,null,null,null,null,null,null,null,null,null,null,null,null,"Year 1",null,null,null,null,null,null,"Year 2",null,null,null,null,null,null,"Year 3",null,null,null,null,null,null,"Year 4",null,null,null,null,null,null,"Year 5",null,null,null,null,null,null,"Average",null,null,null,null,null,null,null,null,null,null,null,null,null,null,null,null,null,null,null,null,null,null,null,null,null,null,null,null,null,null,"Windows MultiPoint",null,null,null,null,null,null,null,null,null,"Traditional",null,null,null,null,null,null,"% difference"]
[null,null,null,null,null,null,null,"Hardware",null,null,null,null,null,null,null,{"$f":"CurrencySymbol","v":"US$"},null,null,{"$f":"DP19","v":602100},null,null,null,null,null,null,{"$f":"DQ19","v":0},null,null,null,null,null,null,{"$f":"DR19","v":0},null,null,null,null,null,null,{"$f":"DS19","v":0},null,null,null,null,null,null,{"$f":"DT19","v":0},null,null,null,null,null,null,{"$f":"SUM(S19:BA19)/5","v":120420},null,null,null,null,null,null,null,"See calculation details",null,null,null,null,null,null,null,null,null,null,null,null,null,null,null,"Hardware",null,null,null,null,null,null,{"$f":"CurrencySymbol","v":"US$"},null,null,{"$f":"S11","v":317800},null,null,null,null,null,null,{"$f":"S19","v":602100},null,null,null,null,null,null,{"$f":"IF(CQ19=0,\"N/A\",1-CJ19/CQ19)","v":0.47218070088025244},null,null,null,null,null,null,null,null,null,null,null,null,null,null,null,null,null,{"$f":"Calculations!CZ19","v":602100},0,0,0,0]
[null,null,null,null,null,null,null,"Software",null,null,null,null,null,null,null,{"$f":"CurrencySymbol","v":"US$"},null,null,{"$f":"DP20","v":115000},null,null,null,null,null,null,{"$f":"DQ20","v":0},null,null,null,null,null,null,{"$f":"DR20","v":0},null,null,null,null,null,null,{"$f":"DS20","v":0},null,null,null,null,null,null,{"$f":"DT20","v":0},null,null,null,null,null,null,{"$f":"SUM(S20:BA20)/5","v":23000},null,null,null,null,null,null,null,"See calculation details",null,null,null,null,null,null,null,null,null,null,null,null,null,null,null,"Software",null,null,null,null,null,null,{"$f":"CurrencySymbol","v":"US$"},null,null,{"$f":"S12","v":38360},null,null,null,null,null,null,{"$f":"S20","v":115000},null,null,null,null,null,null,{"$f":"IF(CQ20=0,\"N/A\",1-CJ20/CQ20)","v":0.6664347826086956},null,null,null,null,null,null,null,null,null,null,null,null,null,null,null,null,null,{"$f":"Calculations!CZ25","v":115000},{"$f":"IF(Software!$BH$9=Lists!$B$35,Calculations!$CZ$25,0)","v":0},{"$f":"IF(Software!$BH$9=Lists!$B$35,Calculations!$CZ$25,0)","v":0},{"$f":"IF(Software!$BH$9=Lists!$B$35,Calculations!$CZ$25,0)","v":0},{"$f":"IF(Software!$BH$9=Lists!$B$35,Calculations!$CZ$25,0)","v":0}]
[null,null,null,null,null,null,null,"Deployment",null,null,null,null,null,null,null,{"$f":"CurrencySymbol","v":"US$"},null,null,{"$f":"DP21","v":52183.333333333336},null,null,null,null,null,null,{"$f":"DQ21","v":0},null,null,null,null,null,null,{"$f":"DR21","v":0},null,null,null,null,null,null,{"$f":"DS21","v":0},null,null,null,null,null,null,{"$f":"DT21","v":0},null,null,null,null,null,null,{"$f":"SUM(S21:BA21)/5","v":10436.666666666668},null,null,null,null,null,null,null,"See calculation details",null,null,null,null,null,null,null,null,null,null,null,null,null,null,null,"Deployment",null,null,null,null,null,null,{"$f":"CurrencySymbol","v":"US$"},null,null,3850,null,null,null,null,null,null,52183.333333333336,null,null,null,null,null,null,{"$f":"IF(CQ21=0,\"N/A\",1-CJ21/CQ21)","v":0.9262216544235069},null,null,null,null,null,null,null,null,null,null,null,null,null,null,null,null,null,{"$f":"Calculations!CZ31","v":52183.333333333336},0,0,0,0]
[null,null,null,null,null,null,null,"Operations",null,null,null,null,null,null,null,{"$f":"CurrencySymbol","v":"US$"},null,null,{"$f":"DP22","v":175724.85674666666},null,null,null,null,null,null,{"$f":"DQ22","v":175724.85674666666},null,null,null,null,null,null,{"$f":"DR22","v":175724.85674666666},null,null,null,null,null,null,{"$f":"DS22","v":175724.85674666666},null,null,null,null,null,null,{"$f":"DT22","v":175724.85674666666},null,null,null,null,null,null,{"$f":"SUM(S22:BA22)/5","v":175724.85674666666},null,null,null,null,null,null,null,"See calculation details",null,null,null,null,null,null,null,null,null,null,null,null,null,null,null,"Total",null,null,null,null,null,null,{"$f":"CurrencySymbol","v":"US$"},null,null,{"$f":"SUM(CJ19:CP21)","v":360010},null,null,null,null,null,null,{"$f":"SUM(CQ19:CW21)","v":769283.33333333337},null,null,null,null,null,null,{"$f":"IF(CQ22=0,\"N/A\",1-CJ22/CQ22)","v":0.53201897870312198},null,null,null,null,null,null,null,null,null,null,null,null,null,null,null,null,null,{"$f":"Calculations!CZ39","v":175724.85674666666},{"$f":"Calculations!CZ39","v":175724.85674666666},{"$f":"Calculations!CZ39","v":175724.85674666666},{"$f":"Calculations!CZ39","v":175724.85674666666},{"$f":"Calculations!CZ39","v":175724.85674666666}]
[null,null,null,null,null,null,null,"Total",null,null,null,null,null,null,null,{"$f":"CurrencySymbol","v":"US$"},null,null,{"$f":"SUM(S19:Y22)","v":945008.19008000009},null,null,null,null,null,null,{"$f":"SUM(Z19:AF22)","v":175724.85674666666},null,null,null,null,null,null,{"$f":"SUM(AG19:AM22)","v":175724.85674666666},null,null,null,null,null,null,{"$f":"SUM(AN19:AT22)","v":175724.85674666666},null,null,null,null,null,null,{"$f":"SUM(AU19:BA22)","v":175724.85674666666},null,null,null,null,null,null,{"$f":"SUM(BB19:BH22)","v":329581.52341333334}]
[]
[]
[{"$f":"IF(OR(LicenseType = Lists!#REF!,LicenseType=Lists!#REF!,LicenseType=Lists!#REF!),1,0)","v":{"$error":"#REF!"}}]
[{"$f":"IF(OR(LicenseType=Lists!#REF!,LicenseType=Lists!#REF!,LicenseType=Lists!#REF!,LicenseType = Lists!#REF!), 0,1)","v":{"$error":"#REF!"}}]
[0]
[1]
[{"$f":"IF(OR(LicenseType = Lists!#REF!,LicenseType = Lists!#REF!),1,0)","v":{"$error":"#REF!"}}]
[{"$f":"IF(OR(LicenseType = Lists!#REF!,LicenseType = Lists!#REF!),0,0)","v":{"$error":"#REF!"}}]
[]
[]
[]
[1]

{"sheet":"CalculationsDisp","index":3,"n_rows":264,"n_cols":142,"rows_kept":264,"cut":false,"hidden":false,"merged":[[32,65,32,85],[29,71,29,76],[29,77,29,79],[29,80,29,85],[31,77,31,79],[31,80,31,85],[13,77,13,79],[13,80,13,85],[14,65,14,67],[14,68,14,70],[14,71,14,76],[14,77,14,79],[14,80,14,85],[17,80,17,85],[29,65,29,67],[29,68,29,70],[21,71,21,76],[21,77,21,79],[21,80,21,85],[19,65,19,85],[18,80,18,85],[18,77,18,79],[17,77,17,79],[35,68,35,70],[35,71,35,76],[35,77,35,79],[35,80,35,85],[34,71,34,76],[34,77,34,79],[34,80,34,85],[33,77,33,85],[34,68,34,70],[33,68,33,76],[11,48,11,53],[11,45,11,47],[11,42,11,44],[10,57,10,62],[10,54,10,56],[10,48,10,53],[10,45,10,47],[10,42,10,44],[13,57,13,62],[13,54,13,56],[13,48,13,53],[13,45,13,47],[13,42,13,44],[12,57,12,62],[12,54,12,56],[12,48,12,53],[12,45,12,47],[12,42,12,44],[15,54,15,56],[15,48,15,53],[15,45,15,47],[15,42,15,44],[14,57,14,62],[14,54,14,56],[14,48,14,53],[14,45,14,47],[14,42,14,44],[16,48,16,53],[16,45,16,47],[16,42,16,44],[23,57,23,62],[23,54,23,56],[23,48,23,53],[23,45,23,47],[23,42,23,44],[19,41,19,63],[20,42,20,44],[20,45,20,53],[20,54,20,62],[18,54,18,56],[18,57,18,62],[22,45,22,47],[22,48,22,53],[22,54,22,56],[22,57,22,62],[22,42,22,44],[17,57,17,62],[17,54,17,56],[16,57,16,62],[16,54,16,56],[34,54,34,56],[34,48,34,53],[34,45,34,47],[32,41,32,63],[33,42,33,44],[33,45,33,53],[33,54,33,62],[29,45,29,47],[29,48,29,53],[29,42,29,44],[30,54,30,56],[30,57,30,62],[31,54,31,56],[31,57,31,62],[29,54,29,56],[29,57,29,62],[34,57,34,62],[35,54,35,56],[35,48,35,53],[35,45,35,47],[37,57,37,62],[37,54,37,56],[37,48,37,53],[37,45,37,47],[36,42,36,44],[36,45,36,53],[27,42,27,44],[27,45,27,53],[27,54,27,62],[28,54,28,56],[26,41,26,63],[39,54,39,56],[39,57,39,62],[39,77,39,79],[39,80,39,85],[38,54,38,56],[37,65,37,67],[37,68,37,70],[36,54,36,62],[36,65,36,67],[36,68,36,76],[36,77,36,85],[38,57,38,62],[38,77,38,79],[38,80,38,85],[37,71,37,76],[37,77,37,79],[37,80,37,85],[37,42,37,44],[35,57,35,62],[25,54,25,56],[25,57,25,62],[28,57,28,62],[24,54,24,56],[24,57,24,62],[24,77,24,79],[24,80,24,85],[30,77,30,79],[30,80,30,85],[26,65,26,85],[27,65,27,67],[27,68,27,76],[27,77,27,85],[28,77,28,79],[28,80,28,85],[25,77,25,79],[25,80,25,85],[12,65,12,67],[12,68,12,70],[12,71,12,76],[12,77,12,79],[12,80,12,85],[13,65,13,67],[13,68,13,70],[13,71,13,76],[21,65,21,67],[21,68,21,70],[2,65,2,85],[3,65,3,85],[6,54,6,56],[7,45,7,47],[5,48,5,53],[5,54,5,56],[5,57,5,62],[6,45,6,47],[4,65,4,67],[4,68,4,76],[4,77,4,85],[2,41,2,63],[3,41,3,63],[7,48,7,53],[7,42,7,44],[6,57,6,62],[6,48,6,53],[6,42,6,44],[7,54,7,56],[7,57,7,62],[5,42,5,44],[5,45,5,47],[4,42,4,44],[4,45,4,53],[4,54,4,62],[15,65,15,67],[15,68,15,70],[15,71,15,76],[15,77,15,79],[8,77,8,79],[8,80,8,85],[8,65,8,67],[8,68,8,70],[8,71,8,76],[11,57,11,62],[11,54,11,56],[10,65,10,67],[10,68,10,70],[10,71,10,76],[10,77,10,79],[10,80,10,85],[11,65,11,67],[11,68,11,70],[15,80,15,85],[11,71,11,76],[11,77,11,79],[11,80,11,85],[15,57,15,62]]}
[]
[]
[]
[null,null,null,null,null,null,null,null,null,null,null,null,null,null,null,null,null,null,null,null,null,null,null,null,null,null,null,null,null,null,null,null,null,null,null,null,null,null,null,null,null,"Windows MultiPoint Server",null,null,null,null,null,null,null,null,null,null,null,null,null,null,null,null,null,null,null,null,null,null,null,"PC Configuration"]
[null,null,null,null,null,null,null,null,null,null,null,null,null,null,null,null,null,null,null,null,null,null,null,null,null,null,null,null,null,null,null,null,null,null,null,null,null,null,null,null,null,null,"Count",null,null,"Cost",null,null,null,null,null,null,null,null,"Total",null,null,null,null,null,null,null,null,null,null,"Count",null,null,"Cost",null,null,null,null,null,null,null,null,"Total"]
[null,1,null,null,null,null,null,"LAN connected or hybrid host computers",null,null,null,null,null,null,null,null,null,null,null,null,null,null,null,null,null,null,null,null,null,null,null,null,null,null,null,null,null,null,null,null,null,null,{"$f":"Calculations!BN6","v":72},null,null,{"$f":"CurrencySymbol","v":"US$"},null,null,{"$f":"Calculations!BT6","v":1300},null,null,null,null,null,{"$f":"CurrencySymbol","v":"US$"},null,null,{"$f":"Calculations!CC6","v":93600}]
[null,1,null,null,null,null,null,"Video/USB direct connect host computers",null,null,null,null,null,null,null,null,null,null,null,null,null,null,null,null,null,null,null,null,null,null,null,null,null,null,null,null,null,null,null,null,null,null,{"$f":"Calculations!BN7","v":0},null,null,{"$f":"CurrencySymbol","v":"US$"},null,null,{"$f":"Calculations!BT7","v":1300},null,null,null,null,null,{"$f":"CurrencySymbol","v":"US$"},null,null,{"$f":"Calculations!CC7","v":0}]
[null,1,null,null,null,null,null,"USB direct connect host computers",null,null,null,null,null,null,null,null,null,null,null,null,null,null,null,null,null,null,null,null,null,null,null,null,null,null,null,null,null,null,null,null,null,null,{"$f":"Calculations!BN8","v":0},null,null,{"$f":"CurrencySymbol","v":"US$"},null,null,{"$f":"Calculations!BT8","v":1300},null,null,null,null,null,{"$f":"CurrencySymbol","v":"US$"},null,null,{"$f":"Calculations!CC8","v":0}]
[null,1,null,null,null,null,null,"PCs (includes monitor, mouse, keyboard, Operating System license)",null,null,null,null,null,null,null,null,null,null,null,null,null,null,null,null,null,null,null,null,null,null,null,null,null,null,null,null,null,null,null,null,null,null,null,null,null,null,null,null,null,null,null,null,null,null,null,null,null,null,null,null,null,null,null,null,null,{"$f":"Calculations!CK9","v":1000},null,null,{"$f":"CurrencySymbol","v":"US$"},null,null,{"$f":"Calculations!CQ9","v":600},null,null,null,null,null,{"$f":"CurrencySymbol","v":"US$"},null,null,{"$f":"Calculations!CZ9","v":600000}]
[null,1]
[null,1,null,null,null,null,null,"Monitors",null,null,null,null,null,null,null,null,null,null,null,null,null,null,null,null,null,null,null,null,null,null,null,null,null,null,null,null,null,null,null,null,null,null,{"$f":"Calculations!BN11","v":1000},null,null,{"$f":"CurrencySymbol","v":"US$"},null,null,{"$f":"Calculations!BT11","v":100},null,null,null,null,null,{"$f":"CurrencySymbol","v":"US$"},null,null,{"$f":"Calculations!CC11","v":100000},null,null,null,null,null,null,null,{"$f":"Calculations!CK11","v":1000},null,null,{"$f":"CurrencySymbol","v":"US$"},null,null,{"$f":"Calculations!CQ11","v":0},null,null,null,null,null,{"$f":"CurrencySymbol","v":"US$"},null,null,{"$f":"Calculations!CZ11","v":0}]
[null,1,null,null,null,null,null,"Mouse and keyboards",null,null,null,null,null,null,null,null,null,null,null,null,null,null,null,null,null,null,null,null,null,null,null,null,null,null,null,null,null,null,null,null,null,null,{"$f":"Calculations!BN12","v":1000},null,null,"US$",null,null,{"$f":"Calculations!BT12","v":20},null,null,null,null,null,"US$",null,null,{"$f":"Calculations!CC12","v":20000},null,null,null,null,null,null,null,{"$f":"Calculations!CK12","v":1000},null,null,"US$",null,null,{"$f":"Calculations!CQ12","v":0},null,null,null,null,null,"US$",null,null,{"$f":"Calculations!CZ12","v":0}]
[null,1,null,null,null,null,null,"USB video adaptor/thin-client",null,null,null,null,null,null,null,null,null,null,null,null,null,null,null,null,null,null,null,null,null,null,null,null,null,null,null,null,null,null,null,null,null,null,{"$f":"Calculations!BN13","v":0},null,null,"US$",null,null,{"$f":"Calculations!BT13","v":0},null,null,null,null,null,"US$",null,null,{"$f":"Calculations!CC13","v":0},null,null,null,null,null,null,null,{"$f":"Calculations!CK13","v":0},null,null,"US$",null,null,{"$f":"Calculations!CQ13","v":0},null,null,null,null,null,"US$",null,null,{"$f":"Calculations!CZ13","v":0}]
[null,1,null,null,null,null,null,"USB hubs",null,null,null,null,null,null,null,null,null,null,null,null,null,null,null,null,null,null,null,null,null,null,null,null,null,null,null,null,null,null,null,null,null,null,{"$f":"Calculations!BN14","v":0},null,null,"US$",null,null,{"$f":"Calculations!BT14","v":20},null,null,null,null,null,"US$",null,null,{"$f":"Calculations!CC14","v":0},null,null,null,null,null,null,null,{"$f":"Calculations!CK14","v":0},null,null,"US$",null,null,{"$f":"Calculations!CQ14","v":20},null,null,null,null,null,"US$",null,null,{"$f":"Calculations!CZ14","v":0}]
[null,1,null,null,null,null,null,"Video cards",null,null,null,null,null,null,null,null,null,null,null,null,null,null,null,null,null,null,null,null,null,null,null,null,null,null,null,null,null,null,null,null,null,null,{"$f":"Calculations!BN15","v":0},null,null,"US$",null,null,{"$f":"Calculations!BT15","v":0},null,null,null,null,null,"US$",null,null,{"$f":"Calculations!CC15","v":0},null,null,null,null,null,null,null,{"$f":"Calculations!CK15","v":0},null,null,"US$",null,null,{"$f":"Calculations!CQ15","v":0},null,null,null,null,null,"US$",null,null,{"$f":"Calculations!CZ15","v":0}]
[null,1,null,null,null,null,null,"Ethernet switches",null,null,null,null,null,null,null,null,null,null,null,null,null,null,null,null,null,null,null,null,null,null,null,null,null,null,null,null,null,null,null,null,null,null,{"$f":"Calculations!BN16","v":42},null,null,"US$",null,null,{"$f":"Calculations!BT16","v":100},null,null,null,null,null,"US$",null,null,{"$f":"Calculations!CC16","v":4200},null,null,null,null,null,null,null,{"$f":"Calculations!CK16","v":42},null,null,"US$",null,null,{"$f":"Calculations!CQ16","v":50},null,null,null,null,null,"US$",null,null,{"$f":"Calculations!CZ16","v":2100}]
[null,1,null,null,null,null,null,"LAN connected stations (desktop, laptop, RemoteFX, etc.)",null,null,null,null,null,null,null,null,null,null,null,null,null,null,null,null,null,null,null,null,null,null,null,null,null,null,null,null,null,null,null,null,null,null,{"$f":"Calculations!BN17","v":1000},null,null,"US$",null,null,{"$f":"Calculations!BT17","v":100},null,null,null,null,null,"US$",null,null,{"$f":"Calculations!CC17","v":100000}]
[null,null,null,null,null,null,null,null,null,null,null,null,null,null,null,null,null,null,null,null,null,null,null,null,null,null,null,null,null,null,null,null,null,null,null,null,null,null,null,null,null,null,null,null,null,null,null,null,null,null,null,null,null,null,"US$",null,null,{"$f":"Calculations!CC18","v":0},null,null,null,null,null,null,null,null,null,null,null,null,null,null,null,null,null,null,null,{"$f":"CurrencySymbol","v":"US$"},null,null,{"$f":"Calculations!CZ18","v":0}]
[null,1,null,null,null,null,null,"Total Cost",null,null,null,null,null,null,null,null,null,null,null,null,null,null,null,null,null,null,null,null,null,null,null,null,null,null,null,null,null,null,null,null,null,null,null,null,null,null,null,null,null,null,null,null,null,null,{"$f":"CurrencySymbol","v":"US$"},null,null,{"$f":"Calculations!CC19","v":317800},null,null,null,null,null,null,null,null,null,null,null,null,null,null,null,null,null,null,null,{"$f":"CurrencySymbol","v":"US$"},null,null,{"$f":"Calculations!CZ19","v":602100}]
[null,1,null,null,null,null,null,null,null,null,null,null,null,null,null,null,null,null,null,null,null,null,null,null,null,null,null,null,null,null,null,null,null,null,null,null,null,null,null,null,null,"Windows MultiPoint Server",null,null,null,null,null,null,null,null,null,null,null,null,null,null,null,null,null,null,null,null,null,null,null,"PC Configuration"]
[null,1,null,null,null,null,null,null,null,null,null,null,null,null,null,null,null,null,null,null,null,null,null,null,null,null,null,null,null,null,null,null,null,null,null,null,null,null,null,null,null,null,"Count",null,null,"Cost",null,null,null,null,null,null,null,null,"Total"]
[null,null,null,null,null,null,null,{"$f":"Software!H18","v":"Windows Client Software"},null,null,null,null,null,null,null,null,null,null,null,null,null,null,null,null,null,null,null,null,null,null,null,null,null,null,null,null,null,null,null,null,null,null,null,null,null,null,null,null,null,null,null,null,null,null,null,null,null,null,null,null,null,null,null,null,null,{"$f":"Calculations!CK21","v":1000},null,null,{"$f":"CurrencySymbol","v":"US$"},null,null,{"$f":"Calculations!CQ21","v":115},null,null,null,null,null,{"$f":"CurrencySymbol","v":"US$"},null,null,{"$f":"Calculations!CZ21","v":115000}]
[null,1,null,null,null,null,null,"Windows MultiPoint Server licenses",null,null,null,null,null,null,null,null,null,null,null,null,null,null,null,null,null,null,{"$f":"Software!$BH$9","v":"Perpetual"},null,null,null,null,null,null,null,null,null,null,null,null,null,null,null,{"$f":"Calculations!BN22","v":72},null,null,{"$f":"CurrencySymbol","v":"US$"},null,null,{"$f":"Calculations!BT22","v":130},null,null,null,null,null,{"$f":"CurrencySymbol","v":"US$"},null,null,{"$f":"Calculations!CC22","v":9360}]
[null,1,null,null,null,null,null,"Windows MultiPoint Server CALs",null,null,null,null,null,null,null,null,null,null,null,null,null,null,null,null,null,null,{"$f":"Software!$BH$9","v":"Perpetual"},null,null,null,null,null,null,null,null,null,null,null,null,null,null,null,{"$f":"Calculations!BN23","v":1000},null,null,{"$f":"CurrencySymbol","v":"US$"},null,null,{"$f":"Calculations!BT23","v":29},null,null,null,null,null,{"$f":"CurrencySymbol","v":"US$"},null,null,{"$f":"Calculations!CC23","v":29000}]
[null,null,null,null,null,null,null,null,null,null,null,null,null,null,null,null,null,null,null,null,null,null,null,null,null,null,null,null,null,null,null,null,null,null,null,null,null,null,null,null,null,null,null,null,null,null,null,null,null,null,null,null,null,null,{"$f":"CurrencySymbol","v":"US$"},null,null,{"$f":"Calculations!CC24","v":0},null,null,null,null,null,null,null,null,null,null,null,null,null,null,null,null,null,null,null,{"$f":"CurrencySymbol","v":"US$"},null,null,{"$f":"Calculations!CZ24","v":0}]
[null,1,null,null,null,null,null,{"$f":"IF(Software!BH9=Lists!B35,\"Total Annual Cost\",\"Total Cost\")","v":"Total Cost"},null,null,null,null,null,null,null,null,null,null,null,null,null,null,null,null,null,null,null,null,null,null,null,null,null,null,null,null,null,null,null,null,null,null,null,null,null,null,null,null,null,null,null,null,null,null,{"$f":"CurrencySymbol","v":"US$"},null,null,{"$f":"Calculations!CC25","v":38360},null,null,null,null,null,null,null,null,null,null,null,null,null,null,null,null,null,null,null,{"$f":"CurrencySymbol","v":"US$"},null,null,{"$f":"Calculations!CZ25","v":115000}]
[null,1,null,null,null,null,null,null,null,null,null,null,null,null,null,null,null,null,null,null,null,null,null,null,null,null,null,null,null,null,null,null,null,null,null,null,null,null,null,null,null,"Windows MultiPoint Server",null,null,null,null,null,null,null,null,null,null,null,null,null,null,null,null,null,null,null,null,null,null,null,"PC Configuration"]
[null,1,null,null,null,null,null,null,null,null,null,null,null,null,null,null,null,null,null,null,null,null,null,null,null,null,null,null,null,null,null,null,null,null,null,null,null,null,null,null,null,null,"Hours",null,null,"Cost per hour",null,null,null,null,null,null,null,null,"Total",null,null,null,null,null,null,null,null,null,null,"Hours",null,null,"Cost per hour",null,null,null,null,null,null,null,null,"Total"]
[null,1,null,null,null,null,null,"Ethernet cabling (if new building)",null,null,null,null,null,null,null,null,null,null,null,null,null,null,null,null,null,null,null,null,null,null,null,null,null,null,null,null,null,null,null,null,null,null,null,null,null,null,null,null,null,null,null,null,null,null,{"$f":"CurrencySymbol","v":"US$"},null,null,{"$f":"Calculations!CC28","v":100},null,null,null,null,null,null,null,null,null,null,null,null,null,null,null,null,null,null,null,{"$f":"CurrencySymbol","v":"US$"},null,null,{"$f":"Calculations!CZ28","v":100}]
[null,1,null,null,null,null,null,"Software deployment",null,null,null,null,null,null,null,null,null,null,null,null,null,null,null,null,null,null,null,null,null,null,null,null,null,null,null,null,null,null,null,null,null,null,{"$f":"Calculations!BN29","v":72},null,null,{"$f":"CurrencySymbol","v":"US$"},null,null,{"$f":"Calculations!BT29","v":52.083333333333336},null,null,null,null,null,{"$f":"CurrencySymbol","v":"US$"},null,null,{"$f":"Calculations!CC29","v":3750},null,null,null,null,null,null,null,{"$f":"Calculations!CK29","v":1000},null,null,{"$f":"CurrencySymbol","v":"US$"},null,null,{"$f":"Calculations!CQ29","v":52.083333333333336},null,null,null,null,null,{"$f":"CurrencySymbol","v":"US$"},null,null,{"$f":"Calculations!CZ29","v":52083.333333333336}]
[null,null,null,null,null,null,null,null,null,null,null,null,null,null,null,null,null,null,null,null,null,null,null,null,null,null,null,null,null,null,null,null,null,null,null,null,null,null,null,null,null,null,null,null,null,null,null,null,null,null,null,null,null,null,{"$f":"CurrencySymbol","v":"US$"},null,null,{"$f":"Calculations!CC30","v":0},null,null,null,null,null,null,null,null,null,null,null,null,null,null,null,null,null,null,null,{"$f":"CurrencySymbol","v":"US$"},null,null,{"$f":"Calculations!CZ30","v":0}]
[null,1,null,null,null,null,null,"Total Cost",null,null,null,null,null,null,null,null,null,null,null,null,null,null,null,null,null,null,null,null,null,null,null,null,null,null,null,null,null,null,null,null,null,null,null,null,null,null,null,null,null,null,null,null,null,null,{"$f":"CurrencySymbol","v":"US$"},null,null,{"$f":"Calculations!CC31","v":3850},null,null,null,null,null,null,null,null,null,null,null,null,null,null,null,null,null,null,null,{"$f":"CurrencySymbol","v":"US$"},null,null,{"$f":"Calculations!CZ31","v":52183.333333333336}]
[null,1,null,null,null,null,null,null,null,null,null,null,null,null,null,null,null,null,null,null,null,null,null,null,null,null,null,null,null,null,null,null,null,null,null,null,null,null,null,null,null,"Windows MultiPoint Server",null,null,null,null,null,null,null,null,null,null,null,null,null,null,null,null,null,null,null,null,null,null,null,"PC Configuration"]
[null,1,null,null,null,null,null,null,null,null,null,null,null,null,null,null,null,null,null,null,null,null,null,null,null,null,null,null,null,null,null,null,null,null,null,null,null,null,null,null,null,null,null,null,null,"Cost",null,null,null,null,null,null,null,null,"Total",null,null,null,null,null,null,null,null,null,null,null,null,null,"Cost",null,null,null,null,null,null,null,null,"Total"]
[null,1,null,null,null,null,null,"Power consumption",null,null,null,null,null,null,null,null,null,null,null,null,null,null,null,null,null,null,null,null,null,null,null,null,null,null,null,null,null,null,null,null,null,null,null,null,null,{"$f":"CurrencySymbol","v":"US$"},null,null,{"$f":"Calculations!BT34","v":5903.27808},null,null,null,null,null,{"$f":"CurrencySymbol","v":"US$"},null,null,{"$f":"Calculations!CC34","v":5903.27808},null,null,null,null,null,null,null,null,null,null,{"$f":"CurrencySymbol","v":"US$"},null,null,{"$f":"Calculations!CQ34","v":21558.190079999997},null,null,null,null,null,{"$f":"CurrencySymbol","v":"US$"},null,null,{"$f":"Calculations!CZ34","v":21558.190079999997}]
[null,1,null,null,null,null,null,"Hardware maintenance",null,null,null,null,null,null,null,null,null,null,null,null,null,null,null,null,null,null,null,null,null,null,null,null,null,null,null,null,null,null,null,null,null,null,null,null,null,{"$f":"CurrencySymbol","v":"US$"},null,null,{"$f":"Calculations!BT35","v":3600},null,null,null,null,null,{"$f":"CurrencySymbol","v":"US$"},null,null,{"$f":"Calculations!CC35","v":3600},null,null,null,null,null,null,null,null,null,null,{"$f":"CurrencySymbol","v":"US$"},null,null,{"$f":"Calculations!CQ35","v":50000},null,null,null,null,null,{"$f":"CurrencySymbol","v":"US$"},null,null,{"$f":"Calculations!CZ35","v":50000}]
[null,1,null,null,null,null,null,null,null,null,null,null,null,null,null,null,null,null,null,null,null,null,null,null,null,null,null,null,null,null,null,null,null,null,null,null,null,null,null,null,null,null,"Hours",null,null,"Cost per hour",null,null,null,null,null,null,null,null,"Total",null,null,null,null,null,null,null,null,null,null,"Hours",null,null,"Cost per hour",null,null,null,null,null,null,null,null,"Total"]
[null,1,null,null,null,null,null,"System management and updates",null,null,null,null,null,null,null,null,null,null,null,null,null,null,null,null,null,null,null,null,null,null,null,null,null,null,null,null,null,null,null,null,null,null,{"$f":"Calculations!BN37","v":144},null,null,{"$f":"CurrencySymbol","v":"US$"},null,null,{"$f":"Calculations!BT37","v":52.083333333333336},null,null,null,null,null,{"$f":"CurrencySymbol","v":"US$"},null,null,{"$f":"Calculations!CC37","v":7500},null,null,null,null,null,null,null,{"$f":"Calculations!CK37","v":2000},null,null,{"$f":"CurrencySymbol","v":"US$"},null,null,{"$f":"Calculations!CQ37","v":52.083333333333336},null,null,null,null,null,{"$f":"CurrencySymbol","v":"US$"},null,null,{"$f":"Calculations!CZ37","v":104166.66666666667}]
[null,null,null,null,null,null,null,null,null,null,null,null,null,null,null,null,null,null,null,null,null,null,null,null,null,null,null,null,null,null,null,null,null,null,null,null,null,null,null,null,null,null,null,null,null,null,null,null,null,null,null,null,null,null,{"$f":"CurrencySymbol","v":"US$"},null,null,{"$f":"Calculations!CC38","v":0},null,null,null,null,null,null,null,null,null,null,null,null,null,null,null,null,null,null,null,{"$f":"CurrencySymbol","v":"US$"},null,null,{"$f":"Calculations!CZ38","v":0}]
[{"$f":"IF(OR(LicenseType = Lists!#REF!,LicenseType=Lists!#REF!,LicenseType=Lists!#REF!),1,0)","v":{"$error":"#REF!"}},1,null,null,null,null,null,"Total Annual Cost",null,null,null,null,null,null,null,null,null,null,null,null,null,null,null,null,null,null,null,null,null,null,null,null,null,null,null,null,null,null,null,null,null,null,null,null,null,null,null,null,null,null,null,null,null,null,{"$f":"CurrencySymbol","v":"US$"},null,null,{"$f":"Calculations!CC39","v":17003.27808},null,null,null,null,null,null,null,null,null,null,null,null,null,null,null,null,null,null,null,{"$f":"CurrencySymbol","v":"US$"},null,null,{"$f":"Calculations!CZ39","v":175724.85674666666}]
[{"$f":"IF(OR(LicenseType=Lists!#REF!,LicenseType=Lists!#REF!,LicenseType=Lists!#REF!,LicenseType = Lists!#REF!), 0,1)","v":{"$error":"#REF!"}}]
[0]
[1]
[{"$f":"IF(OR(LicenseType = Lists!#REF!,LicenseType = Lists!#REF!),1,0)","v":{"$error":"#REF!"}}]
[{"$f":"IF(OR(LicenseType = Lists!#REF!,LicenseType = Lists!#REF!),0,0)","v":{"$error":"#REF!"}}]
[]
[null,null,null,null,null,null,null,null,null,null,null,null,null,null,null,null,null,null,null,null,null,null,null,null,null,null,null,null,null,null,null,null,null,null,null,null,null,null,null,null,null,null,null,null,null,null,null,null,null,null,null,null,null,null,null,null,null,null,null,null,null,null,null,null,null,null,null,null,null,null,null,null,null,null,null,null,null,null,null,null,null,null,null,null,null,null,null,null,null,null,null,null,null,null,null,null,null,null,null,null,null,null,null,null,null,null,null,null,null,null,null,null,null,null,null,null,null,null,null,null,null,null,null,null,null,null,null,null,null,null,null,null,null,null,null,null,{"$f":"'Country information'!N1","v":"Localized name"},{"$f":"'Country information'!C1","v":"Currency"},{"$f":"'Country information'!D1","v":"Symbol"},{"$f":"'Country information'!E1","v":"Exchange Rate"},{"$f":"'Country information'!F1","v":"Date updated"}]
[1,null,null,null,null,null,null,null,null,null,null,null,null,null,null,null,null,null,null,null,null,null,null,null,null,null,null,null,null,null,null,null,null,null,null,null,null,null,null,null,null,null,null,null,null,null,null,null,null,null,null,null,null,null,null,null,null,null,null,null,null,null,null,null,null,null,null,null,null,null,null,null,null,null,null,null,null,null,null,null,null,null,null,null,null,null,null,null,null,null,null,null,null,null,null,null,null,null,null,null,null,null,null,null,null,null,null,null,null,null,null,null,null,null,null,null,null,null,null,null,null,null,null,null,null,null,null,null,null,null,null,null,null,null,null,null,{"$f":"'Country information'!N233","v":"United States"},{"$f":"'Country information'!C233","v":"dollar"},{"$f":"'Country information'!D233","v":"US$"},{"$f":"'Country information'!E233","v":1},{"$f":"'Country information'!F233","v":40128.589282407411},1]
[null,null,null,null,null,null,null,null,null,null,null,null,null,null,null,null,null,null,null,null,null,null,null,null,null,null,null,null,null,null,null,null,null,null,null,null,null,null,null,null,null,null,null,null,null,null,null,null,null,null,null,null,null,null,null,null,null,null,null,null,null,null,null,null,null,null,null,null,null,null,null,null,null,null,null,null,null,null,null,null,null,null,null,null,null,null,null,null,null,null,null,null,null,null,null,null,null,null,null,null,null,null,null,null,null,null,null,null,null,null,null,null,null,null,null,null,null,null,null,null,null,null,null,null,null,null,null,null,null,null,null,null,null,null,null,null,{"$f":"'Country information'!N21","v":"Belgium"},{"$f":"'Country information'!C21","v":"euro"},{"$f":"'Country information'!D21","v":"€"},{"$f":"'Country information'!E21","v":0.77},{"$f":"'Country information'!F21","v":40592.405995370369}]
[null,null,null,null,null,null,null,null,null,null,null,null,null,null,null,null,null,null,null,null,null,null,null,null,null,null,null,null,null,null,null,null,null,null,null,null,null,null,null,null,null,null,null,null,null,null,null,null,null,null,null,null,null,null,null,null,null,null,null,null,null,null,null,null,null,null,null,null,null,null,null,null,null,null,null,null,null,null,null,null,null,null,null,null,null,null,null,null,null,null,null,null,null,null,null,null,null,null,null,null,null,null,null,null,null,null,null,null,null,null,null,null,null,null,null,null,null,null,null,null,null,null,null,null,null,null,null,null,null,null,null,null,null,null,null,null,{"$f":"'Country information'!N22","v":"Belize"},{"$f":"'Country information'!C22","v":"dollar"},{"$f":"'Country information'!D22","v":"BZ$"},{"$f":"'Country information'!E22","v":2},{"$f":"'Country information'!F22","v":40592.406006944446}]
[null,null,null,null,null,null,null,null,null,null,null,null,null,null,null,null,null,null,null,null,null,null,null,null,null,null,null,null,null,null,null,null,null,null,null,null,null,null,null,null,null,null,null,null,null,null,null,null,null,null,null,null,null,null,null,null,null,null,null,null,null,null,null,null,null,null,null,null,null,null,null,null,null,null,null,null,null,null,null,null,null,null,null,null,null,null,null,null,null,null,null,null,null,null,null,null,null,null,null,null,null,null,null,null,null,null,null,null,null,null,null,null,null,null,null,null,null,null,null,null,null,null,null,null,null,null,null,null,null,null,null,null,null,null,null,null,{"$f":"'Country information'!N23","v":"Benin"},{"$f":"'Country information'!C23","v":"franc"},{"$f":"'Country information'!D23","v":"CFAF"},{"$f":"'Country information'!E23","v":503.3},{"$f":"'Country information'!F23","v":40592.406006944446}]
[null,null,null,null,null,null,null,null,null,null,null,null,null,null,null,null,null,null,null,null,null,null,null,null,null,null,null,null,null,null,null,null,null,null,null,null,null,null,null,null,null,null,null,null,null,null,null,null,null,null,null,null,null,null,null,null,null,null,null,null,null,null,null,null,null,null,null,null,null,null,null,null,null,null,null,null,null,null,null,null,null,null,null,null,null,null,null,null,null,null,null,null,null,null,null,null,null,null,null,null,null,null,null,null,null,null,null,null,null,null,null,null,null,null,null,null,null,null,null,null,null,null,null,null,null,null,null,null,null,null,null,null,null,null,null,null,{"$f":"'Country information'!N24","v":"Bermuda"},{"$f":"'Country information'!C24","v":"dollar"},{"$f":"'Country information'!D24","v":"Bd$"},{"$f":"'Country information'!E24","v":1},{"$f":"'Country information'!F24","v":40592.406006944446}]
[null,null,null,null,null,null,null,null,null,null,null,null,null,null,null,null,null,null,null,null,null,null,null,null,null,null,null,null,null,null,null,null,null,null,null,null,null,null,null,null,null,null,null,null,null,null,null,null,null,null,null,null,null,null,null,null,null,null,null,null,null,null,null,null,null,null,null,null,null,null,null,null,null,null,null,null,null,null,null,null,null,null,null,null,null,null,null,null,null,null,null,null,null,null,null,null,null,null,null,null,null,null,null,null,null,null,null,null,null,null,null,null,null,null,null,null,null,null,null,null,null,null,null,null,null,null,null,null,null,null,null,null,null,null,null,null,{"$f":"'Country information'!N35","v":"Burundi"},{"$f":"'Country information'!C35","v":"franc"},{"$f":"'Country information'!D35","v":"FBu"},{"$f":"'Country information'!E35","v":1243},{"$f":"'Country information'!F35","v":40592.406006944446}]
[null,null,null,null,null,null,null,null,null,null,null,null,null,null,null,null,null,null,null,null,null,null,null,null,null,null,null,null,null,null,null,null,null,null,null,null,null,null,null,null,null,null,null,null,null,null,null,null,null,null,null,null,null,null,null,null,null,null,null,null,null,null,null,null,null,null,null,null,null,null,null,null,null,null,null,null,null,null,null,null,null,null,null,null,null,null,null,null,null,null,null,null,null,null,null,null,null,null,null,null,null,null,null,null,null,null,null,null,null,null,null,null,null,null,null,null,null,null,null,null,null,null,null,null,null,null,null,null,null,null,null,null,null,null,null,null,{"$f":"'Country information'!N36","v":"Cambodia"},{"$f":"'Country information'!C36","v":"new riel"},{"$f":"'Country information'!D36","v":"CR"},{"$f":"'Country information'!E36","v":3975.4},{"$f":"'Country information'!F36","v":39413}]
[null,null,null,null,null,null,null,null,null,null,null,null,null,null,null,null,null,null,null,null,null,null,null,null,null,null,null,null,null,null,null,null,null,null,null,null,null,null,null,null,null,null,null,null,null,null,null,null,null,null,null,null,null,null,null,null,null,null,null,null,null,null,null,null,null,null,null,null,null,null,null,null,null,null,null,null,null,null,null,null,null,null,null,null,null,null,null,null,null,null,null,null,null,null,null,null,null,null,null,null,null,null,null,null,null,null,null,null,null,null,null,null,null,null,null,null,null,null,null,null,null,null,null,null,null,null,null,null,null,null,null,null,null,null,null,null,{"$f":"'Country information'!N37","v":"Cameroon"},{"$f":"'Country information'!C37","v":"franc"},{"$f":"'Country information'!D37","v":"CFAF"},{"$f":"'Country information'!E37","v":503.3},{"$f":"'Country information'!F37","v":40592.406006944446}]
[null,null,null,null,null,null,null,null,null,null,null,null,null,null,null,null,null,null,null,null,null,null,null,null,null,null,null,null,null,null,null,null,null,null,null,null,null,null,null,null,null,null,null,null,null,null,null,null,null,null,null,null,null,null,null,null,null,null,null,null,null,null,null,null,null,null,null,null,null,null,null,null,null,null,null,null,null,null,null,null,null,null,null,null,null,null,null,null,null,null,null,null,null,null,null,null,null,null,null,null,null,null,null,null,null,null,null,null,null,null,null,null,null,null,null,null,null,null,null,null,null,null,null,null,null,null,null,null,null,null,null,null,null,null,null,null,{"$f":"'Country information'!N38","v":"Canada"},{"$f":"'Country information'!C38","v":"dollar"},{"$f":"'Country information'!D38","v":"Can$"},{"$f":"'Country information'!E38","v":1.02},{"$f":"'Country information'!F38","v":40592.406006944446}]
[null,null,null,null,null,null,null,null,null,null,null,null,null,null,null,null,null,null,null,null,null,null,null,null,null,null,null,null,null,null,null,null,null,null,null,null,null,null,null,null,null,null,null,null,null,null,null,null,null,null,null,null,null,null,null,null,null,null,null,null,null,null,null,null,null,null,null,null,null,null,null,null,null,null,null,null,null,null,null,null,null,null,null,null,null,null,null,null,null,null,null,null,null,null,null,null,null,null,null,null,null,null,null,null,null,null,null,null,null,null,null,null,null,null,null,null,null,null,null,null,null,null,null,null,null,null,null,null,null,null,null,null,null,null,null,null,{"$f":"'Country information'!N39","v":"Cape Verde Island"},{"$f":"'Country information'!C39","v":"escudo"},{"$f":"'Country information'!D39","v":"C.V.Esc."},{"$f":"'Country information'!E39","v":74.31},{"$f":"'Country information'!F39","v":39413}]
[null,null,null,null,null,null,null,null,null,null,null,null,null,null,null,null,null,null,null,null,null,null,null,null,null,null,null,null,null,null,null,null,null,null,null,null,null,null,null,null,null,null,null,null,null,null,null,null,null,null,null,null,null,null,null,null,null,null,null,null,null,null,null,null,null,null,null,null,null,null,null,null,null,null,null,null,null,null,null,null,null,null,null,null,null,null,null,null,null,null,null,null,null,null,null,null,null,null,null,null,null,null,null,null,null,null,null,null,null,null,null,null,null,null,null,null,null,null,null,null,null,null,null,null,null,null,null,null,null,null,null,null,null,null,null,null,{"$f":"'Country information'!N40","v":"Cayman Islands"},{"$f":"'Country information'!C40","v":"dollar"},{"$f":"'Country information'!D40","v":"CI$"},{"$f":"'Country information'!E40","v":0.82},{"$f":"'Country information'!F40","v":40592.406006944446}]
[null,null,null,null,null,null,null,null,null,null,null,null,null,null,null,null,null,null,null,null,null,null,null,null,null,null,null,null,null,null,null,null,null,null,null,null,null,null,null,null,null,null,null,null,null,null,null,null,null,null,null,null,null,null,null,null,null,null,null,null,null,null,null,null,null,null,null,null,null,null,null,null,null,null,null,null,null,null,null,null,null,null,null,null,null,null,null,null,null,null,null,null,null,null,null,null,null,null,null,null,null,null,null,null,null,null,null,null,null,null,null,null,null,null,null,null,null,null,null,null,null,null,null,null,null,null,null,null,null,null,null,null,null,null,null,null,{"$f":"'Country information'!N41","v":"Central African Republic"},{"$f":"'Country information'!C41","v":"franc"},{"$f":"'Country information'!D41","v":"CFAF"},{"$f":"'Country information'!E41","v":503.3},{"$f":"'Country information'!F41","v":40592.406006944446}]
[null,null,null,null,null,null,null,null,null,null,null,null,null,null,null,null,null,null,null,null,null,null,null,null,null,null,null,null,null,null,null,null,null,null,null,null,null,null,null,null,null,null,null,null,null,null,null,null,null,null,null,null,null,null,null,null,null,null,null,null,null,null,null,null,null,null,null,null,null,null,null,null,null,null,null,null,null,null,null,null,null,null,null,null,null,null,null,null,null,null,null,null,null,null,null,null,null,null,null,null,null,null,null,null,null,null,null,null,null,null,null,null,null,null,null,null,null,null,null,null,null,null,null,null,null,null,null,null,null,null,null,null,null,null,null,null,{"$f":"'Country information'!N42","v":"Chad"},{"$f":"'Country information'!C42","v":"franc"},{"$f":"'Country information'!D42","v":"CFAF"},{"$f":"'Country information'!E42","v":503.3},{"$f":"'Country information'!F42","v":40592.406006944446}]
[null,null,null,null,null,null,null,null,null,null,null,null,null,null,null,null,null,null,null,null,null,null,null,null,null,null,null,null,null,null,null,null,null,null,null,null,null,null,null,null,null,null,null,null,null,null,null,null,null,null,null,null,null,null,null,null,null,null,null,null,null,null,null,null,null,null,null,null,null,null,null,null,null,null,null,null,null,null,null,null,null,null,null,null,null,null,null,null,null,null,null,null,null,null,null,null,null,null,null,null,null,null,null,null,null,null,null,null,null,null,null,null,null,null,null,null,null,null,null,null,null,null,null,null,null,null,null,null,null,null,null,null,null,null,null,null,{"$f":"'Country information'!N43","v":"Chile"},{"$f":"'Country information'!C43","v":"peso"},{"$f":"'Country information'!D43","v":"Ch$"},{"$f":"'Country information'!E43","v":486.7},{"$f":"'Country information'!F43","v":40592.406006944446}]
[null,null,null,null,null,null,null,null,null,null,null,null,null,null,null,null,null,null,null,null,null,null,null,null,null,null,null,null,null,null,null,null,null,null,null,null,null,null,null,null,null,null,null,null,null,null,null,null,null,null,null,null,null,null,null,null,null,null,null,null,null,null,null,null,null,null,null,null,null,null,null,null,null,null,null,null,null,null,null,null,null,null,null,null,null,null,null,null,null,null,null,null,null,null,null,null,null,null,null,null,null,null,null,null,null,null,null,null,null,null,null,null,null,null,null,null,null,null,null,null,null,null,null,null,null,null,null,null,null,null,null,null,null,null,null,null,{"$f":"'Country information'!N44","v":"China"},{"$f":"'Country information'!C44","v":"yuan renminbi"},{"$f":"'Country information'!D44","v":"¥"},{"$f":"'Country information'!E44","v":6.67},{"$f":"'Country information'!F44","v":40592.406006944446}]
[null,null,null,null,null,null,null,null,null,null,null,null,null,null,null,null,null,null,null,null,null,null,null,null,null,null,null,null,null,null,null,null,null,null,null,null,null,null,null,null,null,null,null,null,null,null,null,null,null,null,null,null,null,null,null,null,null,null,null,null,null,null,null,null,null,null,null,null,null,null,null,null,null,null,null,null,null,null,null,null,null,null,null,null,null,null,null,null,null,null,null,null,null,null,null,null,null,null,null,null,null,null,null,null,null,null,null,null,null,null,null,null,null,null,null,null,null,null,null,null,null,null,null,null,null,null,null,null,null,null,null,null,null,null,null,null,{"$f":"'Country information'!N45","v":"Christmas Island"},{"$f":"'Country information'!C45","v":"dollar"},{"$f":"'Country information'!D45","v":"A$"},{"$f":"'Country information'!E45","v":1.04},{"$f":"'Country information'!F45","v":40592.406053240738}]
[null,null,null,null,null,null,null,null,null,null,null,null,null,null,null,null,null,null,null,null,null,null,null,null,null,null,null,null,null,null,null,null,null,null,null,null,null,null,null,null,null,null,null,null,null,null,null,null,null,null,null,null,null,null,null,null,null,null,null,null,null,null,null,null,null,null,null,null,null,null,null,null,null,null,null,null,null,null,null,null,null,null,null,null,null,null,null,null,null,null,null,null,null,null,null,null,null,null,null,null,null,null,null,null,null,null,null,null,null,null,null,null,null,null,null,null,null,null,null,null,null,null,null,null,null,null,null,null,null,null,null,null,null,null,null,null,{"$f":"'Country information'!N46","v":"Cocos (Keeling) Islands"},{"$f":"'Country information'!C46","v":"dollar"},{"$f":"'Country information'!D46","v":"A$"},{"$f":"'Country information'!E46","v":1.04},{"$f":"'Country information'!F46","v":40592.406053240738}]
[null,null,null,null,null,null,null,null,null,null,null,null,null,null,null,null,null,null,null,null,null,null,null,null,null,null,null,null,null,null,null,null,null,null,null,null,null,null,null,null,null,null,null,null,null,null,null,null,null,null,null,null,null,null,null,null,null,null,null,null,null,null,null,null,null,null,null,null,null,null,null,null,null,null,null,null,null,null,null,null,null,null,null,null,null,null,null,null,null,null,null,null,null,null,null,null,null,null,null,null,null,null,null,null,null,null,null,null,null,null,null,null,null,null,null,null,null,null,null,null,null,null,null,null,null,null,null,null,null,null,null,null,null,null,null,null,{"$f":"'Country information'!N47","v":"Colombia"},{"$f":"'Country information'!C47","v":"peso"},{"$f":"'Country information'!D47","v":"Col$"},{"$f":"'Country information'!E47","v":1920},{"$f":"'Country information'!F47","v":40592.406006944446}]
[null,null,null,null,null,null,null,null,null,null,null,null,null,null,null,null,null,null,null,null,null,null,null,null,null,null,null,null,null,null,null,null,null,null,null,null,null,null,null,null,null,null,null,null,null,null,null,null,null,null,null,null,null,null,null,null,null,null,null,null,null,null,null,null,null,null,null,null,null,null,null,null,null,null,null,null,null,null,null,null,null,null,null,null,null,null,null,null,null,null,null,null,null,null,null,null,null,null,null,null,null,null,null,null,null,null,null,null,null,null,null,null,null,null,null,null,null,null,null,null,null,null,null,null,null,null,null,null,null,null,null,null,null,null,null,null,{"$f":"'Country information'!N48","v":"Comoros"},{"$f":"'Country information'!C48","v":"franc"},{"$f":"'Country information'!D48","v":"KMF"},{"$f":"'Country information'!E48","v":361.35},{"$f":"'Country information'!F48","v":40592.406006944446}]
[null,null,null,null,null,null,null,null,null,null,null,null,null,null,null,null,null,null,null,null,null,null,null,null,null,null,null,null,null,null,null,null,null,null,null,null,null,null,null,null,null,null,null,null,null,null,null,null,null,null,null,null,null,null,null,null,null,null,null,null,null,null,null,null,null,null,null,null,null,null,null,null,null,null,null,null,null,null,null,null,null,null,null,null,null,null,null,null,null,null,null,null,null,null,null,null,null,null,null,null,null,null,null,null,null,null,null,null,null,null,null,null,null,null,null,null,null,null,null,null,null,null,null,null,null,null,null,null,null,null,null,null,null,null,null,null,{"$f":"'Country information'!N49","v":"Congo"},{"$f":"'Country information'!C49","v":"franc"},{"$f":"'Country information'!D49","v":"CFAF"},{"$f":"'Country information'!E49","v":503.3},{"$f":"'Country information'!F49","v":40592.406006944446}]
[null,null,null,null,null,null,null,null,null,null,null,null,null,null,null,null,null,null,null,null,null,null,null,null,null,null,null,null,null,null,null,null,null,null,null,null,null,null,null,null,null,null,null,null,null,null,null,null,null,null,null,null,null,null,null,null,null,null,null,null,null,null,null,null,null,null,null,null,null,null,null,null,null,null,null,null,null,null,null,null,null,null,null,null,null,null,null,null,null,null,null,null,null,null,null,null,null,null,null,null,null,null,null,null,null,null,null,null,null,null,null,null,null,null,null,null,null,null,null,null,null,null,null,null,null,null,null,null,null,null,null,null,null,null,null,null,{"$f":"'Country information'!N50","v":"Congo, Dem. Rep."},{"$f":"'Country information'!C50","v":"franc"},{"$f":"'Country information'!D50","v":"CDF"},{"$f":"'Country information'!E50","v":560},{"$f":"'Country information'!F50","v":39413}]
[null,null,null,null,null,null,null,null,null,null,null,null,null,null,null,null,null,null,null,null,null,null,null,null,null,null,null,null,null,null,null,null,null,null,null,null,null,null,null,null,null,null,null,null,null,null,null,null,null,null,null,null,null,null,null,null,null,null,null,null,null,null,null,null,null,null,null,null,null,null,null,null,null,null,null,null,null,null,null,null,null,null,null,null,null,null,null,null,null,null,null,null,null,null,null,null,null,null,null,null,null,null,null,null,null,null,null,null,null,null,null,null,null,null,null,null,null,null,null,null,null,null,null,null,null,null,null,null,null,null,null,null,null,null,null,null,{"$f":"'Country information'!N51","v":"Cook Islands"},{"$f":"'Country information'!C51","v":"dollar"},{"$f":"'Country information'!D51","v":"NZ$"},{"$f":"'Country information'!E51","v":1.34},{"$f":"'Country information'!F51","v":40592.406053240738}]
[null,null,null,null,null,null,null,null,null,null,null,null,null,null,null,null,null,null,null,null,null,null,null,null,null,null,null,null,null,null,null,null,null,null,null,null,null,null,null,null,null,null,null,null,null,null,null,null,null,null,null,null,null,null,null,null,null,null,null,null,null,null,null,null,null,null,null,null,null,null,null,null,null,null,null,null,null,null,null,null,null,null,null,null,null,null,null,null,null,null,null,null,null,null,null,null,null,null,null,null,null,null,null,null,null,null,null,null,null,null,null,null,null,null,null,null,null,null,null,null,null,null,null,null,null,null,null,null,null,null,null,null,null,null,null,null,{"$f":"'Country information'!N52","v":"Costa Rica"},{"$f":"'Country information'!C52","v":"colon"},{"$f":"'Country information'!D52","v":"₡"},{"$f":"'Country information'!E52","v":501.95},{"$f":"'Country information'!F52","v":40592.406018518515}]
[null,null,null,null,null,null,null,null,null,null,null,null,null,null,null,null,null,null,null,null,null,null,null,null,null,null,null,null,null,null,null,null,null,null,null,null,null,null,null,null,null,null,null,null,null,null,null,null,null,null,null,null,null,null,null,null,null,null,null,null,null,null,null,null,null,null,null,null,null,null,null,null,null,null,null,null,null,null,null,null,null,null,null,null,null,null,null,null,null,null,null,null,null,null,null,null,null,null,null,null,null,null,null,null,null,null,null,null,null,null,null,null,null,null,null,null,null,null,null,null,null,null,null,null,null,null,null,null,null,null,null,null,null,null,null,null,{"$f":"'Country information'!N53","v":"Côte d'Ivoire"},{"$f":"'Country information'!C53","v":"franc"},{"$f":"'Country information'!D53","v":"CFAF"},{"$f":"'Country information'!E53","v":503.3},{"$f":"'Country information'!F53","v":40592.406053240738}]
[null,null,null,null,null,null,null,null,null,null,null,null,null,null,null,null,null,null,null,null,null,null,null,null,null,null,null,null,null,null,null,null,null,null,null,null,null,null,null,null,null,null,null,null,null,null,null,null,null,null,null,null,null,null,null,null,null,null,null,null,null,null,null,null,null,null,null,null,null,null,null,null,null,null,null,null,null,null,null,null,null,null,null,null,null,null,null,null,null,null,null,null,null,null,null,null,null,null,null,null,null,null,null,null,null,null,null,null,null,null,null,null,null,null,null,null,null,null,null,null,null,null,null,null,null,null,null,null,null,null,null,null,null,null,null,null,{"$f":"'Country information'!N54","v":"Croatia"},{"$f":"'Country information'!C54","v":"kuna"},{"$f":"'Country information'!D54","v":"kn"},{"$f":"'Country information'!E54","v":5.59},{"$f":"'Country information'!F54","v":40592.406018518515}]
[null,null,null,null,null,null,null,null,null,null,null,null,null,null,null,null,null,null,null,null,null,null,null,null,null,null,null,null,null,null,null,null,null,null,null,null,null,null,null,null,null,null,null,null,null,null,null,null,null,null,null,null,null,null,null,null,null,null,null,null,null,null,null,null,null,null,null,null,null,null,null,null,null,null,null,null,null,null,null,null,null,null,null,null,null,null,null,null,null,null,null,null,null,null,null,null,null,null,null,null,null,null,null,null,null,null,null,null,null,null,null,null,null,null,null,null,null,null,null,null,null,null,null,null,null,null,null,null,null,null,null,null,null,null,null,null,{"$f":"'Country information'!N55","v":"Cuba (external)"},{"$f":"'Country information'!C55","v":"convertible peso"},{"$f":"'Country information'!D55","v":"Cuc$"},{"$f":"'Country information'!E55","v":0.92589999999999995},{"$f":"'Country information'!F55","v":39413}]
[null,null,null,null,null,null,null,null,null,null,null,null,null,null,null,null,null,null,null,null,null,null,null,null,null,null,null,null,null,null,null,null,null,null,null,null,null,null,null,null,null,null,null,null,null,null,null,null,null,null,null,null,null,null,null,null,null,null,null,null,null,null,null,null,null,null,null,null,null,null,null,null,null,null,null,null,null,null,null,null,null,null,null,null,null,null,null,null,null,null,null,null,null,null,null,null,null,null,null,null,null,null,null,null,null,null,null,null,null,null,null,null,null,null,null,null,null,null,null,null,null,null,null,null,null,null,null,null,null,null,null,null,null,null,null,null,{"$f":"'Country information'!N56","v":"Cuba (internal)"},{"$f":"'Country information'!C56","v":"peso"},{"$f":"'Country information'!D56","v":"₱"},{"$f":"'Country information'!E56","v":26.49708532061473},{"$f":"'Country information'!F56","v":39413}]
[null,null,null,null,null,null,null,null,null,null,null,null,null,null,null,null,null,null,null,null,null,null,null,null,null,null,null,null,null,null,null,null,null,null,null,null,null,null,null,null,null,null,null,null,null,null,null,null,null,null,null,null,null,null,null,null,null,null,null,null,null,null,null,null,null,null,null,null,null,null,null,null,null,null,null,null,null,null,null,null,null,null,null,null,null,null,null,null,null,null,null,null,null,null,null,null,null,null,null,null,null,null,null,null,null,null,null,null,null,null,null,null,null,null,null,null,null,null,null,null,null,null,null,null,null,null,null,null,null,null,null,null,null,null,null,null,{"$f":"'Country information'!N57","v":"Cyprus"},{"$f":"'Country information'!C57","v":"poundC"},{"$f":"'Country information'!D57","v":"£C"},{"$f":"'Country information'!E57","v":0.77},{"$f":"'Country information'!F57","v":40592.406018518515}]
[null,null,null,null,null,null,null,null,null,null,null,null,null,null,null,null,null,null,null,null,null,null,null,null,null,null,null,null,null,null,null,null,null,null,null,null,null,null,null,null,null,null,null,null,null,null,null,null,null,null,null,null,null,null,null,null,null,null,null,null,null,null,null,null,null,null,null,null,null,null,null,null,null,null,null,null,null,null,null,null,null,null,null,null,null,null,null,null,null,null,null,null,null,null,null,null,null,null,null,null,null,null,null,null,null,null,null,null,null,null,null,null,null,null,null,null,null,null,null,null,null,null,null,null,null,null,null,null,null,null,null,null,null,null,null,null,{"$f":"'Country information'!N58","v":"Cyprus (Northern)"},{"$f":"'Country information'!C58","v":"new lira"},{"$f":"'Country information'!D58","v":"YTL"},{"$f":"'Country information'!E58","v":1.3449899125756557},{"$f":"'Country information'!F58","v":38817}]
[null,null,null,null,null,null,null,null,null,null,null,null,null,null,null,null,null,null,null,null,null,null,null,null,null,null,null,null,null,null,null,null,null,null,null,null,null,null,null,null,null,null,null,null,null,null,null,null,null,null,null,null,null,null,null,null,null,null,null,null,null,null,null,null,null,null,null,null,null,null,null,null,null,null,null,null,null,null,null,null,null,null,null,null,null,null,null,null,null,null,null,null,null,null,null,null,null,null,null,null,null,null,null,null,null,null,null,null,null,null,null,null,null,null,null,null,null,null,null,null,null,null,null,null,null,null,null,null,null,null,null,null,null,null,null,null,{"$f":"'Country information'!N59","v":"Czech"},{"$f":"'Country information'!C59","v":"koruna"},{"$f":"'Country information'!D59","v":"Kč"},{"$f":"'Country information'!E59","v":17},{"$f":"'Country information'!F59","v":40599.404351851852}]
[null,null,null,null,null,null,null,null,null,null,null,null,null,null,null,null,null,null,null,null,null,null,null,null,null,null,null,null,null,null,null,null,null,null,null,null,null,null,null,null,null,null,null,null,null,null,null,null,null,null,null,null,null,null,null,null,null,null,null,null,null,null,null,null,null,null,null,null,null,null,null,null,null,null,null,null,null,null,null,null,null,null,null,null,null,null,null,null,null,null,null,null,null,null,null,null,null,null,null,null,null,null,null,null,null,null,null,null,null,null,null,null,null,null,null,null,null,null,null,null,null,null,null,null,null,null,null,null,null,null,null,null,null,null,null,null,{"$f":"'Country information'!N60","v":"Denmark"},{"$f":"'Country information'!C60","v":"kroner"},{"$f":"'Country information'!D60","v":"Dkr"},{"$f":"'Country information'!E60","v":5.72},{"$f":"'Country information'!F60","v":40592.406018518515}]
[null,null,null,null,null,null,null,null,null,null,null,null,null,null,null,null,null,null,null,null,null,null,null,null,null,null,null,null,null,null,null,null,null,null,null,null,null,null,null,null,null,null,null,null,null,null,null,null,null,null,null,null,null,null,null,null,null,null,null,null,null,null,null,null,null,null,null,null,null,null,null,null,null,null,null,null,null,null,null,null,null,null,null,null,null,null,null,null,null,null,null,null,null,null,null,null,null,null,null,null,null,null,null,null,null,null,null,null,null,null,null,null,null,null,null,null,null,null,null,null,null,null,null,null,null,null,null,null,null,null,null,null,null,null,null,null,{"$f":"'Country information'!N61","v":"Djibouti"},{"$f":"'Country information'!C61","v":"franc"},{"$f":"'Country information'!D61","v":"DF"},{"$f":"'Country information'!E61","v":177},{"$f":"'Country information'!F61","v":40592.406018518515}]
[null,null,null,null,null,null,null,null,null,null,null,null,null,null,null,null,null,null,null,null,null,null,null,null,null,null,null,null,null,null,null,null,null,null,null,null,null,null,null,null,null,null,null,null,null,null,null,null,null,null,null,null,null,null,null,null,null,null,null,null,null,null,null,null,null,null,null,null,null,null,null,null,null,null,null,null,null,null,null,null,null,null,null,null,null,null,null,null,null,null,null,null,null,null,null,null,null,null,null,null,null,null,null,null,null,null,null,null,null,null,null,null,null,null,null,null,null,null,null,null,null,null,null,null,null,null,null,null,null,null,null,null,null,null,null,null,{"$f":"'Country information'!N62","v":"Dominica"},{"$f":"'Country information'!C62","v":"dollar"},{"$f":"'Country information'!D62","v":"EC$"},{"$f":"'Country information'!E62","v":2.7},{"$f":"'Country information'!F62","v":40592.406053240738}]
[null,null,null,null,null,null,null,null,null,null,null,null,null,null,null,null,null,null,null,null,null,null,null,null,null,null,null,null,null,null,null,null,null,null,null,null,null,null,null,null,null,null,null,null,null,null,null,null,null,null,null,null,null,null,null,null,null,null,null,null,null,null,null,null,null,null,null,null,null,null,null,null,null,null,null,null,null,null,null,null,null,null,null,null,null,null,null,null,null,null,null,null,null,null,null,null,null,null,null,null,null,null,null,null,null,null,null,null,null,null,null,null,null,null,null,null,null,null,null,null,null,null,null,null,null,null,null,null,null,null,null,null,null,null,null,null,{"$f":"'Country information'!N63","v":"Dominican Rep."},{"$f":"'Country information'!C63","v":"peso"},{"$f":"'Country information'!D63","v":"RD$"},{"$f":"'Country information'!E63","v":33.483499999999999},{"$f":"'Country information'!F63","v":39413}]
[null,null,null,null,null,null,null,null,null,null,null,null,null,null,null,null,null,null,null,null,null,null,null,null,null,null,null,null,null,null,null,null,null,null,null,null,null,null,null,null,null,null,null,null,null,null,null,null,null,null,null,null,null,null,null,null,null,null,null,null,null,null,null,null,null,null,null,null,null,null,null,null,null,null,null,null,null,null,null,null,null,null,null,null,null,null,null,null,null,null,null,null,null,null,null,null,null,null,null,null,null,null,null,null,null,null,null,null,null,null,null,null,null,null,null,null,null,null,null,null,null,null,null,null,null,null,null,null,null,null,null,null,null,null,null,null,{"$f":"'Country information'!N64","v":"Dronning Maud Land"},{"$f":"'Country information'!C64","v":"krone"},{"$f":"'Country information'!D64","v":"NKr"},{"$f":"'Country information'!E64","v":6.2},{"$f":"'Country information'!F64","v":40592.406053240738}]
[null,null,null,null,null,null,null,null,null,null,null,null,null,null,null,null,null,null,null,null,null,null,null,null,null,null,null,null,null,null,null,null,null,null,null,null,null,null,null,null,null,null,null,null,null,null,null,null,null,null,null,null,null,null,null,null,null,null,null,null,null,null,null,null,null,null,null,null,null,null,null,null,null,null,null,null,null,null,null,null,null,null,null,null,null,null,null,null,null,null,null,null,null,null,null,null,null,null,null,null,null,null,null,null,null,null,null,null,null,null,null,null,null,null,null,null,null,null,null,null,null,null,null,null,null,null,null,null,null,null,null,null,null,null,null,null,{"$f":"'Country information'!N65","v":"East Timor"},{"$f":"'Country information'!C65","v":"dollar"},{"$f":"'Country information'!D65","v":"US$"},{"$f":"'Country information'!E65","v":1},{"$f":"'Country information'!F65","v":40592.406018518515}]
[null,null,null,null,null,null,null,null,null,null,null,null,null,null,null,null,null,null,null,null,null,null,null,null,null,null,null,null,null,null,null,null,null,null,null,null,null,null,null,null,null,null,null,null,null,null,null,null,null,null,null,null,null,null,null,null,null,null,null,null,null,null,null,null,null,null,null,null,null,null,null,null,null,null,null,null,null,null,null,null,null,null,null,null,null,null,null,null,null,null,null,null,null,null,null,null,null,null,null,null,null,null,null,null,null,null,null,null,null,null,null,null,null,null,null,null,null,null,null,null,null,null,null,null,null,null,null,null,null,null,null,null,null,null,null,null,{"$f":"'Country information'!N66","v":"Ecuador"},{"$f":"'Country information'!C66","v":"dollar"},{"$f":"'Country information'!D66","v":"US$"},{"$f":"'Country information'!E66","v":1},{"$f":"'Country information'!F66","v":40128.589282407411}]
[null,null,null,null,null,null,null,null,null,null,null,null,null,null,null,null,null,null,null,null,null,null,null,null,null,null,null,null,null,null,null,null,null,null,null,null,null,null,null,null,null,null,null,null,null,null,null,null,null,null,null,null,null,null,null,null,null,null,null,null,null,null,null,null,null,null,null,null,null,null,null,null,null,null,null,null,null,null,null,null,null,null,null,null,null,null,null,null,null,null,null,null,null,null,null,null,null,null,null,null,null,null,null,null,null,null,null,null,null,null,null,null,null,null,null,null,null,null,null,null,null,null,null,null,null,null,null,null,null,null,null,null,null,null,null,null,{"$f":"'Country information'!N67","v":"Egypt"},{"$f":"'Country information'!C67","v":"poundE"},{"$f":"'Country information'!D67","v":"£E"},{"$f":"'Country information'!E67","v":5.79},{"$f":"'Country information'!F67","v":40592.406018518515}]
[null,null,null,null,null,null,null,null,null,null,null,null,null,null,null,null,null,null,null,null,null,null,null,null,null,null,null,null,null,null,null,null,null,null,null,null,null,null,null,null,null,null,null,null,null,null,null,null,null,null,null,null,null,null,null,null,null,null,null,null,null,null,null,null,null,null,null,null,null,null,null,null,null,null,null,null,null,null,null,null,null,null,null,null,null,null,null,null,null,null,null,null,null,null,null,null,null,null,null,null,null,null,null,null,null,null,null,null,null,null,null,null,null,null,null,null,null,null,null,null,null,null,null,null,null,null,null,null,null,null,null,null,null,null,null,null,{"$f":"'Country information'!N68","v":"El Salvador"},{"$f":"'Country information'!C68","v":"dollar"},{"$f":"'Country information'!D68","v":"US$"},{"$f":"'Country information'!E68","v":1},{"$f":"'Country information'!F68","v":40592.406018518515}]
[null,null,null,null,null,null,null,null,null,null,null,null,null,null,null,null,null,null,null,null,null,null,null,null,null,null,null,null,null,null,null,null,null,null,null,null,null,null,null,null,null,null,null,null,null,null,null,null,null,null,null,null,null,null,null,null,null,null,null,null,null,null,null,null,null,null,null,null,null,null,null,null,null,null,null,null,null,null,null,null,null,null,null,null,null,null,null,null,null,null,null,null,null,null,null,null,null,null,null,null,null,null,null,null,null,null,null,null,null,null,null,null,null,null,null,null,null,null,null,null,null,null,null,null,null,null,null,null,null,null,null,null,null,null,null,null,{"$f":"'Country information'!N69","v":"Equatorial Guinea"},{"$f":"'Country information'!C69","v":"franc"},{"$f":"'Country information'!D69","v":"CFAF"},{"$f":"'Country information'!E69","v":503.3},{"$f":"'Country information'!F69","v":40592.406018518515}]
[null,null,null,null,null,null,null,null,null,null,null,null,null,null,null,null,null,null,null,null,null,null,null,null,null,null,null,null,null,null,null,null,null,null,null,null,null,null,null,null,null,null,null,null,null,null,null,null,null,null,null,null,null,null,null,null,null,null,null,null,null,null,null,null,null,null,null,null,null,null,null,null,null,null,null,null,null,null,null,null,null,null,null,null,null,null,null,null,null,null,null,null,null,null,null,null,null,null,null,null,null,null,null,null,null,null,null,null,null,null,null,null,null,null,null,null,null,null,null,null,null,null,null,null,null,null,null,null,null,null,null,null,null,null,null,null,{"$f":"'Country information'!N70","v":"Eritrea"},{"$f":"'Country information'!C70","v":"nakfa"},{"$f":"'Country information'!D70","v":"Nfa"},{"$f":"'Country information'!E70","v":15},{"$f":"'Country information'!F70","v":40592.406018518515}]
[null,null,null,null,null,null,null,null,null,null,null,null,null,null,null,null,null,null,null,null,null,null,null,null,null,null,null,null,null,null,null,null,null,null,null,null,null,null,null,null,null,null,null,null,null,null,null,null,null,null,null,null,null,null,null,null,null,null,null,null,null,null,null,null,null,null,null,null,null,null,null,null,null,null,null,null,null,null,null,null,null,null,null,null,null,null,null,null,null,null,null,null,null,null,null,null,null,null,null,null,null,null,null,null,null,null,null,null,null,null,null,null,null,null,null,null,null,null,null,null,null,null,null,null,null,null,null,null,null,null,null,null,null,null,null,null,{"$f":"'Country information'!N71","v":"Estonia"},{"$f":"'Country information'!C71","v":"kroon"},{"$f":"'Country information'!D71","v":"KR"},{"$f":"'Country information'!E71","v":12},{"$f":"'Country information'!F71","v":40592.406018518515}]
[null,null,null,null,null,null,null,null,null,null,null,null,null,null,null,null,null,null,null,null,null,null,null,null,null,null,null,null,null,null,null,null,null,null,null,null,null,null,null,null,null,null,null,null,null,null,null,null,null,null,null,null,null,null,null,null,null,null,null,null,null,null,null,null,null,null,null,null,null,null,null,null,null,null,null,null,null,null,null,null,null,null,null,null,null,null,null,null,null,null,null,null,null,null,null,null,null,null,null,null,null,null,null,null,null,null,null,null,null,null,null,null,null,null,null,null,null,null,null,null,null,null,null,null,null,null,null,null,null,null,null,null,null,null,null,null,{"$f":"'Country information'!N72","v":"Ethiopia"},{"$f":"'Country information'!C72","v":"birr"},{"$f":"'Country information'!D72","v":"Br"},{"$f":"'Country information'!E72","v":16.489999999999998},{"$f":"'Country information'!F72","v":40592.406018518515}]
[null,null,null,null,null,null,null,null,null,null,null,null,null,null,null,null,null,null,null,null,null,null,null,null,null,null,null,null,null,null,null,null,null,null,null,null,null,null,null,null,null,null,null,null,null,null,null,null,null,null,null,null,null,null,null,null,null,null,null,null,null,null,null,null,null,null,null,null,null,null,null,null,null,null,null,null,null,null,null,null,null,null,null,null,null,null,null,null,null,null,null,null,null,null,null,null,null,null,null,null,null,null,null,null,null,null,null,null,null,null,null,null,null,null,null,null,null,null,null,null,null,null,null,null,null,null,null,null,null,null,null,null,null,null,null,null,{"$f":"'Country information'!N73","v":"Faeroe Islands (Føroyar)"},{"$f":"'Country information'!C73","v":"kroner"},{"$f":"'Country information'!D73","v":"Dkr"},{"$f":"'Country information'!E73","v":5.72},{"$f":"'Country information'!F73","v":40592.406053240738}]
[null,null,null,null,null,null,null,null,null,null,null,null,null,null,null,null,null,null,null,null,null,null,null,null,null,null,null,null,null,null,null,null,null,null,null,null,null,null,null,null,null,null,null,null,null,null,null,null,null,null,null,null,null,null,null,null,null,null,null,null,null,null,null,null,null,null,null,null,null,null,null,null,null,null,null,null,null,null,null,null,null,null,null,null,null,null,null,null,null,null,null,null,null,null,null,null,null,null,null,null,null,null,null,null,null,null,null,null,null,null,null,null,null,null,null,null,null,null,null,null,null,null,null,null,null,null,null,null,null,null,null,null,null,null,null,null,{"$f":"'Country information'!N74","v":"Falkland Islands"},{"$f":"'Country information'!C74","v":"pound"},{"$f":"'Country information'!D74","v":"£"},{"$f":"'Country information'!E74","v":0.64},{"$f":"'Country information'!F74","v":40592.406053240738}]
[null,null,null,null,null,null,null,null,null,null,null,null,null,null,null,null,null,null,null,null,null,null,null,null,null,null,null,null,null,null,null,null,null,null,null,null,null,null,null,null,null,null,null,null,null,null,null,null,null,null,null,null,null,null,null,null,null,null,null,null,null,null,null,null,null,null,null,null,null,null,null,null,null,null,null,null,null,null,null,null,null,null,null,null,null,null,null,null,null,null,null,null,null,null,null,null,null,null,null,null,null,null,null,null,null,null,null,null,null,null,null,null,null,null,null,null,null,null,null,null,null,null,null,null,null,null,null,null,null,null,null,null,null,null,null,null,{"$f":"'Country information'!N75","v":"Fiji"},{"$f":"'Country information'!C75","v":"dollar"},{"$f":"'Country information'!D75","v":"F$"},{"$f":"'Country information'!E75","v":1.82},{"$f":"'Country information'!F75","v":40592.406018518515}]
[null,null,null,null,null,null,null,null,null,null,null,null,null,null,null,null,null,null,null,null,null,null,null,null,null,null,null,null,null,null,null,null,null,null,null,null,null,null,null,null,null,null,null,null,null,null,null,null,null,null,null,null,null,null,null,null,null,null,null,null,null,null,null,null,null,null,null,null,null,null,null,null,null,null,null,null,null,null,null,null,null,null,null,null,null,null,null,null,null,null,null,null,null,null,null,null,null,null,null,null,null,null,null,null,null,null,null,null,null,null,null,null,null,null,null,null,null,null,null,null,null,null,null,null,null,null,null,null,null,null,null,null,null,null,null,null,{"$f":"'Country information'!N76","v":"Finland"},{"$f":"'Country information'!C76","v":"euro"},{"$f":"'Country information'!D76","v":"€"},{"$f":"'Country information'!E76","v":0.77},{"$f":"'Country information'!F76","v":40592.406018518515}]
[null,null,null,null,null,null,null,null,null,null,null,null,null,null,null,null,null,null,null,null,null,null,null,null,null,null,null,null,null,null,null,null,null,null,null,null,null,null,null,null,null,null,null,null,null,null,null,null,null,null,null,null,null,null,null,null,null,null,null,null,null,null,null,null,null,null,null,null,null,null,null,null,null,null,null,null,null,null,null,null,null,null,null,null,null,null,null,null,null,null,null,null,null,null,null,null,null,null,null,null,null,null,null,null,null,null,null,null,null,null,null,null,null,null,null,null,null,null,null,null,null,null,null,null,null,null,null,null,null,null,null,null,null,null,null,null,{"$f":"'Country information'!N77","v":"France"},{"$f":"'Country information'!C77","v":"euro"},{"$f":"'Country information'!D77","v":"€"},{"$f":"'Country information'!E77","v":0.77},{"$f":"'Country information'!F77","v":40592.406018518515}]
[null,null,null,null,null,null,null,null,null,null,null,null,null,null,null,null,null,null,null,null,null,null,null,null,null,null,null,null,null,null,null,null,null,null,null,null,null,null,null,null,null,null,null,null,null,null,null,null,null,null,null,null,null,null,null,null,null,null,null,null,null,null,null,null,null,null,null,null,null,null,null,null,null,null,null,null,null,null,null,null,null,null,null,null,null,null,null,null,null,null,null,null,null,null,null,null,null,null,null,null,null,null,null,null,null,null,null,null,null,null,null,null,null,null,null,null,null,null,null,null,null,null,null,null,null,null,null,null,null,null,null,null,null,null,null,null,{"$f":"'Country information'!N78","v":"French Guiana"},{"$f":"'Country information'!C78","v":"euro"},{"$f":"'Country information'!D78","v":"€"},{"$f":"'Country information'!E78","v":0.77},{"$f":"'Country information'!F78","v":40592.406053240738}]
[null,null,null,null,null,null,null,null,null,null,null,null,null,null,null,null,null,null,null,null,null,null,null,null,null,null,null,null,null,null,null,null,null,null,null,null,null,null,null,null,null,null,null,null,null,null,null,null,null,null,null,null,null,null,null,null,null,null,null,null,null,null,null,null,null,null,null,null,null,null,null,null,null,null,null,null,null,null,null,null,null,null,null,null,null,null,null,null,null,null,null,null,null,null,null,null,null,null,null,null,null,null,null,null,null,null,null,null,null,null,null,null,null,null,null,null,null,null,null,null,null,null,null,null,null,null,null,null,null,null,null,null,null,null,null,null,{"$f":"'Country information'!N79","v":"French Polynesia"},{"$f":"'Country information'!C79","v":"euro"},{"$f":"'Country information'!D79","v":"€"},{"$f":"'Country information'!E79","v":0.73299999999999998},{"$f":"'Country information'!F79","v":39413}]
[null,null,null,null,null,null,null,null,null,null,null,null,null,null,null,null,null,null,null,null,null,null,null,null,null,null,null,null,null,null,null,null,null,null,null,null,null,null,null,null,null,null,null,null,null,null,null,null,null,null,null,null,null,null,null,null,null,null,null,null,null,null,null,null,null,null,null,null,null,null,null,null,null,null,null,null,null,null,null,null,null,null,null,null,null,null,null,null,null,null,null,null,null,null,null,null,null,null,null,null,null,null,null,null,null,null,null,null,null,null,null,null,null,null,null,null,null,null,null,null,null,null,null,null,null,null,null,null,null,null,null,null,null,null,null,null,{"$f":"'Country information'!N80","v":"Gabon"},{"$f":"'Country information'!C80","v":"franc"},{"$f":"'Country information'!D80","v":"CFAF"},{"$f":"'Country information'!E80","v":503.3},{"$f":"'Country information'!F80","v":40592.406018518515}]
[null,null,null,null,null,null,null,null,null,null,null,null,null,null,null,null,null,null,null,null,null,null,null,null,null,null,null,null,null,null,null,null,null,null,null,null,null,null,null,null,null,null,null,null,null,null,null,null,null,null,null,null,null,null,null,null,null,null,null,null,null,null,null,null,null,null,null,null,null,null,null,null,null,null,null,null,null,null,null,null,null,null,null,null,null,null,null,null,null,null,null,null,null,null,null,null,null,null,null,null,null,null,null,null,null,null,null,null,null,null,null,null,null,null,null,null,null,null,null,null,null,null,null,null,null,null,null,null,null,null,null,null,null,null,null,null,{"$f":"'Country information'!N81","v":"Gambia"},{"$f":"'Country information'!C81","v":"dalasi"},{"$f":"'Country information'!D81","v":"D"},{"$f":"'Country information'!E81","v":28},{"$f":"'Country information'!F81","v":40592.406018518515}]
[null,null,null,null,null,null,null,null,null,null,null,null,null,null,null,null,null,null,null,null,null,null,null,null,null,null,null,null,null,null,null,null,null,null,null,null,null,null,null,null,null,null,null,null,null,null,null,null,null,null,null,null,null,null,null,null,null,null,null,null,null,null,null,null,null,null,null,null,null,null,null,null,null,null,null,null,null,null,null,null,null,null,null,null,null,null,null,null,null,null,null,null,null,null,null,null,null,null,null,null,null,null,null,null,null,null,null,null,null,null,null,null,null,null,null,null,null,null,null,null,null,null,null,null,null,null,null,null,null,null,null,null,null,null,null,null,{"$f":"'Country information'!N82","v":"Gaza"},{"$f":"'Country information'!C82","v":"new shekel"},{"$f":"'Country information'!D82","v":"NIS"},{"$f":"'Country information'!E82","v":3.8614000000000002},{"$f":"'Country information'!F82","v":39413}]
[null,null,null,null,null,null,null,null,null,null,null,null,null,null,null,null,null,null,null,null,null,null,null,null,null,null,null,null,null,null,null,null,null,null,null,null,null,null,null,null,null,null,null,null,null,null,null,null,null,null,null,null,null,null,null,null,null,null,null,null,null,null,null,null,null,null,null,null,null,null,null,null,null,null,null,null,null,null,null,null,null,null,null,null,null,null,null,null,null,null,null,null,null,null,null,null,null,null,null,null,null,null,null,null,null,null,null,null,null,null,null,null,null,null,null,null,null,null,null,null,null,null,null,null,null,null,null,null,null,null,null,null,null,null,null,null,{"$f":"'Country information'!N83","v":"Georgia"},{"$f":"'Country information'!C83","v":"lari"},{"$f":"'Country information'!D83","v":"GEL"},{"$f":"'Country information'!E83","v":1.76},{"$f":"'Country information'!F83","v":40592.406018518515}]
[null,null,null,null,null,null,null,null,null,null,null,null,null,null,null,null,null,null,null,null,null,null,null,null,null,null,null,null,null,null,null,null,null,null,null,null,null,null,null,null,null,null,null,null,null,null,null,null,null,null,null,null,null,null,null,null,null,null,null,null,null,null,null,null,null,null,null,null,null,null,null,null,null,null,null,null,null,null,null,null,null,null,null,null,null,null,null,null,null,null,null,null,null,null,null,null,null,null,null,null,null,null,null,null,null,null,null,null,null,null,null,null,null,null,null,null,null,null,null,null,null,null,null,null,null,null,null,null,null,null,null,null,null,null,null,null,{"$f":"'Country information'!N84","v":"Germany"},{"$f":"'Country information'!C84","v":"euro"},{"$f":"'Country information'!D84","v":"€"},{"$f":"'Country information'!E84","v":0.77},{"$f":"'Country information'!F84","v":40592.406053240738}]
[null,null,null,null,null,null,null,null,null,null,null,null,null,null,null,null,null,null,null,null,null,null,null,null,null,null,null,null,null,null,null,null,null,null,null,null,null,null,null,null,null,null,null,null,null,null,null,null,null,null,null,null,null,null,null,null,null,null,null,null,null,null,null,null,null,null,null,null,null,null,null,null,null,null,null,null,null,null,null,null,null,null,null,null,null,null,null,null,null,null,null,null,null,null,null,null,null,null,null,null,null,null,null,null,null,null,null,null,null,null,null,null,null,null,null,null,null,null,null,null,null,null,null,null,null,null,null,null,null,null,null,null,null,null,null,null,{"$f":"'Country information'!N85","v":"Ghana"},{"$f":"'Country information'!C85","v":"new cedi"},{"$f":"'Country information'!D85","v":"¢"},{"$f":"'Country information'!E85","v":1.45},{"$f":"'Country information'!F85","v":40592.406018518515}]
[null,null,null,null,null,null,null,null,null,null,null,null,null,null,null,null,null,null,null,null,null,null,null,null,null,null,null,null,null,null,null,null,null,null,null,null,null,null,null,null,null,null,null,null,null,null,null,null,null,null,null,null,null,null,null,null,null,null,null,null,null,null,null,null,null,null,null,null,null,null,null,null,null,null,null,null,null,null,null,null,null,null,null,null,null,null,null,null,null,null,null,null,null,null,null,null,null,null,null,null,null,null,null,null,null,null,null,null,null,null,null,null,null,null,null,null,null,null,null,null,null,null,null,null,null,null,null,null,null,null,null,null,null,null,null,null,{"$f":"'Country information'!N86","v":"Gibraltar"},{"$f":"'Country information'!C86","v":"pound"},{"$f":"'Country information'!D86","v":"£"},{"$f":"'Country information'!E86","v":0.64},{"$f":"'Country information'!F86","v":40592.406053240738}]
[null,null,null,null,null,null,null,null,null,null,null,null,null,null,null,null,null,null,null,null,null,null,null,null,null,null,null,null,null,null,null,null,null,null,null,null,null,null,null,null,null,null,null,null,null,null,null,null,null,null,null,null,null,null,null,null,null,null,null,null,null,null,null,null,null,null,null,null,null,null,null,null,null,null,null,null,null,null,null,null,null,null,null,null,null,null,null,null,null,null,null,null,null,null,null,null,null,null,null,null,null,null,null,null,null,null,null,null,null,null,null,null,null,null,null,null,null,null,null,null,null,null,null,null,null,null,null,null,null,null,null,null,null,null,null,null,{"$f":"'Country information'!N87","v":"Great Britain"},{"$f":"'Country information'!C87","v":"pound"},{"$f":"'Country information'!D87","v":"£"},{"$f":"'Country information'!E87","v":0.64},{"$f":"'Country information'!F87","v":40592.406053240738}]
[null,null,null,null,null,null,null,null,null,null,null,null,null,null,null,null,null,null,null,null,null,null,null,null,null,null,null,null,null,null,null,null,null,null,null,null,null,null,null,null,null,null,null,null,null,null,null,null,null,null,null,null,null,null,null,null,null,null,null,null,null,null,null,null,null,null,null,null,null,null,null,null,null,null,null,null,null,null,null,null,null,null,null,null,null,null,null,null,null,null,null,null,null,null,null,null,null,null,null,null,null,null,null,null,null,null,null,null,null,null,null,null,null,null,null,null,null,null,null,null,null,null,null,null,null,null,null,null,null,null,null,null,null,null,null,null,{"$f":"'Country information'!N88","v":"Greece"},{"$f":"'Country information'!C88","v":"euro"},{"$f":"'Country information'!D88","v":"€"},{"$f":"'Country information'!E88","v":0.77},{"$f":"'Country information'!F88","v":40592.406018518515}]
[null,null,null,null,null,null,null,null,null,null,null,null,null,null,null,null,null,null,null,null,null,null,null,null,null,null,null,null,null,null,null,null,null,null,null,null,null,null,null,null,null,null,null,null,null,null,null,null,null,null,null,null,null,null,null,null,null,null,null,null,null,null,null,null,null,null,null,null,null,null,null,null,null,null,null,null,null,null,null,null,null,null,null,null,null,null,null,null,null,null,null,null,null,null,null,null,null,null,null,null,null,null,null,null,null,null,null,null,null,null,null,null,null,null,null,null,null,null,null,null,null,null,null,null,null,null,null,null,null,null,null,null,null,null,null,null,{"$f":"'Country information'!N89","v":"Greenland"},{"$f":"'Country information'!C89","v":"kroner"},{"$f":"'Country information'!D89","v":"Dkr"},{"$f":"'Country information'!E89","v":5.72},{"$f":"'Country information'!F89","v":40592.406053240738}]
[null,null,null,null,null,null,null,null,null,null,null,null,null,null,null,null,null,null,null,null,null,null,null,null,null,null,null,null,null,null,null,null,null,null,null,null,null,null,null,null,null,null,null,null,null,null,null,null,null,null,null,null,null,null,null,null,null,null,null,null,null,null,null,null,null,null,null,null,null,null,null,null,null,null,null,null,null,null,null,null,null,null,null,null,null,null,null,null,null,null,null,null,null,null,null,null,null,null,null,null,null,null,null,null,null,null,null,null,null,null,null,null,null,null,null,null,null,null,null,null,null,null,null,null,null,null,null,null,null,null,null,null,null,null,null,null,{"$f":"'Country information'!N90","v":"Grenada"},{"$f":"'Country information'!C90","v":"dollar"},{"$f":"'Country information'!D90","v":"EC$"},{"$f":"'Country information'!E90","v":2.7},{"$f":"'Country information'!F90","v":40592.406018518515}]
[null,null,null,null,null,null,null,null,null,null,null,null,null,null,null,null,null,null,null,null,null,null,null,null,null,null,null,null,null,null,null,null,null,null,null,null,null,null,null,null,null,null,null,null,null,null,null,null,null,null,null,null,null,null,null,null,null,null,null,null,null,null,null,null,null,null,null,null,null,null,null,null,null,null,null,null,null,null,null,null,null,null,null,null,null,null,null,null,null,null,null,null,null,null,null,null,null,null,null,null,null,null,null,null,null,null,null,null,null,null,null,null,null,null,null,null,null,null,null,null,null,null,null,null,null,null,null,null,null,null,null,null,null,null,null,null,{"$f":"'Country information'!N91","v":"Guadeloupe"},{"$f":"'Country information'!C91","v":"euro"},{"$f":"'Country information'!D91","v":"€"},{"$f":"'Country information'!E91","v":0.77},{"$f":"'Country information'!F91","v":40592.406053240738}]
[null,null,null,null,null,null,null,null,null,null,null,null,null,null,null,null,null,null,null,null,null,null,null,null,null,null,null,null,null,null,null,null,null,null,null,null,null,null,null,null,null,null,null,null,null,null,null,null,null,null,null,null,null,null,null,null,null,null,null,null,null,null,null,null,null,null,null,null,null,null,null,null,null,null,null,null,null,null,null,null,null,null,null,null,null,null,null,null,null,null,null,null,null,null,null,null,null,null,null,null,null,null,null,null,null,null,null,null,null,null,null,null,null,null,null,null,null,null,null,null,null,null,null,null,null,null,null,null,null,null,null,null,null,null,null,null,{"$f":"'Country information'!N92","v":"Guam"},{"$f":"'Country information'!C92","v":"dollar"},{"$f":"'Country information'!D92","v":"US$"},{"$f":"'Country information'!E92","v":1},{"$f":"'Country information'!F92","v":40128.589282407411}]
[null,null,null,null,null,null,null,null,null,null,null,null,null,null,null,null,null,null,null,null,null,null,null,null,null,null,null,null,null,null,null,null,null,null,null,null,null,null,null,null,null,null,null,null,null,null,null,null,null,null,null,null,null,null,null,null,null,null,null,null,null,null,null,null,null,null,null,null,null,null,null,null,null,null,null,null,null,null,null,null,null,null,null,null,null,null,null,null,null,null,null,null,null,null,null,null,null,null,null,null,null,null,null,null,null,null,null,null,null,null,null,null,null,null,null,null,null,null,null,null,null,null,null,null,null,null,null,null,null,null,null,null,null,null,null,null,{"$f":"'Country information'!N93","v":"Guatemala"},{"$f":"'Country information'!C93","v":"quetzal"},{"$f":"'Country information'!D93","v":"Q"},{"$f":"'Country information'!E93","v":8},{"$f":"'Country information'!F93","v":40592.406018518515}]
[null,null,null,null,null,null,null,null,null,null,null,null,null,null,null,null,null,null,null,null,null,null,null,null,null,null,null,null,null,null,null,null,null,null,null,null,null,null,null,null,null,null,null,null,null,null,null,null,null,null,null,null,null,null,null,null,null,null,null,null,null,null,null,null,null,null,null,null,null,null,null,null,null,null,null,null,null,null,null,null,null,null,null,null,null,null,null,null,null,null,null,null,null,null,null,null,null,null,null,null,null,null,null,null,null,null,null,null,null,null,null,null,null,null,null,null,null,null,null,null,null,null,null,null,null,null,null,null,null,null,null,null,null,null,null,null,{"$f":"'Country information'!N94","v":"Guernsey"},{"$f":"'Country information'!C94","v":"pound"},{"$f":"'Country information'!D94","v":"£"},{"$f":"'Country information'!E94","v":0.64},{"$f":"'Country information'!F94","v":40592.406053240738}]
[null,null,null,null,null,null,null,null,null,null,null,null,null,null,null,null,null,null,null,null,null,null,null,null,null,null,null,null,null,null,null,null,null,null,null,null,null,null,null,null,null,null,null,null,null,null,null,null,null,null,null,null,null,null,null,null,null,null,null,null,null,null,null,null,null,null,null,null,null,null,null,null,null,null,null,null,null,null,null,null,null,null,null,null,null,null,null,null,null,null,null,null,null,null,null,null,null,null,null,null,null,null,null,null,null,null,null,null,null,null,null,null,null,null,null,null,null,null,null,null,null,null,null,null,null,null,null,null,null,null,null,null,null,null,null,null,{"$f":"'Country information'!N95","v":"Guinea"},{"$f":"'Country information'!C95","v":"franc"},{"$f":"'Country information'!D95","v":"GNF"},{"$f":"'Country information'!E95","v":6078},{"$f":"'Country information'!F95","v":40592.406018518515}]
[null,null,null,null,null,null,null,null,null,null,null,null,null,null,null,null,null,null,null,null,null,null,null,null,null,null,null,null,null,null,null,null,null,null,null,null,null,null,null,null,null,null,null,null,null,null,null,null,null,null,null,null,null,null,null,null,null,null,null,null,null,null,null,null,null,null,null,null,null,null,null,null,null,null,null,null,null,null,null,null,null,null,null,null,null,null,null,null,null,null,null,null,null,null,null,null,null,null,null,null,null,null,null,null,null,null,null,null,null,null,null,null,null,null,null,null,null,null,null,null,null,null,null,null,null,null,null,null,null,null,null,null,null,null,null,null,{"$f":"'Country information'!N96","v":"Guinea-Bissau"},{"$f":"'Country information'!C96","v":"franc"},{"$f":"'Country information'!D96","v":"CFAF"},{"$f":"'Country information'!E96","v":503.3},{"$f":"'Country information'!F96","v":40592.406053240738}]
[null,null,null,null,null,null,null,null,null,null,null,null,null,null,null,null,null,null,null,null,null,null,null,null,null,null,null,null,null,null,null,null,null,null,null,null,null,null,null,null,null,null,null,null,null,null,null,null,null,null,null,null,null,null,null,null,null,null,null,null,null,null,null,null,null,null,null,null,null,null,null,null,null,null,null,null,null,null,null,null,null,null,null,null,null,null,null,null,null,null,null,null,null,null,null,null,null,null,null,null,null,null,null,null,null,null,null,null,null,null,null,null,null,null,null,null,null,null,null,null,null,null,null,null,null,null,null,null,null,null,null,null,null,null,null,null,{"$f":"'Country information'!N97","v":"Guyana"},{"$f":"'Country information'!C97","v":"dollar"},{"$f":"'Country information'!D97","v":"G$"},{"$f":"'Country information'!E97","v":201},{"$f":"'Country information'!F97","v":40592.406018518515}]
[null,null,null,null,null,null,null,null,null,null,null,null,null,null,null,null,null,null,null,null,null,null,null,null,null,null,null,null,null,null,null,null,null,null,null,null,null,null,null,null,null,null,null,null,null,null,null,null,null,null,null,null,null,null,null,null,null,null,null,null,null,null,null,null,null,null,null,null,null,null,null,null,null,null,null,null,null,null,null,null,null,null,null,null,null,null,null,null,null,null,null,null,null,null,null,null,null,null,null,null,null,null,null,null,null,null,null,null,null,null,null,null,null,null,null,null,null,null,null,null,null,null,null,null,null,null,null,null,null,null,null,null,null,null,null,null,{"$f":"'Country information'!N98","v":"Haiti"},{"$f":"'Country information'!C98","v":"gourde"},{"$f":"'Country information'!D98","v":"G"},{"$f":"'Country information'!E98","v":38.5},{"$f":"'Country information'!F98","v":40592.406018518515}]
[null,null,null,null,null,null,null,null,null,null,null,null,null,null,null,null,null,null,null,null,null,null,null,null,null,null,null,null,null,null,null,null,null,null,null,null,null,null,null,null,null,null,null,null,null,null,null,null,null,null,null,null,null,null,null,null,null,null,null,null,null,null,null,null,null,null,null,null,null,null,null,null,null,null,null,null,null,null,null,null,null,null,null,null,null,null,null,null,null,null,null,null,null,null,null,null,null,null,null,null,null,null,null,null,null,null,null,null,null,null,null,null,null,null,null,null,null,null,null,null,null,null,null,null,null,null,null,null,null,null,null,null,null,null,null,null,{"$f":"'Country information'!N99","v":"Heard and McDonald Islands"},{"$f":"'Country information'!C99","v":"dollar"},{"$f":"'Country information'!D99","v":"A$"},{"$f":"'Country information'!E99","v":1.04},{"$f":"'Country information'!F99","v":40592.406053240738}]
[null,null,null,null,null,null,null,null,null,null,null,null,null,null,null,null,null,null,null,null,null,null,null,null,null,null,null,null,null,null,null,null,null,null,null,null,null,null,null,null,null,null,null,null,null,null,null,null,null,null,null,null,null,null,null,null,null,null,null,null,null,null,null,null,null,null,null,null,null,null,null,null,null,null,null,null,null,null,null,null,null,null,null,null,null,null,null,null,null,null,null,null,null,null,null,null,null,null,null,null,null,null,null,null,null,null,null,null,null,null,null,null,null,null,null,null,null,null,null,null,null,null,null,null,null,null,null,null,null,null,null,null,null,null,null,null,{"$f":"'Country information'!N100","v":"Honduras"},{"$f":"'Country information'!C100","v":"lempira"},{"$f":"'Country information'!D100","v":"L"},{"$f":"'Country information'!E100","v":18.899999999999999},{"$f":"'Country information'!F100","v":40592.406018518515}]
[null,null,null,null,null,null,null,null,null,null,null,null,null,null,null,null,null,null,null,null,null,null,null,null,null,null,null,null,null,null,null,null,null,null,null,null,null,null,null,null,null,null,null,null,null,null,null,null,null,null,null,null,null,null,null,null,null,null,null,null,null,null,null,null,null,null,null,null,null,null,null,null,null,null,null,null,null,null,null,null,null,null,null,null,null,null,null,null,null,null,null,null,null,null,null,null,null,null,null,null,null,null,null,null,null,null,null,null,null,null,null,null,null,null,null,null,null,null,null,null,null,null,null,null,null,null,null,null,null,null,null,null,null,null,null,null,{"$f":"'Country information'!N101","v":"Hong Kong"},{"$f":"'Country information'!C101","v":"dollar"},{"$f":"'Country information'!D101","v":"HK$"},{"$f":"'Country information'!E101","v":7.77},{"$f":"'Country information'!F101","v":40592.406030092592}]
[null,null,null,null,null,null,null,null,null,null,null,null,null,null,null,null,null,null,null,null,null,null,null,null,null,null,null,null,null,null,null,null,null,null,null,null,null,null,null,null,null,null,null,null,null,null,null,null,null,null,null,null,null,null,null,null,null,null,null,null,null,null,null,null,null,null,null,null,null,null,null,null,null,null,null,null,null,null,null,null,null,null,null,null,null,null,null,null,null,null,null,null,null,null,null,null,null,null,null,null,null,null,null,null,null,null,null,null,null,null,null,null,null,null,null,null,null,null,null,null,null,null,null,null,null,null,null,null,null,null,null,null,null,null,null,null,{"$f":"'Country information'!N102","v":"Hungary"},{"$f":"'Country information'!C102","v":"forint"},{"$f":"'Country information'!D102","v":"Ft"},{"$f":"'Country information'!E102","v":217.12},{"$f":"'Country information'!F102","v":40592.406030092592}]
[null,null,null,null,null,null,null,null,null,null,null,null,null,null,null,null,null,null,null,null,null,null,null,null,null,null,null,null,null,null,null,null,null,null,null,null,null,null,null,null,null,null,null,null,null,null,null,null,null,null,null,null,null,null,null,null,null,null,null,null,null,null,null,null,null,null,null,null,null,null,null,null,null,null,null,null,null,null,null,null,null,null,null,null,null,null,null,null,null,null,null,null,null,null,null,null,null,null,null,null,null,null,null,null,null,null,null,null,null,null,null,null,null,null,null,null,null,null,null,null,null,null,null,null,null,null,null,null,null,null,null,null,null,null,null,null,{"$f":"'Country information'!N103","v":"Iceland"},{"$f":"'Country information'!C103","v":"króna"},{"$f":"'Country information'!D103","v":"IKr"},{"$f":"'Country information'!E103","v":117.07},{"$f":"'Country information'!F103","v":40592.406030092592}]
[null,null,null,null,null,null,null,null,null,null,null,null,null,null,null,null,null,null,null,null,null,null,null,null,null,null,null,null,null,null,null,null,null,null,null,null,null,null,null,null,null,null,null,null,null,null,null,null,null,null,null,null,null,null,null,null,null,null,null,null,null,null,null,null,null,null,null,null,null,null,null,null,null,null,null,null,null,null,null,null,null,null,null,null,null,null,null,null,null,null,null,null,null,null,null,null,null,null,null,null,null,null,null,null,null,null,null,null,null,null,null,null,null,null,null,null,null,null,null,null,null,null,null,null,null,null,null,null,null,null,null,null,null,null,null,null,{"$f":"'Country information'!N104","v":"India"},{"$f":"'Country information'!C104","v":"rupee"},{"$f":"'Country information'!D104","v":"₨"},{"$f":"'Country information'!E104","v":45.7},{"$f":"'Country information'!F104","v":40592.406030092592}]
[null,null,null,null,null,null,null,null,null,null,null,null,null,null,null,null,null,null,null,null,null,null,null,null,null,null,null,null,null,null,null,null,null,null,null,null,null,null,null,null,null,null,null,null,null,null,null,null,null,null,null,null,null,null,null,null,null,null,null,null,null,null,null,null,null,null,null,null,null,null,null,null,null,null,null,null,null,null,null,null,null,null,null,null,null,null,null,null,null,null,null,null,null,null,null,null,null,null,null,null,null,null,null,null,null,null,null,null,null,null,null,null,null,null,null,null,null,null,null,null,null,null,null,null,null,null,null,null,null,null,null,null,null,null,null,null,{"$f":"'Country information'!N105","v":"Indonesia"},{"$f":"'Country information'!C105","v":"rupiah"},{"$f":"'Country information'!D105","v":"Rp"},{"$f":"'Country information'!E105","v":8900},{"$f":"'Country information'!F105","v":40592.406030092592}]
[null,null,null,null,null,null,null,null,null,null,null,null,null,null,null,null,null,null,null,null,null,null,null,null,null,null,null,null,null,null,null,null,null,null,null,null,null,null,null,null,null,null,null,null,null,null,null,null,null,null,null,null,null,null,null,null,null,null,null,null,null,null,null,null,null,null,null,null,null,null,null,null,null,null,null,null,null,null,null,null,null,null,null,null,null,null,null,null,null,null,null,null,null,null,null,null,null,null,null,null,null,null,null,null,null,null,null,null,null,null,null,null,null,null,null,null,null,null,null,null,null,null,null,null,null,null,null,null,null,null,null,null,null,null,null,null,{"$f":"'Country information'!N106","v":"Iran"},{"$f":"'Country information'!C106","v":"rial"},{"$f":"'Country information'!D106","v":"﷼"},{"$f":"'Country information'!E106","v":8229},{"$f":"'Country information'!F106","v":40592.406030092592}]
[null,null,null,null,null,null,null,null,null,null,null,null,null,null,null,null,null,null,null,null,null,null,null,null,null,null,null,null,null,null,null,null,null,null,null,null,null,null,null,null,null,null,null,null,null,null,null,null,null,null,null,null,null,null,null,null,null,null,null,null,null,null,null,null,null,null,null,null,null,null,null,null,null,null,null,null,null,null,null,null,null,null,null,null,null,null,null,null,null,null,null,null,null,null,null,null,null,null,null,null,null,null,null,null,null,null,null,null,null,null,null,null,null,null,null,null,null,null,null,null,null,null,null,null,null,null,null,null,null,null,null,null,null,null,null,null,{"$f":"'Country information'!N107","v":"Iraq"},{"$f":"'Country information'!C107","v":"new dinar"},{"$f":"'Country information'!D107","v":"ID"},{"$f":"'Country information'!E107","v":1166.5},{"$f":"'Country information'!F107","v":40592.406030092592}]
[null,null,null,null,null,null,null,null,null,null,null,null,null,null,null,null,null,null,null,null,null,null,null,null,null,null,null,null,null,null,null,null,null,null,null,null,null,null,null,null,null,null,null,null,null,null,null,null,null,null,null,null,null,null,null,null,null,null,null,null,null,null,null,null,null,null,null,null,null,null,null,null,null,null,null,null,null,null,null,null,null,null,null,null,null,null,null,null,null,null,null,null,null,null,null,null,null,null,null,null,null,null,null,null,null,null,null,null,null,null,null,null,null,null,null,null,null,null,null,null,null,null,null,null,null,null,null,null,null,null,null,null,null,null,null,null,{"$f":"'Country information'!N108","v":"Ireland"},{"$f":"'Country information'!C108","v":"euro"},{"$f":"'Country information'!D108","v":"€"},{"$f":"'Country information'!E108","v":0.77},{"$f":"'Country information'!F108","v":40592.406030092592}]
[null,null,null,null,null,null,null,null,null,null,null,null,null,null,null,null,null,null,null,null,null,null,null,null,null,null,null,null,null,null,null,null,null,null,null,null,null,null,null,null,null,null,null,null,null,null,null,null,null,null,null,null,null,null,null,null,null,null,null,null,null,null,null,null,null,null,null,null,null,null,null,null,null,null,null,null,null,null,null,null,null,null,null,null,null,null,null,null,null,null,null,null,null,null,null,null,null,null,null,null,null,null,null,null,null,null,null,null,null,null,null,null,null,null,null,null,null,null,null,null,null,null,null,null,null,null,null,null,null,null,null,null,null,null,null,null,{"$f":"'Country information'!N109","v":"Isle of Man"},{"$f":"'Country information'!C109","v":"pound"},{"$f":"'Country information'!D109","v":"£"},{"$f":"'Country information'!E109","v":0.64},{"$f":"'Country information'!F109","v":40592.406053240738}]
[null,null,null,null,null,null,null,null,null,null,null,null,null,null,null,null,null,null,null,null,null,null,null,null,null,null,null,null,null,null,null,null,null,null,null,null,null,null,null,null,null,null,null,null,null,null,null,null,null,null,null,null,null,null,null,null,null,null,null,null,null,null,null,null,null,null,null,null,null,null,null,null,null,null,null,null,null,null,null,null,null,null,null,null,null,null,null,null,null,null,null,null,null,null,null,null,null,null,null,null,null,null,null,null,null,null,null,null,null,null,null,null,null,null,null,null,null,null,null,null,null,null,null,null,null,null,null,null,null,null,null,null,null,null,null,null,{"$f":"'Country information'!N110","v":"Israel"},{"$f":"'Country information'!C110","v":"new shekel"},{"$f":"'Country information'!D110","v":"₪"},{"$f":"'Country information'!E110","v":3.68},{"$f":"'Country information'!F110","v":40592.406030092592}]
[null,null,null,null,null,null,null,null,null,null,null,null,null,null,null,null,null,null,null,null,null,null,null,null,null,null,null,null,null,null,null,null,null,null,null,null,null,null,null,null,null,null,null,null,null,null,null,null,null,null,null,null,null,null,null,null,null,null,null,null,null,null,null,null,null,null,null,null,null,null,null,null,null,null,null,null,null,null,null,null,null,null,null,null,null,null,null,null,null,null,null,null,null,null,null,null,null,null,null,null,null,null,null,null,null,null,null,null,null,null,null,null,null,null,null,null,null,null,null,null,null,null,null,null,null,null,null,null,null,null,null,null,null,null,null,null,{"$f":"'Country information'!N111","v":"Italy"},{"$f":"'Country information'!C111","v":"euro"},{"$f":"'Country information'!D111","v":"€"},{"$f":"'Country information'!E111","v":0.77},{"$f":"'Country information'!F111","v":40592.406030092592}]
[null,null,null,null,null,null,null,null,null,null,null,null,null,null,null,null,null,null,null,null,null,null,null,null,null,null,null,null,null,null,null,null,null,null,null,null,null,null,null,null,null,null,null,null,null,null,null,null,null,null,null,null,null,null,null,null,null,null,null,null,null,null,null,null,null,null,null,null,null,null,null,null,null,null,null,null,null,null,null,null,null,null,null,null,null,null,null,null,null,null,null,null,null,null,null,null,null,null,null,null,null,null,null,null,null,null,null,null,null,null,null,null,null,null,null,null,null,null,null,null,null,null,null,null,null,null,null,null,null,null,null,null,null,null,null,null,{"$f":"'Country information'!N112","v":"Ivory Coast"},{"$f":"'Country information'!C112","v":"franc"},{"$f":"'Country information'!D112","v":"CFAF"},{"$f":"'Country information'!E112","v":503.3},{"$f":"'Country information'!F112","v":40592.406053240738}]
[null,null,null,null,null,null,null,null,null,null,null,null,null,null,null,null,null,null,null,null,null,null,null,null,null,null,null,null,null,null,null,null,null,null,null,null,null,null,null,null,null,null,null,null,null,null,null,null,null,null,null,null,null,null,null,null,null,null,null,null,null,null,null,null,null,null,null,null,null,null,null,null,null,null,null,null,null,null,null,null,null,null,null,null,null,null,null,null,null,null,null,null,null,null,null,null,null,null,null,null,null,null,null,null,null,null,null,null,null,null,null,null,null,null,null,null,null,null,null,null,null,null,null,null,null,null,null,null,null,null,null,null,null,null,null,null,{"$f":"'Country information'!N113","v":"Jamaica"},{"$f":"'Country information'!C113","v":"dollar"},{"$f":"'Country information'!D113","v":"J$"},{"$f":"'Country information'!E113","v":85.8},{"$f":"'Country information'!F113","v":40592.406030092592}]
[null,null,null,null,null,null,null,null,null,null,null,null,null,null,null,null,null,null,null,null,null,null,null,null,null,null,null,null,null,null,null,null,null,null,null,null,null,null,null,null,null,null,null,null,null,null,null,null,null,null,null,null,null,null,null,null,null,null,null,null,null,null,null,null,null,null,null,null,null,null,null,null,null,null,null,null,null,null,null,null,null,null,null,null,null,null,null,null,null,null,null,null,null,null,null,null,null,null,null,null,null,null,null,null,null,null,null,null,null,null,null,null,null,null,null,null,null,null,null,null,null,null,null,null,null,null,null,null,null,null,null,null,null,null,null,null,{"$f":"'Country information'!N114","v":"Japan"},{"$f":"'Country information'!C114","v":"yen"},{"$f":"'Country information'!D114","v":"¥"},{"$f":"'Country information'!E114","v":83.83},{"$f":"'Country information'!F114","v":40592.406030092592}]
[null,null,null,null,null,null,null,null,null,null,null,null,null,null,null,null,null,null,null,null,null,null,null,null,null,null,null,null,null,null,null,null,null,null,null,null,null,null,null,null,null,null,null,null,null,null,null,null,null,null,null,null,null,null,null,null,null,null,null,null,null,null,null,null,null,null,null,null,null,null,null,null,null,null,null,null,null,null,null,null,null,null,null,null,null,null,null,null,null,null,null,null,null,null,null,null,null,null,null,null,null,null,null,null,null,null,null,null,null,null,null,null,null,null,null,null,null,null,null,null,null,null,null,null,null,null,null,null,null,null,null,null,null,null,null,null,{"$f":"'Country information'!N115","v":"Jersey"},{"$f":"'Country information'!C115","v":"pound"},{"$f":"'Country information'!D115","v":"£"},{"$f":"'Country information'!E115","v":0.64},{"$f":"'Country information'!F115","v":40592.406053240738}]
[null,null,null,null,null,null,null,null,null,null,null,null,null,null,null,null,null,null,null,null,null,null,null,null,null,null,null,null,null,null,null,null,null,null,null,null,null,null,null,null,null,null,null,null,null,null,null,null,null,null,null,null,null,null,null,null,null,null,null,null,null,null,null,null,null,null,null,null,null,null,null,null,null,null,null,null,null,null,null,null,null,null,null,null,null,null,null,null,null,null,null,null,null,null,null,null,null,null,null,null,null,null,null,null,null,null,null,null,null,null,null,null,null,null,null,null,null,null,null,null,null,null,null,null,null,null,null,null,null,null,null,null,null,null,null,null,{"$f":"'Country information'!N116","v":"Johnston Island"},{"$f":"'Country information'!C116","v":"dollar"},{"$f":"'Country information'!D116","v":"US$"},{"$f":"'Country information'!E116","v":1},{"$f":"'Country information'!F116","v":40128.589282407411}]
[null,null,null,null,null,null,null,null,null,null,null,null,null,null,null,null,null,null,null,null,null,null,null,null,null,null,null,null,null,null,null,null,null,null,null,null,null,null,null,null,null,null,null,null,null,null,null,null,null,null,null,null,null,null,null,null,null,null,null,null,null,null,null,null,null,null,null,null,null,null,null,null,null,null,null,null,null,null,null,null,null,null,null,null,null,null,null,null,null,null,null,null,null,null,null,null,null,null,null,null,null,null,null,null,null,null,null,null,null,null,null,null,null,null,null,null,null,null,null,null,null,null,null,null,null,null,null,null,null,null,null,null,null,null,null,null,{"$f":"'Country information'!N117","v":"Jordan"},{"$f":"'Country information'!C117","v":"dinar"},{"$f":"'Country information'!D117","v":"JD"},{"$f":"'Country information'!E117","v":0.71},{"$f":"'Country information'!F117","v":40592.406030092592}]
[null,null,null,null,null,null,null,null,null,null,null,null,null,null,null,null,null,null,null,null,null,null,null,null,null,null,null,null,null,null,null,null,null,null,null,null,null,null,null,null,null,null,null,null,null,null,null,null,null,null,null,null,null,null,null,null,null,null,null,null,null,null,null,null,null,null,null,null,null,null,null,null,null,null,null,null,null,null,null,null,null,null,null,null,null,null,null,null,null,null,null,null,null,null,null,null,null,null,null,null,null,null,null,null,null,null,null,null,null,null,null,null,null,null,null,null,null,null,null,null,null,null,null,null,null,null,null,null,null,null,null,null,null,null,null,null,{"$f":"'Country information'!N118","v":"Kampuchea"},{"$f":"'Country information'!C118","v":"new riel"},{"$f":"'Country information'!D118","v":"CR"},{"$f":"'Country information'!E118","v":3975.4},{"$f":"'Country information'!F118","v":39413}]
[null,null,null,null,null,null,null,null,null,null,null,null,null,null,null,null,null,null,null,null,null,null,null,null,null,null,null,null,null,null,null,null,null,null,null,null,null,null,null,null,null,null,null,null,null,null,null,null,null,null,null,null,null,null,null,null,null,null,null,null,null,null,null,null,null,null,null,null,null,null,null,null,null,null,null,null,null,null,null,null,null,null,null,null,null,null,null,null,null,null,null,null,null,null,null,null,null,null,null,null,null,null,null,null,null,null,null,null,null,null,null,null,null,null,null,null,null,null,null,null,null,null,null,null,null,null,null,null,null,null,null,null,null,null,null,null,{"$f":"'Country information'!N119","v":"Kazakhstan"},{"$f":"'Country information'!C119","v":"tenge"},{"$f":"'Country information'!D119","v":"лв"},{"$f":"'Country information'!E119","v":147.5},{"$f":"'Country information'!F119","v":40592.406030092592}]
[null,null,null,null,null,null,null,null,null,null,null,null,null,null,null,null,null,null,null,null,null,null,null,null,null,null,null,null,null,null,null,null,null,null,null,null,null,null,null,null,null,null,null,null,null,null,null,null,null,null,null,null,null,null,null,null,null,null,null,null,null,null,null,null,null,null,null,null,null,null,null,null,null,null,null,null,null,null,null,null,null,null,null,null,null,null,null,null,null,null,null,null,null,null,null,null,null,null,null,null,null,null,null,null,null,null,null,null,null,null,null,null,null,null,null,null,null,null,null,null,null,null,null,null,null,null,null,null,null,null,null,null,null,null,null,null,{"$f":"'Country information'!N120","v":"Kenya"},{"$f":"'Country information'!C120","v":"shilling"},{"$f":"'Country information'!D120","v":"K Sh"},{"$f":"'Country information'!E120","v":80.900000000000006},{"$f":"'Country information'!F120","v":40592.406030092592}]
[null,null,null,null,null,null,null,null,null,null,null,null,null,null,null,null,null,null,null,null,null,null,null,null,null,null,null,null,null,null,null,null,null,null,null,null,null,null,null,null,null,null,null,null,null,null,null,null,null,null,null,null,null,null,null,null,null,null,null,null,null,null,null,null,null,null,null,null,null,null,null,null,null,null,null,null,null,null,null,null,null,null,null,null,null,null,null,null,null,null,null,null,null,null,null,null,null,null,null,null,null,null,null,null,null,null,null,null,null,null,null,null,null,null,null,null,null,null,null,null,null,null,null,null,null,null,null,null,null,null,null,null,null,null,null,null,{"$f":"'Country information'!N121","v":"Kiribati"},{"$f":"'Country information'!C121","v":"dollar"},{"$f":"'Country information'!D121","v":"A$"},{"$f":"'Country information'!E121","v":1.04},{"$f":"'Country information'!F121","v":40592.406053240738}]
[null,null,null,null,null,null,null,null,null,null,null,null,null,null,null,null,null,null,null,null,null,null,null,null,null,null,null,null,null,null,null,null,null,null,null,null,null,null,null,null,null,null,null,null,null,null,null,null,null,null,null,null,null,null,null,null,null,null,null,null,null,null,null,null,null,null,null,null,null,null,null,null,null,null,null,null,null,null,null,null,null,null,null,null,null,null,null,null,null,null,null,null,null,null,null,null,null,null,null,null,null,null,null,null,null,null,null,null,null,null,null,null,null,null,null,null,null,null,null,null,null,null,null,null,null,null,null,null,null,null,null,null,null,null,null,null,{"$f":"'Country information'!N122","v":"Korea, North"},{"$f":"'Country information'!C122","v":"won"},{"$f":"'Country information'!D122","v":"Wn"},{"$f":"'Country information'!E122","v":142.44999999999999},{"$f":"'Country information'!F122","v":39413}]
[null,null,null,null,null,null,null,null,null,null,null,null,null,null,null,null,null,null,null,null,null,null,null,null,null,null,null,null,null,null,null,null,null,null,null,null,null,null,null,null,null,null,null,null,null,null,null,null,null,null,null,null,null,null,null,null,null,null,null,null,null,null,null,null,null,null,null,null,null,null,null,null,null,null,null,null,null,null,null,null,null,null,null,null,null,null,null,null,null,null,null,null,null,null,null,null,null,null,null,null,null,null,null,null,null,null,null,null,null,null,null,null,null,null,null,null,null,null,null,null,null,null,null,null,null,null,null,null,null,null,null,null,null,null,null,null,{"$f":"'Country information'!N123","v":"Korea, South"},{"$f":"'Country information'!C123","v":"won"},{"$f":"'Country information'!D123","v":"W"},{"$f":"'Country information'!E123","v":929.68899999999996},{"$f":"'Country information'!F123","v":39413}]
[null,null,null,null,null,null,null,null,null,null,null,null,null,null,null,null,null,null,null,null,null,null,null,null,null,null,null,null,null,null,null,null,null,null,null,null,null,null,null,null,null,null,null,null,null,null,null,null,null,null,null,null,null,null,null,null,null,null,null,null,null,null,null,null,null,null,null,null,null,null,null,null,null,null,null,null,null,null,null,null,null,null,null,null,null,null,null,null,null,null,null,null,null,null,null,null,null,null,null,null,null,null,null,null,null,null,null,null,null,null,null,null,null,null,null,null,null,null,null,null,null,null,null,null,null,null,null,null,null,null,null,null,null,null,null,null,{"$f":"'Country information'!N124","v":"Kuwait"},{"$f":"'Country information'!C124","v":"dinar"},{"$f":"'Country information'!D124","v":"KD"},{"$f":"'Country information'!E124","v":0.28000000000000003},{"$f":"'Country information'!F124","v":40592.406030092592}]
[null,null,null,null,null,null,null,null,null,null,null,null,null,null,null,null,null,null,null,null,null,null,null,null,null,null,null,null,null,null,null,null,null,null,null,null,null,null,null,null,null,null,null,null,null,null,null,null,null,null,null,null,null,null,null,null,null,null,null,null,null,null,null,null,null,null,null,null,null,null,null,null,null,null,null,null,null,null,null,null,null,null,null,null,null,null,null,null,null,null,null,null,null,null,null,null,null,null,null,null,null,null,null,null,null,null,null,null,null,null,null,null,null,null,null,null,null,null,null,null,null,null,null,null,null,null,null,null,null,null,null,null,null,null,null,null,{"$f":"'Country information'!N125","v":"Kyrgyzstan"},{"$f":"'Country information'!C125","v":"som"},{"$f":"'Country information'!D125","v":"KGS"},{"$f":"'Country information'!E125","v":46.8},{"$f":"'Country information'!F125","v":40592.406030092592}]
[null,null,null,null,null,null,null,null,null,null,null,null,null,null,null,null,null,null,null,null,null,null,null,null,null,null,null,null,null,null,null,null,null,null,null,null,null,null,null,null,null,null,null,null,null,null,null,null,null,null,null,null,null,null,null,null,null,null,null,null,null,null,null,null,null,null,null,null,null,null,null,null,null,null,null,null,null,null,null,null,null,null,null,null,null,null,null,null,null,null,null,null,null,null,null,null,null,null,null,null,null,null,null,null,null,null,null,null,null,null,null,null,null,null,null,null,null,null,null,null,null,null,null,null,null,null,null,null,null,null,null,null,null,null,null,null,{"$f":"'Country information'!N126","v":"Laos"},{"$f":"'Country information'!C126","v":"new kip"},{"$f":"'Country information'!D126","v":"₭"},{"$f":"'Country information'!E126","v":8031},{"$f":"'Country information'!F126","v":40592.406030092592}]
[null,null,null,null,null,null,null,null,null,null,null,null,null,null,null,null,null,null,null,null,null,null,null,null,null,null,null,null,null,null,null,null,null,null,null,null,null,null,null,null,null,null,null,null,null,null,null,null,null,null,null,null,null,null,null,null,null,null,null,null,null,null,null,null,null,null,null,null,null,null,null,null,null,null,null,null,null,null,null,null,null,null,null,null,null,null,null,null,null,null,null,null,null,null,null,null,null,null,null,null,null,null,null,null,null,null,null,null,null,null,null,null,null,null,null,null,null,null,null,null,null,null,null,null,null,null,null,null,null,null,null,null,null,null,null,null,{"$f":"'Country information'!N127","v":"Latvia"},{"$f":"'Country information'!C127","v":"lat"},{"$f":"'Country information'!D127","v":"Ls"},{"$f":"'Country information'!E127","v":0.54},{"$f":"'Country information'!F127","v":40592.406030092592}]
[null,null,null,null,null,null,null,null,null,null,null,null,null,null,null,null,null,null,null,null,null,null,null,null,null,null,null,null,null,null,null,null,null,null,null,null,null,null,null,null,null,null,null,null,null,null,null,null,null,null,null,null,null,null,null,null,null,null,null,null,null,null,null,null,null,null,null,null,null,null,null,null,null,null,null,null,null,null,null,null,null,null,null,null,null,null,null,null,null,null,null,null,null,null,null,null,null,null,null,null,null,null,null,null,null,null,null,null,null,null,null,null,null,null,null,null,null,null,null,null,null,null,null,null,null,null,null,null,null,null,null,null,null,null,null,null,{"$f":"'Country information'!N128","v":"Lebanon"},{"$f":"'Country information'!C128","v":"pound"},{"$f":"'Country information'!D128","v":"L.L."},{"$f":"'Country information'!E128","v":1500},{"$f":"'Country information'!F128","v":40592.406030092592}]
[null,null,null,null,null,null,null,null,null,null,null,null,null,null,null,null,null,null,null,null,null,null,null,null,null,null,null,null,null,null,null,null,null,null,null,null,null,null,null,null,null,null,null,null,null,null,null,null,null,null,null,null,null,null,null,null,null,null,null,null,null,null,null,null,null,null,null,null,null,null,null,null,null,null,null,null,null,null,null,null,null,null,null,null,null,null,null,null,null,null,null,null,null,null,null,null,null,null,null,null,null,null,null,null,null,null,null,null,null,null,null,null,null,null,null,null,null,null,null,null,null,null,null,null,null,null,null,null,null,null,null,null,null,null,null,null,{"$f":"'Country information'!N129","v":"Lesotho"},{"$f":"'Country information'!C129","v":"loti"},{"$f":"'Country information'!D129","v":"L"},{"$f":"'Country information'!E129","v":7.07},{"$f":"'Country information'!F129","v":40592.406030092592}]
[null,null,null,null,null,null,null,null,null,null,null,null,null,null,null,null,null,null,null,null,null,null,null,null,null,null,null,null,null,null,null,null,null,null,null,null,null,null,null,null,null,null,null,null,null,null,null,null,null,null,null,null,null,null,null,null,null,null,null,null,null,null,null,null,null,null,null,null,null,null,null,null,null,null,null,null,null,null,null,null,null,null,null,null,null,null,null,null,null,null,null,null,null,null,null,null,null,null,null,null,null,null,null,null,null,null,null,null,null,null,null,null,null,null,null,null,null,null,null,null,null,null,null,null,null,null,null,null,null,null,null,null,null,null,null,null,{"$f":"'Country information'!N130","v":"Liberia"},{"$f":"'Country information'!C130","v":"dollar"},{"$f":"'Country information'!D130","v":"US$"},{"$f":"'Country information'!E130","v":49},{"$f":"'Country information'!F130","v":40592.406030092592}]
[null,null,null,null,null,null,null,null,null,null,null,null,null,null,null,null,null,null,null,null,null,null,null,null,null,null,null,null,null,null,null,null,null,null,null,null,null,null,null,null,null,null,null,null,null,null,null,null,null,null,null,null,null,null,null,null,null,null,null,null,null,null,null,null,null,null,null,null,null,null,null,null,null,null,null,null,null,null,null,null,null,null,null,null,null,null,null,null,null,null,null,null,null,null,null,null,null,null,null,null,null,null,null,null,null,null,null,null,null,null,null,null,null,null,null,null,null,null,null,null,null,null,null,null,null,null,null,null,null,null,null,null,null,null,null,null,{"$f":"'Country information'!N131","v":"Libya"},{"$f":"'Country information'!C131","v":"dinar"},{"$f":"'Country information'!D131","v":"LD"},{"$f":"'Country information'!E131","v":1.25},{"$f":"'Country information'!F131","v":40592.406030092592}]
[null,null,null,null,null,null,null,null,null,null,null,null,null,null,null,null,null,null,null,null,null,null,null,null,null,null,null,null,null,null,null,null,null,null,null,null,null,null,null,null,null,null,null,null,null,null,null,null,null,null,null,null,null,null,null,null,null,null,null,null,null,null,null,null,null,null,null,null,null,null,null,null,null,null,null,null,null,null,null,null,null,null,null,null,null,null,null,null,null,null,null,null,null,null,null,null,null,null,null,null,null,null,null,null,null,null,null,null,null,null,null,null,null,null,null,null,null,null,null,null,null,null,null,null,null,null,null,null,null,null,null,null,null,null,null,null,{"$f":"'Country information'!N132","v":"Liechtenstein"},{"$f":"'Country information'!C132","v":"franc"},{"$f":"'Country information'!D132","v":"SwF"},{"$f":"'Country information'!E132","v":1},{"$f":"'Country information'!F132","v":40592.406064814815}]
[null,null,null,null,null,null,null,null,null,null,null,null,null,null,null,null,null,null,null,null,null,null,null,null,null,null,null,null,null,null,null,null,null,null,null,null,null,null,null,null,null,null,null,null,null,null,null,null,null,null,null,null,null,null,null,null,null,null,null,null,null,null,null,null,null,null,null,null,null,null,null,null,null,null,null,null,null,null,null,null,null,null,null,null,null,null,null,null,null,null,null,null,null,null,null,null,null,null,null,null,null,null,null,null,null,null,null,null,null,null,null,null,null,null,null,null,null,null,null,null,null,null,null,null,null,null,null,null,null,null,null,null,null,null,null,null,{"$f":"'Country information'!N133","v":"Lithuania"},{"$f":"'Country information'!C133","v":"litai"},{"$f":"'Country information'!D133","v":"Lt"},{"$f":"'Country information'!E133","v":2.65},{"$f":"'Country information'!F133","v":40592.406030092592}]
[null,null,null,null,null,null,null,null,null,null,null,null,null,null,null,null,null,null,null,null,null,null,null,null,null,null,null,null,null,null,null,null,null,null,null,null,null,null,null,null,null,null,null,null,null,null,null,null,null,null,null,null,null,null,null,null,null,null,null,null,null,null,null,null,null,null,null,null,null,null,null,null,null,null,null,null,null,null,null,null,null,null,null,null,null,null,null,null,null,null,null,null,null,null,null,null,null,null,null,null,null,null,null,null,null,null,null,null,null,null,null,null,null,null,null,null,null,null,null,null,null,null,null,null,null,null,null,null,null,null,null,null,null,null,null,null,{"$f":"'Country information'!N134","v":"Luxembourg"},{"$f":"'Country information'!C134","v":"euro"},{"$f":"'Country information'!D134","v":"€"},{"$f":"'Country information'!E134","v":0.77},{"$f":"'Country information'!F134","v":40592.406030092592}]
[null,null,null,null,null,null,null,null,null,null,null,null,null,null,null,null,null,null,null,null,null,null,null,null,null,null,null,null,null,null,null,null,null,null,null,null,null,null,null,null,null,null,null,null,null,null,null,null,null,null,null,null,null,null,null,null,null,null,null,null,null,null,null,null,null,null,null,null,null,null,null,null,null,null,null,null,null,null,null,null,null,null,null,null,null,null,null,null,null,null,null,null,null,null,null,null,null,null,null,null,null,null,null,null,null,null,null,null,null,null,null,null,null,null,null,null,null,null,null,null,null,null,null,null,null,null,null,null,null,null,null,null,null,null,null,null,{"$f":"'Country information'!N135","v":"Macao (Macau)"},{"$f":"'Country information'!C135","v":"pataca"},{"$f":"'Country information'!D135","v":"P"},{"$f":"'Country information'!E135","v":8},{"$f":"'Country information'!F135","v":39413}]
[null,null,null,null,null,null,null,null,null,null,null,null,null,null,null,null,null,null,null,null,null,null,null,null,null,null,null,null,null,null,null,null,null,null,null,null,null,null,null,null,null,null,null,null,null,null,null,null,null,null,null,null,null,null,null,null,null,null,null,null,null,null,null,null,null,null,null,null,null,null,null,null,null,null,null,null,null,null,null,null,null,null,null,null,null,null,null,null,null,null,null,null,null,null,null,null,null,null,null,null,null,null,null,null,null,null,null,null,null,null,null,null,null,null,null,null,null,null,null,null,null,null,null,null,null,null,null,null,null,null,null,null,null,null,null,null,{"$f":"'Country information'!N136","v":"Macedonia"},{"$f":"'Country information'!C136","v":"denar"},{"$f":"'Country information'!D136","v":"ден"},{"$f":"'Country information'!E136","v":41.462499999999999},{"$f":"'Country information'!F136","v":39413}]
[null,null,null,null,null,null,null,null,null,null,null,null,null,null,null,null,null,null,null,null,null,null,null,null,null,null,null,null,null,null,null,null,null,null,null,null,null,null,null,null,null,null,null,null,null,null,null,null,null,null,null,null,null,null,null,null,null,null,null,null,null,null,null,null,null,null,null,null,null,null,null,null,null,null,null,null,null,null,null,null,null,null,null,null,null,null,null,null,null,null,null,null,null,null,null,null,null,null,null,null,null,null,null,null,null,null,null,null,null,null,null,null,null,null,null,null,null,null,null,null,null,null,null,null,null,null,null,null,null,null,null,null,null,null,null,null,{"$f":"'Country information'!N137","v":"Madagascar"},{"$f":"'Country information'!C137","v":"ariayry"},{"$f":"'Country information'!D137","v":"MGA"},{"$f":"'Country information'!E137","v":2010.61},{"$f":"'Country information'!F137","v":40592.406030092592}]
[null,null,null,null,null,null,null,null,null,null,null,null,null,null,null,null,null,null,null,null,null,null,null,null,null,null,null,null,null,null,null,null,null,null,null,null,null,null,null,null,null,null,null,null,null,null,null,null,null,null,null,null,null,null,null,null,null,null,null,null,null,null,null,null,null,null,null,null,null,null,null,null,null,null,null,null,null,null,null,null,null,null,null,null,null,null,null,null,null,null,null,null,null,null,null,null,null,null,null,null,null,null,null,null,null,null,null,null,null,null,null,null,null,null,null,null,null,null,null,null,null,null,null,null,null,null,null,null,null,null,null,null,null,null,null,null,{"$f":"'Country information'!N138","v":"Malawi"},{"$f":"'Country information'!C138","v":"kwacha"},{"$f":"'Country information'!D138","v":"MK"},{"$f":"'Country information'!E138","v":151},{"$f":"'Country information'!F138","v":40592.406030092592}]
[null,null,null,null,null,null,null,null,null,null,null,null,null,null,null,null,null,null,null,null,null,null,null,null,null,null,null,null,null,null,null,null,null,null,null,null,null,null,null,null,null,null,null,null,null,null,null,null,null,null,null,null,null,null,null,null,null,null,null,null,null,null,null,null,null,null,null,null,null,null,null,null,null,null,null,null,null,null,null,null,null,null,null,null,null,null,null,null,null,null,null,null,null,null,null,null,null,null,null,null,null,null,null,null,null,null,null,null,null,null,null,null,null,null,null,null,null,null,null,null,null,null,null,null,null,null,null,null,null,null,null,null,null,null,null,null,{"$f":"'Country information'!N139","v":"Malaysia"},{"$f":"'Country information'!C139","v":"ringgit"},{"$f":"'Country information'!D139","v":"RM"},{"$f":"'Country information'!E139","v":3.17},{"$f":"'Country information'!F139","v":40592.406030092592}]
[null,null,null,null,null,null,null,null,null,null,null,null,null,null,null,null,null,null,null,null,null,null,null,null,null,null,null,null,null,null,null,null,null,null,null,null,null,null,null,null,null,null,null,null,null,null,null,null,null,null,null,null,null,null,null,null,null,null,null,null,null,null,null,null,null,null,null,null,null,null,null,null,null,null,null,null,null,null,null,null,null,null,null,null,null,null,null,null,null,null,null,null,null,null,null,null,null,null,null,null,null,null,null,null,null,null,null,null,null,null,null,null,null,null,null,null,null,null,null,null,null,null,null,null,null,null,null,null,null,null,null,null,null,null,null,null,{"$f":"'Country information'!N140","v":"Maldives"},{"$f":"'Country information'!C140","v":"rufiyaa"},{"$f":"'Country information'!D140","v":"Rf"},{"$f":"'Country information'!E140","v":12.8},{"$f":"'Country information'!F140","v":39413}]
[null,null,null,null,null,null,null,null,null,null,null,null,null,null,null,null,null,null,null,null,null,null,null,null,null,null,null,null,null,null,null,null,null,null,null,null,null,null,null,null,null,null,null,null,null,null,null,null,null,null,null,null,null,null,null,null,null,null,null,null,null,null,null,null,null,null,null,null,null,null,null,null,null,null,null,null,null,null,null,null,null,null,null,null,null,null,null,null,null,null,null,null,null,null,null,null,null,null,null,null,null,null,null,null,null,null,null,null,null,null,null,null,null,null,null,null,null,null,null,null,null,null,null,null,null,null,null,null,null,null,null,null,null,null,null,null,{"$f":"'Country information'!N141","v":"Mali"},{"$f":"'Country information'!C141","v":"franc"},{"$f":"'Country information'!D141","v":"CFAF"},{"$f":"'Country information'!E141","v":503.3},{"$f":"'Country information'!F141","v":40592.406030092592}]
[null,null,null,null,null,null,null,null,null,null,null,null,null,null,null,null,null,null,null,null,null,null,null,null,null,null,null,null,null,null,null,null,null,null,null,null,null,null,null,null,null,null,null,null,null,null,null,null,null,null,null,null,null,null,null,null,null,null,null,null,null,null,null,null,null,null,null,null,null,null,null,null,null,null,null,null,null,null,null,null,null,null,null,null,null,null,null,null,null,null,null,null,null,null,null,null,null,null,null,null,null,null,null,null,null,null,null,null,null,null,null,null,null,null,null,null,null,null,null,null,null,null,null,null,null,null,null,null,null,null,null,null,null,null,null,null,{"$f":"'Country information'!N142","v":"Malta"},{"$f":"'Country information'!C142","v":"lira"},{"$f":"'Country information'!D142","v":"Lm"},{"$f":"'Country information'!E142","v":0.77},{"$f":"'Country information'!F142","v":40592.406030092592}]
[null,null,null,null,null,null,null,null,null,null,null,null,null,null,null,null,null,null,null,null,null,null,null,null,null,null,null,null,null,null,null,null,null,null,null,null,null,null,null,null,null,null,null,null,null,null,null,null,null,null,null,null,null,null,null,null,null,null,null,null,null,null,null,null,null,null,null,null,null,null,null,null,null,null,null,null,null,null,null,null,null,null,null,null,null,null,null,null,null,null,null,null,null,null,null,null,null,null,null,null,null,null,null,null,null,null,null,null,null,null,null,null,null,null,null,null,null,null,null,null,null,null,null,null,null,null,null,null,null,null,null,null,null,null,null,null,{"$f":"'Country information'!N143","v":"Martinique"},{"$f":"'Country information'!C143","v":"euro"},{"$f":"'Country information'!D143","v":"€"},{"$f":"'Country information'!E143","v":0.77},{"$f":"'Country information'!F143","v":40592.406030092592}]
[null,null,null,null,null,null,null,null,null,null,null,null,null,null,null,null,null,null,null,null,null,null,null,null,null,null,null,null,null,null,null,null,null,null,null,null,null,null,null,null,null,null,null,null,null,null,null,null,null,null,null,null,null,null,null,null,null,null,null,null,null,null,null,null,null,null,null,null,null,null,null,null,null,null,null,null,null,null,null,null,null,null,null,null,null,null,null,null,null,null,null,null,null,null,null,null,null,null,null,null,null,null,null,null,null,null,null,null,null,null,null,null,null,null,null,null,null,null,null,null,null,null,null,null,null,null,null,null,null,null,null,null,null,null,null,null,{"$f":"'Country information'!N144","v":"Mauritania"},{"$f":"'Country information'!C144","v":"ouguiya"},{"$f":"'Country information'!D144","v":"UM"},{"$f":"'Country information'!E144","v":290},{"$f":"'Country information'!F144","v":40592.406030092592}]
[null,null,null,null,null,null,null,null,null,null,null,null,null,null,null,null,null,null,null,null,null,null,null,null,null,null,null,null,null,null,null,null,null,null,null,null,null,null,null,null,null,null,null,null,null,null,null,null,null,null,null,null,null,null,null,null,null,null,null,null,null,null,null,null,null,null,null,null,null,null,null,null,null,null,null,null,null,null,null,null,null,null,null,null,null,null,null,null,null,null,null,null,null,null,null,null,null,null,null,null,null,null,null,null,null,null,null,null,null,null,null,null,null,null,null,null,null,null,null,null,null,null,null,null,null,null,null,null,null,null,null,null,null,null,null,null,{"$f":"'Country information'!N145","v":"Mauritius"},{"$f":"'Country information'!C145","v":"rupee"},{"$f":"'Country information'!D145","v":"Mau Rs"},{"$f":"'Country information'!E145","v":30.3},{"$f":"'Country information'!F145","v":40592.406030092592}]
[null,null,null,null,null,null,null,null,null,null,null,null,null,null,null,null,null,null,null,null,null,null,null,null,null,null,null,null,null,null,null,null,null,null,null,null,null,null,null,null,null,null,null,null,null,null,null,null,null,null,null,null,null,null,null,null,null,null,null,null,null,null,null,null,null,null,null,null,null,null,null,null,null,null,null,null,null,null,null,null,null,null,null,null,null,null,null,null,null,null,null,null,null,null,null,null,null,null,null,null,null,null,null,null,null,null,null,null,null,null,null,null,null,null,null,null,null,null,null,null,null,null,null,null,null,null,null,null,null,null,null,null,null,null,null,null,{"$f":"'Country information'!N146","v":"Mexico"},{"$f":"'Country information'!C146","v":"peso"},{"$f":"'Country information'!D146","v":"Mex$"},{"$f":"'Country information'!E146","v":12.5},{"$f":"'Country information'!F146","v":40592.406030092592}]
[null,null,null,null,null,null,null,null,null,null,null,null,null,null,null,null,null,null,null,null,null,null,null,null,null,null,null,null,null,null,null,null,null,null,null,null,null,null,null,null,null,null,null,null,null,null,null,null,null,null,null,null,null,null,null,null,null,null,null,null,null,null,null,null,null,null,null,null,null,null,null,null,null,null,null,null,null,null,null,null,null,null,null,null,null,null,null,null,null,null,null,null,null,null,null,null,null,null,null,null,null,null,null,null,null,null,null,null,null,null,null,null,null,null,null,null,null,null,null,null,null,null,null,null,null,null,null,null,null,null,null,null,null,null,null,null,{"$f":"'Country information'!N147","v":"Micronesia"},{"$f":"'Country information'!C147","v":"dollar"},{"$f":"'Country information'!D147","v":"US$"},{"$f":"'Country information'!E147","v":1},{"$f":"'Country information'!F147","v":40592.406030092592}]
[null,null,null,null,null,null,null,null,null,null,null,null,null,null,null,null,null,null,null,null,null,null,null,null,null,null,null,null,null,null,null,null,null,null,null,null,null,null,null,null,null,null,null,null,null,null,null,null,null,null,null,null,null,null,null,null,null,null,null,null,null,null,null,null,null,null,null,null,null,null,null,null,null,null,null,null,null,null,null,null,null,null,null,null,null,null,null,null,null,null,null,null,null,null,null,null,null,null,null,null,null,null,null,null,null,null,null,null,null,null,null,null,null,null,null,null,null,null,null,null,null,null,null,null,null,null,null,null,null,null,null,null,null,null,null,null,{"$f":"'Country information'!N148","v":"Midway Islands"},{"$f":"'Country information'!C148","v":"dollar"},{"$f":"'Country information'!D148","v":"US$"},{"$f":"'Country information'!E148","v":1},{"$f":"'Country information'!F148","v":40128.589282407411}]
[null,null,null,null,null,null,null,null,null,null,null,null,null,null,null,null,null,null,null,null,null,null,null,null,null,null,null,null,null,null,null,null,null,null,null,null,null,null,null,null,null,null,null,null,null,null,null,null,null,null,null,null,null,null,null,null,null,null,null,null,null,null,null,null,null,null,null,null,null,null,null,null,null,null,null,null,null,null,null,null,null,null,null,null,null,null,null,null,null,null,null,null,null,null,null,null,null,null,null,null,null,null,null,null,null,null,null,null,null,null,null,null,null,null,null,null,null,null,null,null,null,null,null,null,null,null,null,null,null,null,null,null,null,null,null,null,{"$f":"'Country information'!N149","v":"Moldova"},{"$f":"'Country information'!C149","v":"Lei"},{"$f":"'Country information'!D149","v":"MDL"},{"$f":"'Country information'!E149","v":12.17},{"$f":"'Country information'!F149","v":40592.406030092592}]
[null,null,null,null,null,null,null,null,null,null,null,null,null,null,null,null,null,null,null,null,null,null,null,null,null,null,null,null,null,null,null,null,null,null,null,null,null,null,null,null,null,null,null,null,null,null,null,null,null,null,null,null,null,null,null,null,null,null,null,null,null,null,null,null,null,null,null,null,null,null,null,null,null,null,null,null,null,null,null,null,null,null,null,null,null,null,null,null,null,null,null,null,null,null,null,null,null,null,null,null,null,null,null,null,null,null,null,null,null,null,null,null,null,null,null,null,null,null,null,null,null,null,null,null,null,null,null,null,null,null,null,null,null,null,null,null,{"$f":"'Country information'!N150","v":"Monaco"},{"$f":"'Country information'!C150","v":"euro"},{"$f":"'Country information'!D150","v":"€"},{"$f":"'Country information'!E150","v":0.77},{"$f":"'Country information'!F150","v":40592.406053240738}]
[null,null,null,null,null,null,null,null,null,null,null,null,null,null,null,null,null,null,null,null,null,null,null,null,null,null,null,null,null,null,null,null,null,null,null,null,null,null,null,null,null,null,null,null,null,null,null,null,null,null,null,null,null,null,null,null,null,null,null,null,null,null,null,null,null,null,null,null,null,null,null,null,null,null,null,null,null,null,null,null,null,null,null,null,null,null,null,null,null,null,null,null,null,null,null,null,null,null,null,null,null,null,null,null,null,null,null,null,null,null,null,null,null,null,null,null,null,null,null,null,null,null,null,null,null,null,null,null,null,null,null,null,null,null,null,null,{"$f":"'Country information'!N151","v":"Mongolia"},{"$f":"'Country information'!C151","v":"tughrik"},{"$f":"'Country information'!D151","v":"₮"},{"$f":"'Country information'!E151","v":1262.45},{"$f":"'Country information'!F151","v":40592.406030092592}]
[null,null,null,null,null,null,null,null,null,null,null,null,null,null,null,null,null,null,null,null,null,null,null,null,null,null,null,null,null,null,null,null,null,null,null,null,null,null,null,null,null,null,null,null,null,null,null,null,null,null,null,null,null,null,null,null,null,null,null,null,null,null,null,null,null,null,null,null,null,null,null,null,null,null,null,null,null,null,null,null,null,null,null,null,null,null,null,null,null,null,null,null,null,null,null,null,null,null,null,null,null,null,null,null,null,null,null,null,null,null,null,null,null,null,null,null,null,null,null,null,null,null,null,null,null,null,null,null,null,null,null,null,null,null,null,null,{"$f":"'Country information'!N152","v":"Montserrat"},{"$f":"'Country information'!C152","v":"dollar"},{"$f":"'Country information'!D152","v":"EC$"},{"$f":"'Country information'!E152","v":2.7},{"$f":"'Country information'!F152","v":40592.406053240738}]
[null,null,null,null,null,null,null,null,null,null,null,null,null,null,null,null,null,null,null,null,null,null,null,null,null,null,null,null,null,null,null,null,null,null,null,null,null,null,null,null,null,null,null,null,null,null,null,null,null,null,null,null,null,null,null,null,null,null,null,null,null,null,null,null,null,null,null,null,null,null,null,null,null,null,null,null,null,null,null,null,null,null,null,null,null,null,null,null,null,null,null,null,null,null,null,null,null,null,null,null,null,null,null,null,null,null,null,null,null,null,null,null,null,null,null,null,null,null,null,null,null,null,null,null,null,null,null,null,null,null,null,null,null,null,null,null,{"$f":"'Country information'!N153","v":"Morocco"},{"$f":"'Country information'!C153","v":"dirham"},{"$f":"'Country information'!D153","v":"DH"},{"$f":"'Country information'!E153","v":8.5},{"$f":"'Country information'!F153","v":40592.406041666669}]
[null,null,null,null,null,null,null,null,null,null,null,null,null,null,null,null,null,null,null,null,null,null,null,null,null,null,null,null,null,null,null,null,null,null,null,null,null,null,null,null,null,null,null,null,null,null,null,null,null,null,null,null,null,null,null,null,null,null,null,null,null,null,null,null,null,null,null,null,null,null,null,null,null,null,null,null,null,null,null,null,null,null,null,null,null,null,null,null,null,null,null,null,null,null,null,null,null,null,null,null,null,null,null,null,null,null,null,null,null,null,null,null,null,null,null,null,null,null,null,null,null,null,null,null,null,null,null,null,null,null,null,null,null,null,null,null,{"$f":"'Country information'!N154","v":"Mozambique"},{"$f":"'Country information'!C154","v":"metical"},{"$f":"'Country information'!D154","v":"Mt"},{"$f":"'Country information'!E154","v":35.71},{"$f":"'Country information'!F154","v":40592.406041666669}]
[null,null,null,null,null,null,null,null,null,null,null,null,null,null,null,null,null,null,null,null,null,null,null,null,null,null,null,null,null,null,null,null,null,null,null,null,null,null,null,null,null,null,null,null,null,null,null,null,null,null,null,null,null,null,null,null,null,null,null,null,null,null,null,null,null,null,null,null,null,null,null,null,null,null,null,null,null,null,null,null,null,null,null,null,null,null,null,null,null,null,null,null,null,null,null,null,null,null,null,null,null,null,null,null,null,null,null,null,null,null,null,null,null,null,null,null,null,null,null,null,null,null,null,null,null,null,null,null,null,null,null,null,null,null,null,null,{"$f":"'Country information'!N155","v":"Myanmar"},{"$f":"'Country information'!C155","v":"kyat"},{"$f":"'Country information'!D155","v":"K"},{"$f":"'Country information'!E155","v":6.4208499999999997},{"$f":"'Country information'!F155","v":39413}]
[null,null,null,null,null,null,null,null,null,null,null,null,null,null,null,null,null,null,null,null,null,null,null,null,null,null,null,null,null,null,null,null,null,null,null,null,null,null,null,null,null,null,null,null,null,null,null,null,null,null,null,null,null,null,null,null,null,null,null,null,null,null,null,null,null,null,null,null,null,null,null,null,null,null,null,null,null,null,null,null,null,null,null,null,null,null,null,null,null,null,null,null,null,null,null,null,null,null,null,null,null,null,null,null,null,null,null,null,null,null,null,null,null,null,null,null,null,null,null,null,null,null,null,null,null,null,null,null,null,null,null,null,null,null,null,null,{"$f":"'Country information'!N156","v":"Namibia"},{"$f":"'Country information'!C156","v":"dollar"},{"$f":"'Country information'!D156","v":"N$"},{"$f":"'Country information'!E156","v":7.07},{"$f":"'Country information'!F156","v":40592.406041666669}]
[null,null,null,null,null,null,null,null,null,null,null,null,null,null,null,null,null,null,null,null,null,null,null,null,null,null,null,null,null,null,null,null,null,null,null,null,null,null,null,null,null,null,null,null,null,null,null,null,null,null,null,null,null,null,null,null,null,null,null,null,null,null,null,null,null,null,null,null,null,null,null,null,null,null,null,null,null,null,null,null,null,null,null,null,null,null,null,null,null,null,null,null,null,null,null,null,null,null,null,null,null,null,null,null,null,null,null,null,null,null,null,null,null,null,null,null,null,null,null,null,null,null,null,null,null,null,null,null,null,null,null,null,null,null,null,null,{"$f":"'Country information'!N157","v":"Nauru"},{"$f":"'Country information'!C157","v":"dollar"},{"$f":"'Country information'!D157","v":"A$"},{"$f":"'Country information'!E157","v":1.04},{"$f":"'Country information'!F157","v":40592.406053240738}]
[null,null,null,null,null,null,null,null,null,null,null,null,null,null,null,null,null,null,null,null,null,null,null,null,null,null,null,null,null,null,null,null,null,null,null,null,null,null,null,null,null,null,null,null,null,null,null,null,null,null,null,null,null,null,null,null,null,null,null,null,null,null,null,null,null,null,null,null,null,null,null,null,null,null,null,null,null,null,null,null,null,null,null,null,null,null,null,null,null,null,null,null,null,null,null,null,null,null,null,null,null,null,null,null,null,null,null,null,null,null,null,null,null,null,null,null,null,null,null,null,null,null,null,null,null,null,null,null,null,null,null,null,null,null,null,null,{"$f":"'Country information'!N158","v":"Nepal"},{"$f":"'Country information'!C158","v":"rupee"},{"$f":"'Country information'!D158","v":"NRs"},{"$f":"'Country information'!E158","v":72.95},{"$f":"'Country information'!F158","v":40592.406041666669}]
[null,null,null,null,null,null,null,null,null,null,null,null,null,null,null,null,null,null,null,null,null,null,null,null,null,null,null,null,null,null,null,null,null,null,null,null,null,null,null,null,null,null,null,null,null,null,null,null,null,null,null,null,null,null,null,null,null,null,null,null,null,null,null,null,null,null,null,null,null,null,null,null,null,null,null,null,null,null,null,null,null,null,null,null,null,null,null,null,null,null,null,null,null,null,null,null,null,null,null,null,null,null,null,null,null,null,null,null,null,null,null,null,null,null,null,null,null,null,null,null,null,null,null,null,null,null,null,null,null,null,null,null,null,null,null,null,{"$f":"'Country information'!N159","v":"Netherlands"},{"$f":"'Country information'!C159","v":"euro"},{"$f":"'Country information'!D159","v":"€"},{"$f":"'Country information'!E159","v":0.77},{"$f":"'Country information'!F159","v":40592.406041666669}]
[null,null,null,null,null,null,null,null,null,null,null,null,null,null,null,null,null,null,null,null,null,null,null,null,null,null,null,null,null,null,null,null,null,null,null,null,null,null,null,null,null,null,null,null,null,null,null,null,null,null,null,null,null,null,null,null,null,null,null,null,null,null,null,null,null,null,null,null,null,null,null,null,null,null,null,null,null,null,null,null,null,null,null,null,null,null,null,null,null,null,null,null,null,null,null,null,null,null,null,null,null,null,null,null,null,null,null,null,null,null,null,null,null,null,null,null,null,null,null,null,null,null,null,null,null,null,null,null,null,null,null,null,null,null,null,null,{"$f":"'Country information'!N160","v":"Netherlands Antilles"},{"$f":"'Country information'!C160","v":"guilder"},{"$f":"'Country information'!D160","v":"NAf."},{"$f":"'Country information'!E160","v":1.78},{"$f":"'Country information'!F160","v":40592.406041666669}]
[null,null,null,null,null,null,null,null,null,null,null,null,null,null,null,null,null,null,null,null,null,null,null,null,null,null,null,null,null,null,null,null,null,null,null,null,null,null,null,null,null,null,null,null,null,null,null,null,null,null,null,null,null,null,null,null,null,null,null,null,null,null,null,null,null,null,null,null,null,null,null,null,null,null,null,null,null,null,null,null,null,null,null,null,null,null,null,null,null,null,null,null,null,null,null,null,null,null,null,null,null,null,null,null,null,null,null,null,null,null,null,null,null,null,null,null,null,null,null,null,null,null,null,null,null,null,null,null,null,null,null,null,null,null,null,null,{"$f":"'Country information'!N161","v":"New Caledonia"},{"$f":"'Country information'!C161","v":"franc"},{"$f":"'Country information'!D161","v":"XPF"},{"$f":"'Country information'!E161","v":80.113100000000003},{"$f":"'Country information'!F161","v":39413}]
[null,null,null,null,null,null,null,null,null,null,null,null,null,null,null,null,null,null,null,null,null,null,null,null,null,null,null,null,null,null,null,null,null,null,null,null,null,null,null,null,null,null,null,null,null,null,null,null,null,null,null,null,null,null,null,null,null,null,null,null,null,null,null,null,null,null,null,null,null,null,null,null,null,null,null,null,null,null,null,null,null,null,null,null,null,null,null,null,null,null,null,null,null,null,null,null,null,null,null,null,null,null,null,null,null,null,null,null,null,null,null,null,null,null,null,null,null,null,null,null,null,null,null,null,null,null,null,null,null,null,null,null,null,null,null,null,{"$f":"'Country information'!N162","v":"New Zealand"},{"$f":"'Country information'!C162","v":"dollar"},{"$f":"'Country information'!D162","v":"NZ$"},{"$f":"'Country information'!E162","v":1.34},{"$f":"'Country information'!F162","v":40592.406041666669}]
[null,null,null,null,null,null,null,null,null,null,null,null,null,null,null,null,null,null,null,null,null,null,null,null,null,null,null,null,null,null,null,null,null,null,null,null,null,null,null,null,null,null,null,null,null,null,null,null,null,null,null,null,null,null,null,null,null,null,null,null,null,null,null,null,null,null,null,null,null,null,null,null,null,null,null,null,null,null,null,null,null,null,null,null,null,null,null,null,null,null,null,null,null,null,null,null,null,null,null,null,null,null,null,null,null,null,null,null,null,null,null,null,null,null,null,null,null,null,null,null,null,null,null,null,null,null,null,null,null,null,null,null,null,null,null,null,{"$f":"'Country information'!N163","v":"Nicaragua"},{"$f":"'Country information'!C163","v":"gold cordoba"},{"$f":"'Country information'!D163","v":"C$"},{"$f":"'Country information'!E163","v":21.79},{"$f":"'Country information'!F163","v":40592.406041666669}]
[null,null,null,null,null,null,null,null,null,null,null,null,null,null,null,null,null,null,null,null,null,null,null,null,null,null,null,null,null,null,null,null,null,null,null,null,null,null,null,null,null,null,null,null,null,null,null,null,null,null,null,null,null,null,null,null,null,null,null,null,null,null,null,null,null,null,null,null,null,null,null,null,null,null,null,null,null,null,null,null,null,null,null,null,null,null,null,null,null,null,null,null,null,null,null,null,null,null,null,null,null,null,null,null,null,null,null,null,null,null,null,null,null,null,null,null,null,null,null,null,null,null,null,null,null,null,null,null,null,null,null,null,null,null,null,null,{"$f":"'Country information'!N164","v":"Niger"},{"$f":"'Country information'!C164","v":"franc"},{"$f":"'Country information'!D164","v":"CFAF"},{"$f":"'Country information'!E164","v":503.3},{"$f":"'Country information'!F164","v":40592.406041666669}]
[null,null,null,null,null,null,null,null,null,null,null,null,null,null,null,null,null,null,null,null,null,null,null,null,null,null,null,null,null,null,null,null,null,null,null,null,null,null,null,null,null,null,null,null,null,null,null,null,null,null,null,null,null,null,null,null,null,null,null,null,null,null,null,null,null,null,null,null,null,null,null,null,null,null,null,null,null,null,null,null,null,null,null,null,null,null,null,null,null,null,null,null,null,null,null,null,null,null,null,null,null,null,null,null,null,null,null,null,null,null,null,null,null,null,null,null,null,null,null,null,null,null,null,null,null,null,null,null,null,null,null,null,null,null,null,null,{"$f":"'Country information'!N165","v":"Nigeria"},{"$f":"'Country information'!C165","v":"naira"},{"$f":"'Country information'!D165","v":"₦"},{"$f":"'Country information'!E165","v":150.6},{"$f":"'Country information'!F165","v":40592.406041666669}]
[null,null,null,null,null,null,null,null,null,null,null,null,null,null,null,null,null,null,null,null,null,null,null,null,null,null,null,null,null,null,null,null,null,null,null,null,null,null,null,null,null,null,null,null,null,null,null,null,null,null,null,null,null,null,null,null,null,null,null,null,null,null,null,null,null,null,null,null,null,null,null,null,null,null,null,null,null,null,null,null,null,null,null,null,null,null,null,null,null,null,null,null,null,null,null,null,null,null,null,null,null,null,null,null,null,null,null,null,null,null,null,null,null,null,null,null,null,null,null,null,null,null,null,null,null,null,null,null,null,null,null,null,null,null,null,null,{"$f":"'Country information'!N166","v":"Niue"},{"$f":"'Country information'!C166","v":"dollar"},{"$f":"'Country information'!D166","v":"NZ$"},{"$f":"'Country information'!E166","v":1.34},{"$f":"'Country information'!F166","v":40592.406053240738}]
[null,null,null,null,null,null,null,null,null,null,null,null,null,null,null,null,null,null,null,null,null,null,null,null,null,null,null,null,null,null,null,null,null,null,null,null,null,null,null,null,null,null,null,null,null,null,null,null,null,null,null,null,null,null,null,null,null,null,null,null,null,null,null,null,null,null,null,null,null,null,null,null,null,null,null,null,null,null,null,null,null,null,null,null,null,null,null,null,null,null,null,null,null,null,null,null,null,null,null,null,null,null,null,null,null,null,null,null,null,null,null,null,null,null,null,null,null,null,null,null,null,null,null,null,null,null,null,null,null,null,null,null,null,null,null,null,{"$f":"'Country information'!N167","v":"Norfolk Island"},{"$f":"'Country information'!C167","v":"dollar"},{"$f":"'Country information'!D167","v":"A$"},{"$f":"'Country information'!E167","v":1.04},{"$f":"'Country information'!F167","v":40592.406053240738}]
[null,null,null,null,null,null,null,null,null,null,null,null,null,null,null,null,null,null,null,null,null,null,null,null,null,null,null,null,null,null,null,null,null,null,null,null,null,null,null,null,null,null,null,null,null,null,null,null,null,null,null,null,null,null,null,null,null,null,null,null,null,null,null,null,null,null,null,null,null,null,null,null,null,null,null,null,null,null,null,null,null,null,null,null,null,null,null,null,null,null,null,null,null,null,null,null,null,null,null,null,null,null,null,null,null,null,null,null,null,null,null,null,null,null,null,null,null,null,null,null,null,null,null,null,null,null,null,null,null,null,null,null,null,null,null,null,{"$f":"'Country information'!N168","v":"Norway"},{"$f":"'Country information'!C168","v":"krone"},{"$f":"'Country information'!D168","v":"NKr"},{"$f":"'Country information'!E168","v":6.2},{"$f":"'Country information'!F168","v":40592.406041666669}]
[null,null,null,null,null,null,null,null,null,null,null,null,null,null,null,null,null,null,null,null,null,null,null,null,null,null,null,null,null,null,null,null,null,null,null,null,null,null,null,null,null,null,null,null,null,null,null,null,null,null,null,null,null,null,null,null,null,null,null,null,null,null,null,null,null,null,null,null,null,null,null,null,null,null,null,null,null,null,null,null,null,null,null,null,null,null,null,null,null,null,null,null,null,null,null,null,null,null,null,null,null,null,null,null,null,null,null,null,null,null,null,null,null,null,null,null,null,null,null,null,null,null,null,null,null,null,null,null,null,null,null,null,null,null,null,null,{"$f":"'Country information'!N169","v":"Oman"},{"$f":"'Country information'!C169","v":"rial"},{"$f":"'Country information'!D169","v":"﷼"},{"$f":"'Country information'!E169","v":0.39},{"$f":"'Country information'!F169","v":40592.406041666669}]
[null,null,null,null,null,null,null,null,null,null,null,null,null,null,null,null,null,null,null,null,null,null,null,null,null,null,null,null,null,null,null,null,null,null,null,null,null,null,null,null,null,null,null,null,null,null,null,null,null,null,null,null,null,null,null,null,null,null,null,null,null,null,null,null,null,null,null,null,null,null,null,null,null,null,null,null,null,null,null,null,null,null,null,null,null,null,null,null,null,null,null,null,null,null,null,null,null,null,null,null,null,null,null,null,null,null,null,null,null,null,null,null,null,null,null,null,null,null,null,null,null,null,null,null,null,null,null,null,null,null,null,null,null,null,null,null,{"$f":"'Country information'!N170","v":"Pakistan"},{"$f":"'Country information'!C170","v":"rupee"},{"$f":"'Country information'!D170","v":"Rs"},{"$f":"'Country information'!E170","v":85.7},{"$f":"'Country information'!F170","v":40592.406041666669}]
[null,null,null,null,null,null,null,null,null,null,null,null,null,null,null,null,null,null,null,null,null,null,null,null,null,null,null,null,null,null,null,null,null,null,null,null,null,null,null,null,null,null,null,null,null,null,null,null,null,null,null,null,null,null,null,null,null,null,null,null,null,null,null,null,null,null,null,null,null,null,null,null,null,null,null,null,null,null,null,null,null,null,null,null,null,null,null,null,null,null,null,null,null,null,null,null,null,null,null,null,null,null,null,null,null,null,null,null,null,null,null,null,null,null,null,null,null,null,null,null,null,null,null,null,null,null,null,null,null,null,null,null,null,null,null,null,{"$f":"'Country information'!N171","v":"Palau"},{"$f":"'Country information'!C171","v":"dollar"},{"$f":"'Country information'!D171","v":"US$"},{"$f":"'Country information'!E171","v":1},{"$f":"'Country information'!F171","v":40592.406041666669}]
[null,null,null,null,null,null,null,null,null,null,null,null,null,null,null,null,null,null,null,null,null,null,null,null,null,null,null,null,null,null,null,null,null,null,null,null,null,null,null,null,null,null,null,null,null,null,null,null,null,null,null,null,null,null,null,null,null,null,null,null,null,null,null,null,null,null,null,null,null,null,null,null,null,null,null,null,null,null,null,null,null,null,null,null,null,null,null,null,null,null,null,null,null,null,null,null,null,null,null,null,null,null,null,null,null,null,null,null,null,null,null,null,null,null,null,null,null,null,null,null,null,null,null,null,null,null,null,null,null,null,null,null,null,null,null,null,{"$f":"'Country information'!N172","v":"Panama"},{"$f":"'Country information'!C172","v":"balboa"},{"$f":"'Country information'!D172","v":"B/."},{"$f":"'Country information'!E172","v":1},{"$f":"'Country information'!F172","v":40592.406041666669}]
[null,null,null,null,null,null,null,null,null,null,null,null,null,null,null,null,null,null,null,null,null,null,null,null,null,null,null,null,null,null,null,null,null,null,null,null,null,null,null,null,null,null,null,null,null,null,null,null,null,null,null,null,null,null,null,null,null,null,null,null,null,null,null,null,null,null,null,null,null,null,null,null,null,null,null,null,null,null,null,null,null,null,null,null,null,null,null,null,null,null,null,null,null,null,null,null,null,null,null,null,null,null,null,null,null,null,null,null,null,null,null,null,null,null,null,null,null,null,null,null,null,null,null,null,null,null,null,null,null,null,null,null,null,null,null,null,{"$f":"'Country information'!N173","v":"Papua New Guinea"},{"$f":"'Country information'!C173","v":"kina"},{"$f":"'Country information'!D173","v":"K"},{"$f":"'Country information'!E173","v":2.48},{"$f":"'Country information'!F173","v":40592.406041666669}]
[null,null,null,null,null,null,null,null,null,null,null,null,null,null,null,null,null,null,null,null,null,null,null,null,null,null,null,null,null,null,null,null,null,null,null,null,null,null,null,null,null,null,null,null,null,null,null,null,null,null,null,null,null,null,null,null,null,null,null,null,null,null,null,null,null,null,null,null,null,null,null,null,null,null,null,null,null,null,null,null,null,null,null,null,null,null,null,null,null,null,null,null,null,null,null,null,null,null,null,null,null,null,null,null,null,null,null,null,null,null,null,null,null,null,null,null,null,null,null,null,null,null,null,null,null,null,null,null,null,null,null,null,null,null,null,null,{"$f":"'Country information'!N174","v":"Paraguay"},{"$f":"'Country information'!C174","v":"guarani"},{"$f":"'Country information'!D174","v":"PYG"},{"$f":"'Country information'!E174","v":4700},{"$f":"'Country information'!F174","v":40592.406041666669}]
[null,null,null,null,null,null,null,null,null,null,null,null,null,null,null,null,null,null,null,null,null,null,null,null,null,null,null,null,null,null,null,null,null,null,null,null,null,null,null,null,null,null,null,null,null,null,null,null,null,null,null,null,null,null,null,null,null,null,null,null,null,null,null,null,null,null,null,null,null,null,null,null,null,null,null,null,null,null,null,null,null,null,null,null,null,null,null,null,null,null,null,null,null,null,null,null,null,null,null,null,null,null,null,null,null,null,null,null,null,null,null,null,null,null,null,null,null,null,null,null,null,null,null,null,null,null,null,null,null,null,null,null,null,null,null,null,{"$f":"'Country information'!N175","v":"Peru"},{"$f":"'Country information'!C175","v":"new sol"},{"$f":"'Country information'!D175","v":"S/."},{"$f":"'Country information'!E175","v":3.01485},{"$f":"'Country information'!F175","v":39413}]
[null,null,null,null,null,null,null,null,null,null,null,null,null,null,null,null,null,null,null,null,null,null,null,null,null,null,null,null,null,null,null,null,null,null,null,null,null,null,null,null,null,null,null,null,null,null,null,null,null,null,null,null,null,null,null,null,null,null,null,null,null,null,null,null,null,null,null,null,null,null,null,null,null,null,null,null,null,null,null,null,null,null,null,null,null,null,null,null,null,null,null,null,null,null,null,null,null,null,null,null,null,null,null,null,null,null,null,null,null,null,null,null,null,null,null,null,null,null,null,null,null,null,null,null,null,null,null,null,null,null,null,null,null,null,null,null,{"$f":"'Country information'!N176","v":"Philippines"},{"$f":"'Country information'!C176","v":"peso"},{"$f":"'Country information'!D176","v":"PHP"},{"$f":"'Country information'!E176","v":44.1},{"$f":"'Country information'!F176","v":40592.406041666669}]
[null,null,null,null,null,null,null,null,null,null,null,null,null,null,null,null,null,null,null,null,null,null,null,null,null,null,null,null,null,null,null,null,null,null,null,null,null,null,null,null,null,null,null,null,null,null,null,null,null,null,null,null,null,null,null,null,null,null,null,null,null,null,null,null,null,null,null,null,null,null,null,null,null,null,null,null,null,null,null,null,null,null,null,null,null,null,null,null,null,null,null,null,null,null,null,null,null,null,null,null,null,null,null,null,null,null,null,null,null,null,null,null,null,null,null,null,null,null,null,null,null,null,null,null,null,null,null,null,null,null,null,null,null,null,null,null,{"$f":"'Country information'!N177","v":"Pitcairn Island"},{"$f":"'Country information'!C177","v":"dollar"},{"$f":"'Country information'!D177","v":"NZ$"},{"$f":"'Country information'!E177","v":1.34},{"$f":"'Country information'!F177","v":40592.406053240738}]
[null,null,null,null,null,null,null,null,null,null,null,null,null,null,null,null,null,null,null,null,null,null,null,null,null,null,null,null,null,null,null,null,null,null,null,null,null,null,null,null,null,null,null,null,null,null,null,null,null,null,null,null,null,null,null,null,null,null,null,null,null,null,null,null,null,null,null,null,null,null,null,null,null,null,null,null,null,null,null,null,null,null,null,null,null,null,null,null,null,null,null,null,null,null,null,null,null,null,null,null,null,null,null,null,null,null,null,null,null,null,null,null,null,null,null,null,null,null,null,null,null,null,null,null,null,null,null,null,null,null,null,null,null,null,null,null,{"$f":"'Country information'!N178","v":"Poland"},{"$f":"'Country information'!C178","v":"zloty"},{"$f":"'Country information'!D178","v":"zł"},{"$f":"'Country information'!E178","v":3.11},{"$f":"'Country information'!F178","v":40592.406041666669}]
[null,null,null,null,null,null,null,null,null,null,null,null,null,null,null,null,null,null,null,null,null,null,null,null,null,null,null,null,null,null,null,null,null,null,null,null,null,null,null,null,null,null,null,null,null,null,null,null,null,null,null,null,null,null,null,null,null,null,null,null,null,null,null,null,null,null,null,null,null,null,null,null,null,null,null,null,null,null,null,null,null,null,null,null,null,null,null,null,null,null,null,null,null,null,null,null,null,null,null,null,null,null,null,null,null,null,null,null,null,null,null,null,null,null,null,null,null,null,null,null,null,null,null,null,null,null,null,null,null,null,null,null,null,null,null,null,{"$f":"'Country information'!N179","v":"Portugal"},{"$f":"'Country information'!C179","v":"euro"},{"$f":"'Country information'!D179","v":"€"},{"$f":"'Country information'!E179","v":0.77},{"$f":"'Country information'!F179","v":40592.406041666669}]
[null,null,null,null,null,null,null,null,null,null,null,null,null,null,null,null,null,null,null,null,null,null,null,null,null,null,null,null,null,null,null,null,null,null,null,null,null,null,null,null,null,null,null,null,null,null,null,null,null,null,null,null,null,null,null,null,null,null,null,null,null,null,null,null,null,null,null,null,null,null,null,null,null,null,null,null,null,null,null,null,null,null,null,null,null,null,null,null,null,null,null,null,null,null,null,null,null,null,null,null,null,null,null,null,null,null,null,null,null,null,null,null,null,null,null,null,null,null,null,null,null,null,null,null,null,null,null,null,null,null,null,null,null,null,null,null,{"$f":"'Country information'!N180","v":"Puerto Rico"},{"$f":"'Country information'!C180","v":"dollar"},{"$f":"'Country information'!D180","v":"US$"},{"$f":"'Country information'!E180","v":1},{"$f":"'Country information'!F180","v":40128.589282407411}]
[null,null,null,null,null,null,null,null,null,null,null,null,null,null,null,null,null,null,null,null,null,null,null,null,null,null,null,null,null,null,null,null,null,null,null,null,null,null,null,null,null,null,null,null,null,null,null,null,null,null,null,null,null,null,null,null,null,null,null,null,null,null,null,null,null,null,null,null,null,null,null,null,null,null,null,null,null,null,null,null,null,null,null,null,null,null,null,null,null,null,null,null,null,null,null,null,null,null,null,null,null,null,null,null,null,null,null,null,null,null,null,null,null,null,null,null,null,null,null,null,null,null,null,null,null,null,null,null,null,null,null,null,null,null,null,null,{"$f":"'Country information'!N181","v":"Qatar"},{"$f":"'Country information'!C181","v":"riyal"},{"$f":"'Country information'!D181","v":"QAR"},{"$f":"'Country information'!E181","v":3.64},{"$f":"'Country information'!F181","v":40592.406041666669}]
[null,null,null,null,null,null,null,null,null,null,null,null,null,null,null,null,null,null,null,null,null,null,null,null,null,null,null,null,null,null,null,null,null,null,null,null,null,null,null,null,null,null,null,null,null,null,null,null,null,null,null,null,null,null,null,null,null,null,null,null,null,null,null,null,null,null,null,null,null,null,null,null,null,null,null,null,null,null,null,null,null,null,null,null,null,null,null,null,null,null,null,null,null,null,null,null,null,null,null,null,null,null,null,null,null,null,null,null,null,null,null,null,null,null,null,null,null,null,null,null,null,null,null,null,null,null,null,null,null,null,null,null,null,null,null,null,{"$f":"'Country information'!N182","v":"Reunion"},{"$f":"'Country information'!C182","v":"euro"},{"$f":"'Country information'!D182","v":"€"},{"$f":"'Country information'!E182","v":0.77},{"$f":"'Country information'!F182","v":40592.406053240738}]
[null,null,null,null,null,null,null,null,null,null,null,null,null,null,null,null,null,null,null,null,null,null,null,null,null,null,null,null,null,null,null,null,null,null,null,null,null,null,null,null,null,null,null,null,null,null,null,null,null,null,null,null,null,null,null,null,null,null,null,null,null,null,null,null,null,null,null,null,null,null,null,null,null,null,null,null,null,null,null,null,null,null,null,null,null,null,null,null,null,null,null,null,null,null,null,null,null,null,null,null,null,null,null,null,null,null,null,null,null,null,null,null,null,null,null,null,null,null,null,null,null,null,null,null,null,null,null,null,null,null,null,null,null,null,null,null,{"$f":"'Country information'!N183","v":"Romania"},{"$f":"'Country information'!C183","v":"Lei"},{"$f":"'Country information'!D183","v":"L"},{"$f":"'Country information'!E183","v":3.29},{"$f":"'Country information'!F183","v":40592.406041666669}]
[null,null,null,null,null,null,null,null,null,null,null,null,null,null,null,null,null,null,null,null,null,null,null,null,null,null,null,null,null,null,null,null,null,null,null,null,null,null,null,null,null,null,null,null,null,null,null,null,null,null,null,null,null,null,null,null,null,null,null,null,null,null,null,null,null,null,null,null,null,null,null,null,null,null,null,null,null,null,null,null,null,null,null,null,null,null,null,null,null,null,null,null,null,null,null,null,null,null,null,null,null,null,null,null,null,null,null,null,null,null,null,null,null,null,null,null,null,null,null,null,null,null,null,null,null,null,null,null,null,null,null,null,null,null,null,null,{"$f":"'Country information'!N184","v":"Russia"},{"$f":"'Country information'!C184","v":"ruble"},{"$f":"'Country information'!D184","v":"руб"},{"$f":"'Country information'!E184","v":31.4},{"$f":"'Country information'!F184","v":40592.406041666669}]
[null,null,null,null,null,null,null,null,null,null,null,null,null,null,null,null,null,null,null,null,null,null,null,null,null,null,null,null,null,null,null,null,null,null,null,null,null,null,null,null,null,null,null,null,null,null,null,null,null,null,null,null,null,null,null,null,null,null,null,null,null,null,null,null,null,null,null,null,null,null,null,null,null,null,null,null,null,null,null,null,null,null,null,null,null,null,null,null,null,null,null,null,null,null,null,null,null,null,null,null,null,null,null,null,null,null,null,null,null,null,null,null,null,null,null,null,null,null,null,null,null,null,null,null,null,null,null,null,null,null,null,null,null,null,null,null,{"$f":"'Country information'!N185","v":"Rwanda"},{"$f":"'Country information'!C185","v":"franc"},{"$f":"'Country information'!D185","v":"RF"},{"$f":"'Country information'!E185","v":592.02},{"$f":"'Country information'!F185","v":40592.406041666669}]
[null,null,null,null,null,null,null,null,null,null,null,null,null,null,null,null,null,null,null,null,null,null,null,null,null,null,null,null,null,null,null,null,null,null,null,null,null,null,null,null,null,null,null,null,null,null,null,null,null,null,null,null,null,null,null,null,null,null,null,null,null,null,null,null,null,null,null,null,null,null,null,null,null,null,null,null,null,null,null,null,null,null,null,null,null,null,null,null,null,null,null,null,null,null,null,null,null,null,null,null,null,null,null,null,null,null,null,null,null,null,null,null,null,null,null,null,null,null,null,null,null,null,null,null,null,null,null,null,null,null,null,null,null,null,null,null,{"$f":"'Country information'!N186","v":"Samoa (America)"},{"$f":"'Country information'!C186","v":"dollar"},{"$f":"'Country information'!D186","v":"US$"},{"$f":"'Country information'!E186","v":1},{"$f":"'Country information'!F186","v":40128.589282407411}]
[null,null,null,null,null,null,null,null,null,null,null,null,null,null,null,null,null,null,null,null,null,null,null,null,null,null,null,null,null,null,null,null,null,null,null,null,null,null,null,null,null,null,null,null,null,null,null,null,null,null,null,null,null,null,null,null,null,null,null,null,null,null,null,null,null,null,null,null,null,null,null,null,null,null,null,null,null,null,null,null,null,null,null,null,null,null,null,null,null,null,null,null,null,null,null,null,null,null,null,null,null,null,null,null,null,null,null,null,null,null,null,null,null,null,null,null,null,null,null,null,null,null,null,null,null,null,null,null,null,null,null,null,null,null,null,null,{"$f":"'Country information'!N187","v":"Samoa (Western)"},{"$f":"'Country information'!C187","v":"tala"},{"$f":"'Country information'!D187","v":"WS$"},{"$f":"'Country information'!E187","v":2.6702300000000001},{"$f":"'Country information'!F187","v":39413}]
[null,null,null,null,null,null,null,null,null,null,null,null,null,null,null,null,null,null,null,null,null,null,null,null,null,null,null,null,null,null,null,null,null,null,null,null,null,null,null,null,null,null,null,null,null,null,null,null,null,null,null,null,null,null,null,null,null,null,null,null,null,null,null,null,null,null,null,null,null,null,null,null,null,null,null,null,null,null,null,null,null,null,null,null,null,null,null,null,null,null,null,null,null,null,null,null,null,null,null,null,null,null,null,null,null,null,null,null,null,null,null,null,null,null,null,null,null,null,null,null,null,null,null,null,null,null,null,null,null,null,null,null,null,null,null,null,{"$f":"'Country information'!N188","v":"San Marino"},{"$f":"'Country information'!C188","v":"euro"},{"$f":"'Country information'!D188","v":"€"},{"$f":"'Country information'!E188","v":0.77},{"$f":"'Country information'!F188","v":40592.406053240738}]
[null,null,null,null,null,null,null,null,null,null,null,null,null,null,null,null,null,null,null,null,null,null,null,null,null,null,null,null,null,null,null,null,null,null,null,null,null,null,null,null,null,null,null,null,null,null,null,null,null,null,null,null,null,null,null,null,null,null,null,null,null,null,null,null,null,null,null,null,null,null,null,null,null,null,null,null,null,null,null,null,null,null,null,null,null,null,null,null,null,null,null,null,null,null,null,null,null,null,null,null,null,null,null,null,null,null,null,null,null,null,null,null,null,null,null,null,null,null,null,null,null,null,null,null,null,null,null,null,null,null,null,null,null,null,null,null,{"$f":"'Country information'!N189","v":"Sao Tome & Principe"},{"$f":"'Country information'!C189","v":"dobra"},{"$f":"'Country information'!D189","v":"Db"},{"$f":"'Country information'!E189","v":18526.1191},{"$f":"'Country information'!F189","v":40592.406041666669}]
[null,null,null,null,null,null,null,null,null,null,null,null,null,null,null,null,null,null,null,null,null,null,null,null,null,null,null,null,null,null,null,null,null,null,null,null,null,null,null,null,null,null,null,null,null,null,null,null,null,null,null,null,null,null,null,null,null,null,null,null,null,null,null,null,null,null,null,null,null,null,null,null,null,null,null,null,null,null,null,null,null,null,null,null,null,null,null,null,null,null,null,null,null,null,null,null,null,null,null,null,null,null,null,null,null,null,null,null,null,null,null,null,null,null,null,null,null,null,null,null,null,null,null,null,null,null,null,null,null,null,null,null,null,null,null,null,{"$f":"'Country information'!N190","v":"Saudi Arabia"},{"$f":"'Country information'!C190","v":"riyal"},{"$f":"'Country information'!D190","v":"SRls"},{"$f":"'Country information'!E190","v":3.75},{"$f":"'Country information'!F190","v":40592.406041666669}]
[null,null,null,null,null,null,null,null,null,null,null,null,null,null,null,null,null,null,null,null,null,null,null,null,null,null,null,null,null,null,null,null,null,null,null,null,null,null,null,null,null,null,null,null,null,null,null,null,null,null,null,null,null,null,null,null,null,null,null,null,null,null,null,null,null,null,null,null,null,null,null,null,null,null,null,null,null,null,null,null,null,null,null,null,null,null,null,null,null,null,null,null,null,null,null,null,null,null,null,null,null,null,null,null,null,null,null,null,null,null,null,null,null,null,null,null,null,null,null,null,null,null,null,null,null,null,null,null,null,null,null,null,null,null,null,null,{"$f":"'Country information'!N191","v":"Senegal"},{"$f":"'Country information'!C191","v":"franc"},{"$f":"'Country information'!D191","v":"CFAF"},{"$f":"'Country information'!E191","v":503.3},{"$f":"'Country information'!F191","v":40592.406041666669}]
[null,null,null,null,null,null,null,null,null,null,null,null,null,null,null,null,null,null,null,null,null,null,null,null,null,null,null,null,null,null,null,null,null,null,null,null,null,null,null,null,null,null,null,null,null,null,null,null,null,null,null,null,null,null,null,null,null,null,null,null,null,null,null,null,null,null,null,null,null,null,null,null,null,null,null,null,null,null,null,null,null,null,null,null,null,null,null,null,null,null,null,null,null,null,null,null,null,null,null,null,null,null,null,null,null,null,null,null,null,null,null,null,null,null,null,null,null,null,null,null,null,null,null,null,null,null,null,null,null,null,null,null,null,null,null,null,{"$f":"'Country information'!N192","v":"Serbia"},{"$f":"'Country information'!C192","v":"dinar"},{"$f":"'Country information'!D192","v":"Din"},{"$f":"'Country information'!E192","v":0.77},{"$f":"'Country information'!F192","v":40592.406041666669}]
[null,null,null,null,null,null,null,null,null,null,null,null,null,null,null,null,null,null,null,null,null,null,null,null,null,null,null,null,null,null,null,null,null,null,null,null,null,null,null,null,null,null,null,null,null,null,null,null,null,null,null,null,null,null,null,null,null,null,null,null,null,null,null,null,null,null,null,null,null,null,null,null,null,null,null,null,null,null,null,null,null,null,null,null,null,null,null,null,null,null,null,null,null,null,null,null,null,null,null,null,null,null,null,null,null,null,null,null,null,null,null,null,null,null,null,null,null,null,null,null,null,null,null,null,null,null,null,null,null,null,null,null,null,null,null,null,{"$f":"'Country information'!N193","v":"Seychelles"},{"$f":"'Country information'!C193","v":"rupee"},{"$f":"'Country information'!D193","v":"SR"},{"$f":"'Country information'!E193","v":12.1},{"$f":"'Country information'!F193","v":40592.406041666669}]
[null,null,null,null,null,null,null,null,null,null,null,null,null,null,null,null,null,null,null,null,null,null,null,null,null,null,null,null,null,null,null,null,null,null,null,null,null,null,null,null,null,null,null,null,null,null,null,null,null,null,null,null,null,null,null,null,null,null,null,null,null,null,null,null,null,null,null,null,null,null,null,null,null,null,null,null,null,null,null,null,null,null,null,null,null,null,null,null,null,null,null,null,null,null,null,null,null,null,null,null,null,null,null,null,null,null,null,null,null,null,null,null,null,null,null,null,null,null,null,null,null,null,null,null,null,null,null,null,null,null,null,null,null,null,null,null,{"$f":"'Country information'!N194","v":"Sierra Leone"},{"$f":"'Country information'!C194","v":"leone"},{"$f":"'Country information'!D194","v":"Le"},{"$f":"'Country information'!E194","v":4146},{"$f":"'Country information'!F194","v":40592.406041666669}]
[null,null,null,null,null,null,null,null,null,null,null,null,null,null,null,null,null,null,null,null,null,null,null,null,null,null,null,null,null,null,null,null,null,null,null,null,null,null,null,null,null,null,null,null,null,null,null,null,null,null,null,null,null,null,null,null,null,null,null,null,null,null,null,null,null,null,null,null,null,null,null,null,null,null,null,null,null,null,null,null,null,null,null,null,null,null,null,null,null,null,null,null,null,null,null,null,null,null,null,null,null,null,null,null,null,null,null,null,null,null,null,null,null,null,null,null,null,null,null,null,null,null,null,null,null,null,null,null,null,null,null,null,null,null,null,null,{"$f":"'Country information'!N195","v":"Singapore"},{"$f":"'Country information'!C195","v":"dollar"},{"$f":"'Country information'!D195","v":"S$"},{"$f":"'Country information'!E195","v":1.32},{"$f":"'Country information'!F195","v":40592.406041666669}]
[null,null,null,null,null,null,null,null,null,null,null,null,null,null,null,null,null,null,null,null,null,null,null,null,null,null,null,null,null,null,null,null,null,null,null,null,null,null,null,null,null,null,null,null,null,null,null,null,null,null,null,null,null,null,null,null,null,null,null,null,null,null,null,null,null,null,null,null,null,null,null,null,null,null,null,null,null,null,null,null,null,null,null,null,null,null,null,null,null,null,null,null,null,null,null,null,null,null,null,null,null,null,null,null,null,null,null,null,null,null,null,null,null,null,null,null,null,null,null,null,null,null,null,null,null,null,null,null,null,null,null,null,null,null,null,null,{"$f":"'Country information'!N196","v":"Slovakia"},{"$f":"'Country information'!C196","v":"koruna"},{"$f":"'Country information'!D196","v":"Sk"},{"$f":"'Country information'!E196","v":22.549199999999999},{"$f":"'Country information'!F196","v":39413}]
[null,null,null,null,null,null,null,null,null,null,null,null,null,null,null,null,null,null,null,null,null,null,null,null,null,null,null,null,null,null,null,null,null,null,null,null,null,null,null,null,null,null,null,null,null,null,null,null,null,null,null,null,null,null,null,null,null,null,null,null,null,null,null,null,null,null,null,null,null,null,null,null,null,null,null,null,null,null,null,null,null,null,null,null,null,null,null,null,null,null,null,null,null,null,null,null,null,null,null,null,null,null,null,null,null,null,null,null,null,null,null,null,null,null,null,null,null,null,null,null,null,null,null,null,null,null,null,null,null,null,null,null,null,null,null,null,{"$f":"'Country information'!N197","v":"Slovenia"},{"$f":"'Country information'!C197","v":"euro"},{"$f":"'Country information'!D197","v":"€"},{"$f":"'Country information'!E197","v":0.77},{"$f":"'Country information'!F197","v":40592.406041666669}]
[null,null,null,null,null,null,null,null,null,null,null,null,null,null,null,null,null,null,null,null,null,null,null,null,null,null,null,null,null,null,null,null,null,null,null,null,null,null,null,null,null,null,null,null,null,null,null,null,null,null,null,null,null,null,null,null,null,null,null,null,null,null,null,null,null,null,null,null,null,null,null,null,null,null,null,null,null,null,null,null,null,null,null,null,null,null,null,null,null,null,null,null,null,null,null,null,null,null,null,null,null,null,null,null,null,null,null,null,null,null,null,null,null,null,null,null,null,null,null,null,null,null,null,null,null,null,null,null,null,null,null,null,null,null,null,null,{"$f":"'Country information'!N198","v":"Solomon Island"},{"$f":"'Country information'!C198","v":"dollar"},{"$f":"'Country information'!D198","v":"SI$"},{"$f":"'Country information'!E198","v":7.2949999999999999},{"$f":"'Country information'!F198","v":39413}]
[null,null,null,null,null,null,null,null,null,null,null,null,null,null,null,null,null,null,null,null,null,null,null,null,null,null,null,null,null,null,null,null,null,null,null,null,null,null,null,null,null,null,null,null,null,null,null,null,null,null,null,null,null,null,null,null,null,null,null,null,null,null,null,null,null,null,null,null,null,null,null,null,null,null,null,null,null,null,null,null,null,null,null,null,null,null,null,null,null,null,null,null,null,null,null,null,null,null,null,null,null,null,null,null,null,null,null,null,null,null,null,null,null,null,null,null,null,null,null,null,null,null,null,null,null,null,null,null,null,null,null,null,null,null,null,null,{"$f":"'Country information'!N199","v":"Somalia"},{"$f":"'Country information'!C199","v":"shilling"},{"$f":"'Country information'!D199","v":"So. Sh."},{"$f":"'Country information'!E199","v":1405.15},{"$f":"'Country information'!F199","v":39413}]
[null,null,null,null,null,null,null,null,null,null,null,null,null,null,null,null,null,null,null,null,null,null,null,null,null,null,null,null,null,null,null,null,null,null,null,null,null,null,null,null,null,null,null,null,null,null,null,null,null,null,null,null,null,null,null,null,null,null,null,null,null,null,null,null,null,null,null,null,null,null,null,null,null,null,null,null,null,null,null,null,null,null,null,null,null,null,null,null,null,null,null,null,null,null,null,null,null,null,null,null,null,null,null,null,null,null,null,null,null,null,null,null,null,null,null,null,null,null,null,null,null,null,null,null,null,null,null,null,null,null,null,null,null,null,null,null,{"$f":"'Country information'!N200","v":"South Africa"},{"$f":"'Country information'!C200","v":"rand"},{"$f":"'Country information'!D200","v":"R"},{"$f":"'Country information'!E200","v":7.07},{"$f":"'Country information'!F200","v":40592.406041666669}]
[null,null,null,null,null,null,null,null,null,null,null,null,null,null,null,null,null,null,null,null,null,null,null,null,null,null,null,null,null,null,null,null,null,null,null,null,null,null,null,null,null,null,null,null,null,null,null,null,null,null,null,null,null,null,null,null,null,null,null,null,null,null,null,null,null,null,null,null,null,null,null,null,null,null,null,null,null,null,null,null,null,null,null,null,null,null,null,null,null,null,null,null,null,null,null,null,null,null,null,null,null,null,null,null,null,null,null,null,null,null,null,null,null,null,null,null,null,null,null,null,null,null,null,null,null,null,null,null,null,null,null,null,null,null,null,null,{"$f":"'Country information'!N201","v":"Spain"},{"$f":"'Country information'!C201","v":"euro"},{"$f":"'Country information'!D201","v":"€"},{"$f":"'Country information'!E201","v":0.77},{"$f":"'Country information'!F201","v":40592.406041666669}]
[null,null,null,null,null,null,null,null,null,null,null,null,null,null,null,null,null,null,null,null,null,null,null,null,null,null,null,null,null,null,null,null,null,null,null,null,null,null,null,null,null,null,null,null,null,null,null,null,null,null,null,null,null,null,null,null,null,null,null,null,null,null,null,null,null,null,null,null,null,null,null,null,null,null,null,null,null,null,null,null,null,null,null,null,null,null,null,null,null,null,null,null,null,null,null,null,null,null,null,null,null,null,null,null,null,null,null,null,null,null,null,null,null,null,null,null,null,null,null,null,null,null,null,null,null,null,null,null,null,null,null,null,null,null,null,null,{"$f":"'Country information'!N202","v":"Sri Lanka"},{"$f":"'Country information'!C202","v":"rupee"},{"$f":"'Country information'!D202","v":"SLRs"},{"$f":"'Country information'!E202","v":111.35},{"$f":"'Country information'!F202","v":40592.406041666669}]
[null,null,null,null,null,null,null,null,null,null,null,null,null,null,null,null,null,null,null,null,null,null,null,null,null,null,null,null,null,null,null,null,null,null,null,null,null,null,null,null,null,null,null,null,null,null,null,null,null,null,null,null,null,null,null,null,null,null,null,null,null,null,null,null,null,null,null,null,null,null,null,null,null,null,null,null,null,null,null,null,null,null,null,null,null,null,null,null,null,null,null,null,null,null,null,null,null,null,null,null,null,null,null,null,null,null,null,null,null,null,null,null,null,null,null,null,null,null,null,null,null,null,null,null,null,null,null,null,null,null,null,null,null,null,null,null,{"$f":"'Country information'!N203","v":"St. Helena"},{"$f":"'Country information'!C203","v":"pound"},{"$f":"'Country information'!D203","v":"£"},{"$f":"'Country information'!E203","v":0.64},{"$f":"'Country information'!F203","v":40592.406053240738}]
[null,null,null,null,null,null,null,null,null,null,null,null,null,null,null,null,null,null,null,null,null,null,null,null,null,null,null,null,null,null,null,null,null,null,null,null,null,null,null,null,null,null,null,null,null,null,null,null,null,null,null,null,null,null,null,null,null,null,null,null,null,null,null,null,null,null,null,null,null,null,null,null,null,null,null,null,null,null,null,null,null,null,null,null,null,null,null,null,null,null,null,null,null,null,null,null,null,null,null,null,null,null,null,null,null,null,null,null,null,null,null,null,null,null,null,null,null,null,null,null,null,null,null,null,null,null,null,null,null,null,null,null,null,null,null,null,{"$f":"'Country information'!N204","v":"St. Kitts and Nevis"},{"$f":"'Country information'!C204","v":"dollar"},{"$f":"'Country information'!D204","v":"EC$"},{"$f":"'Country information'!E204","v":2.7},{"$f":"'Country information'!F204","v":40592.406053240738}]
[null,null,null,null,null,null,null,null,null,null,null,null,null,null,null,null,null,null,null,null,null,null,null,null,null,null,null,null,null,null,null,null,null,null,null,null,null,null,null,null,null,null,null,null,null,null,null,null,null,null,null,null,null,null,null,null,null,null,null,null,null,null,null,null,null,null,null,null,null,null,null,null,null,null,null,null,null,null,null,null,null,null,null,null,null,null,null,null,null,null,null,null,null,null,null,null,null,null,null,null,null,null,null,null,null,null,null,null,null,null,null,null,null,null,null,null,null,null,null,null,null,null,null,null,null,null,null,null,null,null,null,null,null,null,null,null,{"$f":"'Country information'!N205","v":"St. Lucia"},{"$f":"'Country information'!C205","v":"dollar"},{"$f":"'Country information'!D205","v":"EC$"},{"$f":"'Country information'!E205","v":2.7},{"$f":"'Country information'!F205","v":40592.406053240738}]
[null,null,null,null,null,null,null,null,null,null,null,null,null,null,null,null,null,null,null,null,null,null,null,null,null,null,null,null,null,null,null,null,null,null,null,null,null,null,null,null,null,null,null,null,null,null,null,null,null,null,null,null,null,null,null,null,null,null,null,null,null,null,null,null,null,null,null,null,null,null,null,null,null,null,null,null,null,null,null,null,null,null,null,null,null,null,null,null,null,null,null,null,null,null,null,null,null,null,null,null,null,null,null,null,null,null,null,null,null,null,null,null,null,null,null,null,null,null,null,null,null,null,null,null,null,null,null,null,null,null,null,null,null,null,null,null,{"$f":"'Country information'!N206","v":"St. Vincent and the Grenadines"},{"$f":"'Country information'!C206","v":"dollar"},{"$f":"'Country information'!D206","v":"EC$"},{"$f":"'Country information'!E206","v":2.7},{"$f":"'Country information'!F206","v":40592.406053240738}]
[null,null,null,null,null,null,null,null,null,null,null,null,null,null,null,null,null,null,null,null,null,null,null,null,null,null,null,null,null,null,null,null,null,null,null,null,null,null,null,null,null,null,null,null,null,null,null,null,null,null,null,null,null,null,null,null,null,null,null,null,null,null,null,null,null,null,null,null,null,null,null,null,null,null,null,null,null,null,null,null,null,null,null,null,null,null,null,null,null,null,null,null,null,null,null,null,null,null,null,null,null,null,null,null,null,null,null,null,null,null,null,null,null,null,null,null,null,null,null,null,null,null,null,null,null,null,null,null,null,null,null,null,null,null,null,null,{"$f":"'Country information'!N207","v":"Sudan"},{"$f":"'Country information'!C207","v":"dinar"},{"$f":"'Country information'!D207","v":"SDD"},{"$f":"'Country information'!E207","v":2.37},{"$f":"'Country information'!F207","v":40592.406041666669}]
[null,null,null,null,null,null,null,null,null,null,null,null,null,null,null,null,null,null,null,null,null,null,null,null,null,null,null,null,null,null,null,null,null,null,null,null,null,null,null,null,null,null,null,null,null,null,null,null,null,null,null,null,null,null,null,null,null,null,null,null,null,null,null,null,null,null,null,null,null,null,null,null,null,null,null,null,null,null,null,null,null,null,null,null,null,null,null,null,null,null,null,null,null,null,null,null,null,null,null,null,null,null,null,null,null,null,null,null,null,null,null,null,null,null,null,null,null,null,null,null,null,null,null,null,null,null,null,null,null,null,null,null,null,null,null,null,{"$f":"'Country information'!N208","v":"Suriname"},{"$f":"'Country information'!C208","v":"Dollar"},{"$f":"'Country information'!D208","v":"$Sur"},{"$f":"'Country information'!E208","v":2.8},{"$f":"'Country information'!F208","v":40592.406041666669}]
[null,null,null,null,null,null,null,null,null,null,null,null,null,null,null,null,null,null,null,null,null,null,null,null,null,null,null,null,null,null,null,null,null,null,null,null,null,null,null,null,null,null,null,null,null,null,null,null,null,null,null,null,null,null,null,null,null,null,null,null,null,null,null,null,null,null,null,null,null,null,null,null,null,null,null,null,null,null,null,null,null,null,null,null,null,null,null,null,null,null,null,null,null,null,null,null,null,null,null,null,null,null,null,null,null,null,null,null,null,null,null,null,null,null,null,null,null,null,null,null,null,null,null,null,null,null,null,null,null,null,null,null,null,null,null,null,{"$f":"'Country information'!N209","v":"Svalbard and Jan Mayen Islands"},{"$f":"'Country information'!C209","v":"krone"},{"$f":"'Country information'!D209","v":"NKr"},{"$f":"'Country information'!E209","v":6.2},{"$f":"'Country information'!F209","v":40592.406053240738}]
[null,null,null,null,null,null,null,null,null,null,null,null,null,null,null,null,null,null,null,null,null,null,null,null,null,null,null,null,null,null,null,null,null,null,null,null,null,null,null,null,null,null,null,null,null,null,null,null,null,null,null,null,null,null,null,null,null,null,null,null,null,null,null,null,null,null,null,null,null,null,null,null,null,null,null,null,null,null,null,null,null,null,null,null,null,null,null,null,null,null,null,null,null,null,null,null,null,null,null,null,null,null,null,null,null,null,null,null,null,null,null,null,null,null,null,null,null,null,null,null,null,null,null,null,null,null,null,null,null,null,null,null,null,null,null,null,{"$f":"'Country information'!N210","v":"Swaziland"},{"$f":"'Country information'!C210","v":"lilangeni"},{"$f":"'Country information'!D210","v":"SZL"},{"$f":"'Country information'!E210","v":7.07},{"$f":"'Country information'!F210","v":40592.406041666669}]
[null,null,null,null,null,null,null,null,null,null,null,null,null,null,null,null,null,null,null,null,null,null,null,null,null,null,null,null,null,null,null,null,null,null,null,null,null,null,null,null,null,null,null,null,null,null,null,null,null,null,null,null,null,null,null,null,null,null,null,null,null,null,null,null,null,null,null,null,null,null,null,null,null,null,null,null,null,null,null,null,null,null,null,null,null,null,null,null,null,null,null,null,null,null,null,null,null,null,null,null,null,null,null,null,null,null,null,null,null,null,null,null,null,null,null,null,null,null,null,null,null,null,null,null,null,null,null,null,null,null,null,null,null,null,null,null,{"$f":"'Country information'!N211","v":"Sweden"},{"$f":"'Country information'!C211","v":"kronor"},{"$f":"'Country information'!D211","v":"SEK"},{"$f":"'Country information'!E211","v":7.04},{"$f":"'Country information'!F211","v":40592.406041666669}]
[null,null,null,null,null,null,null,null,null,null,null,null,null,null,null,null,null,null,null,null,null,null,null,null,null,null,null,null,null,null,null,null,null,null,null,null,null,null,null,null,null,null,null,null,null,null,null,null,null,null,null,null,null,null,null,null,null,null,null,null,null,null,null,null,null,null,null,null,null,null,null,null,null,null,null,null,null,null,null,null,null,null,null,null,null,null,null,null,null,null,null,null,null,null,null,null,null,null,null,null,null,null,null,null,null,null,null,null,null,null,null,null,null,null,null,null,null,null,null,null,null,null,null,null,null,null,null,null,null,null,null,null,null,null,null,null,{"$f":"'Country information'!N212","v":"Switzerland"},{"$f":"'Country information'!C212","v":"franc"},{"$f":"'Country information'!D212","v":"CHF"},{"$f":"'Country information'!E212","v":1},{"$f":"'Country information'!F212","v":40592.406041666669}]
[null,null,null,null,null,null,null,null,null,null,null,null,null,null,null,null,null,null,null,null,null,null,null,null,null,null,null,null,null,null,null,null,null,null,null,null,null,null,null,null,null,null,null,null,null,null,null,null,null,null,null,null,null,null,null,null,null,null,null,null,null,null,null,null,null,null,null,null,null,null,null,null,null,null,null,null,null,null,null,null,null,null,null,null,null,null,null,null,null,null,null,null,null,null,null,null,null,null,null,null,null,null,null,null,null,null,null,null,null,null,null,null,null,null,null,null,null,null,null,null,null,null,null,null,null,null,null,null,null,null,null,null,null,null,null,null,{"$f":"'Country information'!N213","v":"Syria"},{"$f":"'Country information'!C213","v":"poundS"},{"$f":"'Country information'!D213","v":"£S"},{"$f":"'Country information'!E213","v":46.45},{"$f":"'Country information'!F213","v":40592.406041666669}]
[null,null,null,null,null,null,null,null,null,null,null,null,null,null,null,null,null,null,null,null,null,null,null,null,null,null,null,null,null,null,null,null,null,null,null,null,null,null,null,null,null,null,null,null,null,null,null,null,null,null,null,null,null,null,null,null,null,null,null,null,null,null,null,null,null,null,null,null,null,null,null,null,null,null,null,null,null,null,null,null,null,null,null,null,null,null,null,null,null,null,null,null,null,null,null,null,null,null,null,null,null,null,null,null,null,null,null,null,null,null,null,null,null,null,null,null,null,null,null,null,null,null,null,null,null,null,null,null,null,null,null,null,null,null,null,null,{"$f":"'Country information'!N214","v":"Tahiti"},{"$f":"'Country information'!C214","v":"franc"},{"$f":"'Country information'!D214","v":"CFPF"},{"$f":"'Country information'!E214","v":80.127700000000004},{"$f":"'Country information'!F214","v":39413}]
[null,null,null,null,null,null,null,null,null,null,null,null,null,null,null,null,null,null,null,null,null,null,null,null,null,null,null,null,null,null,null,null,null,null,null,null,null,null,null,null,null,null,null,null,null,null,null,null,null,null,null,null,null,null,null,null,null,null,null,null,null,null,null,null,null,null,null,null,null,null,null,null,null,null,null,null,null,null,null,null,null,null,null,null,null,null,null,null,null,null,null,null,null,null,null,null,null,null,null,null,null,null,null,null,null,null,null,null,null,null,null,null,null,null,null,null,null,null,null,null,null,null,null,null,null,null,null,null,null,null,null,null,null,null,null,null,{"$f":"'Country information'!N215","v":"Taiwan"},{"$f":"'Country information'!C215","v":"new dollar"},{"$f":"'Country information'!D215","v":"NT$"},{"$f":"'Country information'!E215","v":30.5},{"$f":"'Country information'!F215","v":40592.406041666669}]
[null,null,null,null,null,null,null,null,null,null,null,null,null,null,null,null,null,null,null,null,null,null,null,null,null,null,null,null,null,null,null,null,null,null,null,null,null,null,null,null,null,null,null,null,null,null,null,null,null,null,null,null,null,null,null,null,null,null,null,null,null,null,null,null,null,null,null,null,null,null,null,null,null,null,null,null,null,null,null,null,null,null,null,null,null,null,null,null,null,null,null,null,null,null,null,null,null,null,null,null,null,null,null,null,null,null,null,null,null,null,null,null,null,null,null,null,null,null,null,null,null,null,null,null,null,null,null,null,null,null,null,null,null,null,null,null,{"$f":"'Country information'!N216","v":"Tajikistan"},{"$f":"'Country information'!C216","v":"somoni"},{"$f":"'Country information'!D216","v":"TJS"},{"$f":"'Country information'!E216","v":4.4000000000000004},{"$f":"'Country information'!F216","v":40592.406041666669}]
[null,null,null,null,null,null,null,null,null,null,null,null,null,null,null,null,null,null,null,null,null,null,null,null,null,null,null,null,null,null,null,null,null,null,null,null,null,null,null,null,null,null,null,null,null,null,null,null,null,null,null,null,null,null,null,null,null,null,null,null,null,null,null,null,null,null,null,null,null,null,null,null,null,null,null,null,null,null,null,null,null,null,null,null,null,null,null,null,null,null,null,null,null,null,null,null,null,null,null,null,null,null,null,null,null,null,null,null,null,null,null,null,null,null,null,null,null,null,null,null,null,null,null,null,null,null,null,null,null,null,null,null,null,null,null,null,{"$f":"'Country information'!N217","v":"Tanzania"},{"$f":"'Country information'!C217","v":"shilling"},{"$f":"'Country information'!D217","v":"TSh"},{"$f":"'Country information'!E217","v":1483},{"$f":"'Country information'!F217","v":40592.406041666669}]
[null,null,null,null,null,null,null,null,null,null,null,null,null,null,null,null,null,null,null,null,null,null,null,null,null,null,null,null,null,null,null,null,null,null,null,null,null,null,null,null,null,null,null,null,null,null,null,null,null,null,null,null,null,null,null,null,null,null,null,null,null,null,null,null,null,null,null,null,null,null,null,null,null,null,null,null,null,null,null,null,null,null,null,null,null,null,null,null,null,null,null,null,null,null,null,null,null,null,null,null,null,null,null,null,null,null,null,null,null,null,null,null,null,null,null,null,null,null,null,null,null,null,null,null,null,null,null,null,null,null,null,null,null,null,null,null,{"$f":"'Country information'!N218","v":"Thailand"},{"$f":"'Country information'!C218","v":"baht"},{"$f":"'Country information'!D218","v":"฿"},{"$f":"'Country information'!E218","v":30.18},{"$f":"'Country information'!F218","v":40592.406041666669}]
[null,null,null,null,null,null,null,null,null,null,null,null,null,null,null,null,null,null,null,null,null,null,null,null,null,null,null,null,null,null,null,null,null,null,null,null,null,null,null,null,null,null,null,null,null,null,null,null,null,null,null,null,null,null,null,null,null,null,null,null,null,null,null,null,null,null,null,null,null,null,null,null,null,null,null,null,null,null,null,null,null,null,null,null,null,null,null,null,null,null,null,null,null,null,null,null,null,null,null,null,null,null,null,null,null,null,null,null,null,null,null,null,null,null,null,null,null,null,null,null,null,null,null,null,null,null,null,null,null,null,null,null,null,null,null,null,{"$f":"'Country information'!N219","v":"Timor-Leste"},{"$f":"'Country information'!C219","v":"dollar"},{"$f":"'Country information'!D219","v":"US$"},{"$f":"'Country information'!E219","v":1},{"$f":"'Country information'!F219","v":40128.589282407411}]
[null,null,null,null,null,null,null,null,null,null,null,null,null,null,null,null,null,null,null,null,null,null,null,null,null,null,null,null,null,null,null,null,null,null,null,null,null,null,null,null,null,null,null,null,null,null,null,null,null,null,null,null,null,null,null,null,null,null,null,null,null,null,null,null,null,null,null,null,null,null,null,null,null,null,null,null,null,null,null,null,null,null,null,null,null,null,null,null,null,null,null,null,null,null,null,null,null,null,null,null,null,null,null,null,null,null,null,null,null,null,null,null,null,null,null,null,null,null,null,null,null,null,null,null,null,null,null,null,null,null,null,null,null,null,null,null,{"$f":"'Country information'!N220","v":"Togo"},{"$f":"'Country information'!C220","v":"franc"},{"$f":"'Country information'!D220","v":"CFAF"},{"$f":"'Country information'!E220","v":503.3},{"$f":"'Country information'!F220","v":40592.406041666669}]
[null,null,null,null,null,null,null,null,null,null,null,null,null,null,null,null,null,null,null,null,null,null,null,null,null,null,null,null,null,null,null,null,null,null,null,null,null,null,null,null,null,null,null,null,null,null,null,null,null,null,null,null,null,null,null,null,null,null,null,null,null,null,null,null,null,null,null,null,null,null,null,null,null,null,null,null,null,null,null,null,null,null,null,null,null,null,null,null,null,null,null,null,null,null,null,null,null,null,null,null,null,null,null,null,null,null,null,null,null,null,null,null,null,null,null,null,null,null,null,null,null,null,null,null,null,null,null,null,null,null,null,null,null,null,null,null,{"$f":"'Country information'!N221","v":"Tokelau"},{"$f":"'Country information'!C221","v":"dollar"},{"$f":"'Country information'!D221","v":"NZ$"},{"$f":"'Country information'!E221","v":503.3},{"$f":"'Country information'!F221","v":40592.406064814815}]
[null,null,null,null,null,null,null,null,null,null,null,null,null,null,null,null,null,null,null,null,null,null,null,null,null,null,null,null,null,null,null,null,null,null,null,null,null,null,null,null,null,null,null,null,null,null,null,null,null,null,null,null,null,null,null,null,null,null,null,null,null,null,null,null,null,null,null,null,null,null,null,null,null,null,null,null,null,null,null,null,null,null,null,null,null,null,null,null,null,null,null,null,null,null,null,null,null,null,null,null,null,null,null,null,null,null,null,null,null,null,null,null,null,null,null,null,null,null,null,null,null,null,null,null,null,null,null,null,null,null,null,null,null,null,null,null,{"$f":"'Country information'!N222","v":"Tonga"},{"$f":"'Country information'!C222","v":"pa'anga"},{"$f":"'Country information'!D222","v":"PT or T$"},{"$f":"'Country information'!E222","v":1.77},{"$f":"'Country information'!F222","v":40592.406041666669}]
[null,null,null,null,null,null,null,null,null,null,null,null,null,null,null,null,null,null,null,null,null,null,null,null,null,null,null,null,null,null,null,null,null,null,null,null,null,null,null,null,null,null,null,null,null,null,null,null,null,null,null,null,null,null,null,null,null,null,null,null,null,null,null,null,null,null,null,null,null,null,null,null,null,null,null,null,null,null,null,null,null,null,null,null,null,null,null,null,null,null,null,null,null,null,null,null,null,null,null,null,null,null,null,null,null,null,null,null,null,null,null,null,null,null,null,null,null,null,null,null,null,null,null,null,null,null,null,null,null,null,null,null,null,null,null,null,{"$f":"'Country information'!N223","v":"Trinidad and Tobago"},{"$f":"'Country information'!C223","v":"dollar"},{"$f":"'Country information'!D223","v":"TT$"},{"$f":"'Country information'!E223","v":6.31},{"$f":"'Country information'!F223","v":39413}]
[null,null,null,null,null,null,null,null,null,null,null,null,null,null,null,null,null,null,null,null,null,null,null,null,null,null,null,null,null,null,null,null,null,null,null,null,null,null,null,null,null,null,null,null,null,null,null,null,null,null,null,null,null,null,null,null,null,null,null,null,null,null,null,null,null,null,null,null,null,null,null,null,null,null,null,null,null,null,null,null,null,null,null,null,null,null,null,null,null,null,null,null,null,null,null,null,null,null,null,null,null,null,null,null,null,null,null,null,null,null,null,null,null,null,null,null,null,null,null,null,null,null,null,null,null,null,null,null,null,null,null,null,null,null,null,null,{"$f":"'Country information'!N224","v":"Tunisia"},{"$f":"'Country information'!C224","v":"dinar"},{"$f":"'Country information'!D224","v":"TD"},{"$f":"'Country information'!E224","v":1.45},{"$f":"'Country information'!F224","v":40592.406041666669}]
[null,null,null,null,null,null,null,null,null,null,null,null,null,null,null,null,null,null,null,null,null,null,null,null,null,null,null,null,null,null,null,null,null,null,null,null,null,null,null,null,null,null,null,null,null,null,null,null,null,null,null,null,null,null,null,null,null,null,null,null,null,null,null,null,null,null,null,null,null,null,null,null,null,null,null,null,null,null,null,null,null,null,null,null,null,null,null,null,null,null,null,null,null,null,null,null,null,null,null,null,null,null,null,null,null,null,null,null,null,null,null,null,null,null,null,null,null,null,null,null,null,null,null,null,null,null,null,null,null,null,null,null,null,null,null,null,{"$f":"'Country information'!N225","v":"Turkey"},{"$f":"'Country information'!C225","v":"new lira"},{"$f":"'Country information'!D225","v":"YTL"},{"$f":"'Country information'!E225","v":1.51},{"$f":"'Country information'!F225","v":40592.406053240738}]
[null,null,null,null,null,null,null,null,null,null,null,null,null,null,null,null,null,null,null,null,null,null,null,null,null,null,null,null,null,null,null,null,null,null,null,null,null,null,null,null,null,null,null,null,null,null,null,null,null,null,null,null,null,null,null,null,null,null,null,null,null,null,null,null,null,null,null,null,null,null,null,null,null,null,null,null,null,null,null,null,null,null,null,null,null,null,null,null,null,null,null,null,null,null,null,null,null,null,null,null,null,null,null,null,null,null,null,null,null,null,null,null,null,null,null,null,null,null,null,null,null,null,null,null,null,null,null,null,null,null,null,null,null,null,null,null,{"$f":"'Country information'!N226","v":"Turkmenistan"},{"$f":"'Country information'!C226","v":"manat"},{"$f":"'Country information'!D226","v":"TMM"},{"$f":"'Country information'!E226","v":2.84},{"$f":"'Country information'!F226","v":40592.406053240738}]
[null,null,null,null,null,null,null,null,null,null,null,null,null,null,null,null,null,null,null,null,null,null,null,null,null,null,null,null,null,null,null,null,null,null,null,null,null,null,null,null,null,null,null,null,null,null,null,null,null,null,null,null,null,null,null,null,null,null,null,null,null,null,null,null,null,null,null,null,null,null,null,null,null,null,null,null,null,null,null,null,null,null,null,null,null,null,null,null,null,null,null,null,null,null,null,null,null,null,null,null,null,null,null,null,null,null,null,null,null,null,null,null,null,null,null,null,null,null,null,null,null,null,null,null,null,null,null,null,null,null,null,null,null,null,null,null,{"$f":"'Country information'!N227","v":"Turks and Caicos Islands"},{"$f":"'Country information'!C227","v":"dollar"},{"$f":"'Country information'!D227","v":"US$"},{"$f":"'Country information'!E227","v":1},{"$f":"'Country information'!F227","v":40128.589282407411}]
[null,null,null,null,null,null,null,null,null,null,null,null,null,null,null,null,null,null,null,null,null,null,null,null,null,null,null,null,null,null,null,null,null,null,null,null,null,null,null,null,null,null,null,null,null,null,null,null,null,null,null,null,null,null,null,null,null,null,null,null,null,null,null,null,null,null,null,null,null,null,null,null,null,null,null,null,null,null,null,null,null,null,null,null,null,null,null,null,null,null,null,null,null,null,null,null,null,null,null,null,null,null,null,null,null,null,null,null,null,null,null,null,null,null,null,null,null,null,null,null,null,null,null,null,null,null,null,null,null,null,null,null,null,null,null,null,{"$f":"'Country information'!N228","v":"Tuvalu"},{"$f":"'Country information'!C228","v":"dollar"},{"$f":"'Country information'!D228","v":"A$"},{"$f":"'Country information'!E228","v":1.04},{"$f":"'Country information'!F228","v":40592.406053240738}]
[null,null,null,null,null,null,null,null,null,null,null,null,null,null,null,null,null,null,null,null,null,null,null,null,null,null,null,null,null,null,null,null,null,null,null,null,null,null,null,null,null,null,null,null,null,null,null,null,null,null,null,null,null,null,null,null,null,null,null,null,null,null,null,null,null,null,null,null,null,null,null,null,null,null,null,null,null,null,null,null,null,null,null,null,null,null,null,null,null,null,null,null,null,null,null,null,null,null,null,null,null,null,null,null,null,null,null,null,null,null,null,null,null,null,null,null,null,null,null,null,null,null,null,null,null,null,null,null,null,null,null,null,null,null,null,null,{"$f":"'Country information'!N229","v":"Uganda"},{"$f":"'Country information'!C229","v":"shilling"},{"$f":"'Country information'!D229","v":"USh"},{"$f":"'Country information'!E229","v":2313},{"$f":"'Country information'!F229","v":40592.406053240738}]
[null,null,null,null,null,null,null,null,null,null,null,null,null,null,null,null,null,null,null,null,null,null,null,null,null,null,null,null,null,null,null,null,null,null,null,null,null,null,null,null,null,null,null,null,null,null,null,null,null,null,null,null,null,null,null,null,null,null,null,null,null,null,null,null,null,null,null,null,null,null,null,null,null,null,null,null,null,null,null,null,null,null,null,null,null,null,null,null,null,null,null,null,null,null,null,null,null,null,null,null,null,null,null,null,null,null,null,null,null,null,null,null,null,null,null,null,null,null,null,null,null,null,null,null,null,null,null,null,null,null,null,null,null,null,null,null,{"$f":"'Country information'!N230","v":"Ukraine"},{"$f":"'Country information'!C230","v":"Hryvnia"},{"$f":"'Country information'!D230","v":"UAH"},{"$f":"'Country information'!E230","v":7.89},{"$f":"'Country information'!F230","v":40592.406053240738}]
[null,null,null,null,null,null,null,null,null,null,null,null,null,null,null,null,null,null,null,null,null,null,null,null,null,null,null,null,null,null,null,null,null,null,null,null,null,null,null,null,null,null,null,null,null,null,null,null,null,null,null,null,null,null,null,null,null,null,null,null,null,null,null,null,null,null,null,null,null,null,null,null,null,null,null,null,null,null,null,null,null,null,null,null,null,null,null,null,null,null,null,null,null,null,null,null,null,null,null,null,null,null,null,null,null,null,null,null,null,null,null,null,null,null,null,null,null,null,null,null,null,null,null,null,null,null,null,null,null,null,null,null,null,null,null,null,{"$f":"'Country information'!N231","v":"United Arab Emirates"},{"$f":"'Country information'!C231","v":"dirham"},{"$f":"'Country information'!D231","v":"Dh"},{"$f":"'Country information'!E231","v":3.67},{"$f":"'Country information'!F231","v":40592.406053240738}]
[null,null,null,null,null,null,null,null,null,null,null,null,null,null,null,null,null,null,null,null,null,null,null,null,null,null,null,null,null,null,null,null,null,null,null,null,null,null,null,null,null,null,null,null,null,null,null,null,null,null,null,null,null,null,null,null,null,null,null,null,null,null,null,null,null,null,null,null,null,null,null,null,null,null,null,null,null,null,null,null,null,null,null,null,null,null,null,null,null,null,null,null,null,null,null,null,null,null,null,null,null,null,null,null,null,null,null,null,null,null,null,null,null,null,null,null,null,null,null,null,null,null,null,null,null,null,null,null,null,null,null,null,null,null,null,null,{"$f":"'Country information'!N232","v":"United Kingdom"},{"$f":"'Country information'!C232","v":"pound"},{"$f":"'Country information'!D232","v":"£"},{"$f":"'Country information'!E232","v":0.64},{"$f":"'Country information'!F232","v":40592.406053240738}]
[null,null,null,null,null,null,null,null,null,null,null,null,null,null,null,null,null,null,null,null,null,null,null,null,null,null,null,null,null,null,null,null,null,null,null,null,null,null,null,null,null,null,null,null,null,null,null,null,null,null,null,null,null,null,null,null,null,null,null,null,null,null,null,null,null,null,null,null,null,null,null,null,null,null,null,null,null,null,null,null,null,null,null,null,null,null,null,null,null,null,null,null,null,null,null,null,null,null,null,null,null,null,null,null,null,null,null,null,null,null,null,null,null,null,null,null,null,null,null,null,null,null,null,null,null,null,null,null,null,null,null,null,null,null,null,null,{"$f":"'Country information'!N234","v":"Uruguay"},{"$f":"'Country information'!C234","v":"peso uruguayo"},{"$f":"'Country information'!D234","v":"$U"},{"$f":"'Country information'!E234","v":19.899999999999999},{"$f":"'Country information'!F234","v":40592.406053240738}]
[null,null,null,null,null,null,null,null,null,null,null,null,null,null,null,null,null,null,null,null,null,null,null,null,null,null,null,null,null,null,null,null,null,null,null,null,null,null,null,null,null,null,null,null,null,null,null,null,null,null,null,null,null,null,null,null,null,null,null,null,null,null,null,null,null,null,null,null,null,null,null,null,null,null,null,null,null,null,null,null,null,null,null,null,null,null,null,null,null,null,null,null,null,null,null,null,null,null,null,null,null,null,null,null,null,null,null,null,null,null,null,null,null,null,null,null,null,null,null,null,null,null,null,null,null,null,null,null,null,null,null,null,null,null,null,null,{"$f":"'Country information'!N235","v":"Uzbekistan"},{"$f":"'Country information'!C235","v":"som"},{"$f":"'Country information'!D235","v":"UZS"},{"$f":"'Country information'!E235","v":1645},{"$f":"'Country information'!F235","v":40592.406053240738}]
[null,null,null,null,null,null,null,null,null,null,null,null,null,null,null,null,null,null,null,null,null,null,null,null,null,null,null,null,null,null,null,null,null,null,null,null,null,null,null,null,null,null,null,null,null,null,null,null,null,null,null,null,null,null,null,null,null,null,null,null,null,null,null,null,null,null,null,null,null,null,null,null,null,null,null,null,null,null,null,null,null,null,null,null,null,null,null,null,null,null,null,null,null,null,null,null,null,null,null,null,null,null,null,null,null,null,null,null,null,null,null,null,null,null,null,null,null,null,null,null,null,null,null,null,null,null,null,null,null,null,null,null,null,null,null,null,{"$f":"'Country information'!N236","v":"Vanuatu"},{"$f":"'Country information'!C236","v":"vatu"},{"$f":"'Country information'!D236","v":"VT"},{"$f":"'Country information'!E236","v":92.59},{"$f":"'Country information'!F236","v":40592.406053240738}]
[null,null,null,null,null,null,null,null,null,null,null,null,null,null,null,null,null,null,null,null,null,null,null,null,null,null,null,null,null,null,null,null,null,null,null,null,null,null,null,null,null,null,null,null,null,null,null,null,null,null,null,null,null,null,null,null,null,null,null,null,null,null,null,null,null,null,null,null,null,null,null,null,null,null,null,null,null,null,null,null,null,null,null,null,null,null,null,null,null,null,null,null,null,null,null,null,null,null,null,null,null,null,null,null,null,null,null,null,null,null,null,null,null,null,null,null,null,null,null,null,null,null,null,null,null,null,null,null,null,null,null,null,null,null,null,null,{"$f":"'Country information'!N237","v":"Vatican"},{"$f":"'Country information'!C237","v":"euro"},{"$f":"'Country information'!D237","v":"€"},{"$f":"'Country information'!E237","v":0.77},{"$f":"'Country information'!F237","v":40592.406053240738}]
[null,null,null,null,null,null,null,null,null,null,null,null,null,null,null,null,null,null,null,null,null,null,null,null,null,null,null,null,null,null,null,null,null,null,null,null,null,null,null,null,null,null,null,null,null,null,null,null,null,null,null,null,null,null,null,null,null,null,null,null,null,null,null,null,null,null,null,null,null,null,null,null,null,null,null,null,null,null,null,null,null,null,null,null,null,null,null,null,null,null,null,null,null,null,null,null,null,null,null,null,null,null,null,null,null,null,null,null,null,null,null,null,null,null,null,null,null,null,null,null,null,null,null,null,null,null,null,null,null,null,null,null,null,null,null,null,{"$f":"'Country information'!N238","v":"Venezuela"},{"$f":"'Country information'!C238","v":"bolivar"},{"$f":"'Country information'!D238","v":"Bs"},{"$f":"'Country information'!E238","v":2.6},{"$f":"'Country information'!F238","v":39731.583252314813}]
[null,null,null,null,null,null,null,null,null,null,null,null,null,null,null,null,null,null,null,null,null,null,null,null,null,null,null,null,null,null,null,null,null,null,null,null,null,null,null,null,null,null,null,null,null,null,null,null,null,null,null,null,null,null,null,null,null,null,null,null,null,null,null,null,null,null,null,null,null,null,null,null,null,null,null,null,null,null,null,null,null,null,null,null,null,null,null,null,null,null,null,null,null,null,null,null,null,null,null,null,null,null,null,null,null,null,null,null,null,null,null,null,null,null,null,null,null,null,null,null,null,null,null,null,null,null,null,null,null,null,null,null,null,null,null,null,{"$f":"'Country information'!N239","v":"Vietnam"},{"$f":"'Country information'!C239","v":"dong"},{"$f":"'Country information'!D239","v":"₫"},{"$f":"'Country information'!E239","v":19500},{"$f":"'Country information'!F239","v":40592.406053240738}]
[null,null,null,null,null,null,null,null,null,null,null,null,null,null,null,null,null,null,null,null,null,null,null,null,null,null,null,null,null,null,null,null,null,null,null,null,null,null,null,null,null,null,null,null,null,null,null,null,null,null,null,null,null,null,null,null,null,null,null,null,null,null,null,null,null,null,null,null,null,null,null,null,null,null,null,null,null,null,null,null,null,null,null,null,null,null,null,null,null,null,null,null,null,null,null,null,null,null,null,null,null,null,null,null,null,null,null,null,null,null,null,null,null,null,null,null,null,null,null,null,null,null,null,null,null,null,null,null,null,null,null,null,null,null,null,null,{"$f":"'Country information'!N240","v":"Virgin Islands"},{"$f":"'Country information'!C240","v":"dollar"},{"$f":"'Country information'!D240","v":"US$"},{"$f":"'Country information'!E240","v":1},{"$f":"'Country information'!F240","v":40128.589282407411}]
[null,null,null,null,null,null,null,null,null,null,null,null,null,null,null,null,null,null,null,null,null,null,null,null,null,null,null,null,null,null,null,null,null,null,null,null,null,null,null,null,null,null,null,null,null,null,null,null,null,null,null,null,null,null,null,null,null,null,null,null,null,null,null,null,null,null,null,null,null,null,null,null,null,null,null,null,null,null,null,null,null,null,null,null,null,null,null,null,null,null,null,null,null,null,null,null,null,null,null,null,null,null,null,null,null,null,null,null,null,null,null,null,null,null,null,null,null,null,null,null,null,null,null,null,null,null,null,null,null,null,null,null,null,null,null,null,{"$f":"'Country information'!N241","v":"Wake Island"},{"$f":"'Country information'!C241","v":"dollar"},{"$f":"'Country information'!D241","v":"US$"},{"$f":"'Country information'!E241","v":1},{"$f":"'Country information'!F241","v":40128.589282407411}]
[null,null,null,null,null,null,null,null,null,null,null,null,null,null,null,null,null,null,null,null,null,null,null,null,null,null,null,null,null,null,null,null,null,null,null,null,null,null,null,null,null,null,null,null,null,null,null,null,null,null,null,null,null,null,null,null,null,null,null,null,null,null,null,null,null,null,null,null,null,null,null,null,null,null,null,null,null,null,null,null,null,null,null,null,null,null,null,null,null,null,null,null,null,null,null,null,null,null,null,null,null,null,null,null,null,null,null,null,null,null,null,null,null,null,null,null,null,null,null,null,null,null,null,null,null,null,null,null,null,null,null,null,null,null,null,null,{"$f":"'Country information'!N242","v":"Wallis and Futuna Islands"},{"$f":"'Country information'!C242","v":"franc"},{"$f":"'Country information'!D242","v":"CFPF"},{"$f":"'Country information'!E242","v":80.127700000000004},{"$f":"'Country information'!F242","v":39413}]
[null,null,null,null,null,null,null,null,null,null,null,null,null,null,null,null,null,null,null,null,null,null,null,null,null,null,null,null,null,null,null,null,null,null,null,null,null,null,null,null,null,null,null,null,null,null,null,null,null,null,null,null,null,null,null,null,null,null,null,null,null,null,null,null,null,null,null,null,null,null,null,null,null,null,null,null,null,null,null,null,null,null,null,null,null,null,null,null,null,null,null,null,null,null,null,null,null,null,null,null,null,null,null,null,null,null,null,null,null,null,null,null,null,null,null,null,null,null,null,null,null,null,null,null,null,null,null,null,null,null,null,null,null,null,null,null,{"$f":"'Country information'!N243","v":"Western Sahara"},{"$f":"'Country information'!C243","v":"euro"},{"$f":"'Country information'!D243","v":"€"},{"$f":"'Country information'!E243","v":0.77},{"$f":"'Country information'!F243","v":40592.406053240738}]
[null,null,null,null,null,null,null,null,null,null,null,null,null,null,null,null,null,null,null,null,null,null,null,null,null,null,null,null,null,null,null,null,null,null,null,null,null,null,null,null,null,null,null,null,null,null,null,null,null,null,null,null,null,null,null,null,null,null,null,null,null,null,null,null,null,null,null,null,null,null,null,null,null,null,null,null,null,null,null,null,null,null,null,null,null,null,null,null,null,null,null,null,null,null,null,null,null,null,null,null,null,null,null,null,null,null,null,null,null,null,null,null,null,null,null,null,null,null,null,null,null,null,null,null,null,null,null,null,null,null,null,null,null,null,null,null,{"$f":"'Country information'!N244","v":"Western Samoa"},{"$f":"'Country information'!C244","v":"tala"},{"$f":"'Country information'!D244","v":"WS$"},{"$f":"'Country information'!E244","v":2.23},{"$f":"'Country information'!F244","v":40592.406053240738}]
[null,null,null,null,null,null,null,null,null,null,null,null,null,null,null,null,null,null,null,null,null,null,null,null,null,null,null,null,null,null,null,null,null,null,null,null,null,null,null,null,null,null,null,null,null,null,null,null,null,null,null,null,null,null,null,null,null,null,null,null,null,null,null,null,null,null,null,null,null,null,null,null,null,null,null,null,null,null,null,null,null,null,null,null,null,null,null,null,null,null,null,null,null,null,null,null,null,null,null,null,null,null,null,null,null,null,null,null,null,null,null,null,null,null,null,null,null,null,null,null,null,null,null,null,null,null,null,null,null,null,null,null,null,null,null,null,{"$f":"'Country information'!N245","v":"Yemen"},{"$f":"'Country information'!C245","v":"rial"},{"$f":"'Country information'!D245","v":"YRls"},{"$f":"'Country information'!E245","v":214},{"$f":"'Country information'!F245","v":40592.406053240738}]
[null,null,null,null,null,null,null,null,null,null,null,null,null,null,null,null,null,null,null,null,null,null,null,null,null,null,null,null,null,null,null,null,null,null,null,null,null,null,null,null,null,null,null,null,null,null,null,null,null,null,null,null,null,null,null,null,null,null,null,null,null,null,null,null,null,null,null,null,null,null,null,null,null,null,null,null,null,null,null,null,null,null,null,null,null,null,null,null,null,null,null,null,null,null,null,null,null,null,null,null,null,null,null,null,null,null,null,null,null,null,null,null,null,null,null,null,null,null,null,null,null,null,null,null,null,null,null,null,null,null,null,null,null,null,null,null,{"$f":"'Country information'!N246","v":"Zambia"},{"$f":"'Country information'!C246","v":"kwacha"},{"$f":"'Country information'!D246","v":"ZK"},{"$f":"'Country information'!E246","v":4925},{"$f":"'Country information'!F246","v":40592.406053240738}]
[null,null,null,null,null,null,null,null,null,null,null,null,null,null,null,null,null,null,null,null,null,null,null,null,null,null,null,null,null,null,null,null,null,null,null,null,null,null,null,null,null,null,null,null,null,null,null,null,null,null,null,null,null,null,null,null,null,null,null,null,null,null,null,null,null,null,null,null,null,null,null,null,null,null,null,null,null,null,null,null,null,null,null,null,null,null,null,null,null,null,null,null,null,null,null,null,null,null,null,null,null,null,null,null,null,null,null,null,null,null,null,null,null,null,null,null,null,null,null,null,null,null,null,null,null,null,null,null,null,null,null,null,null,null,null,null,{"$f":"'Country information'!N247","v":"Zimbabwe"},{"$f":"'Country information'!C247","v":"dollar"},{"$f":"'Country information'!D247","v":"Z$"},{"$f":"'Country information'!E247","v":1},{"$f":"'Country information'!F247","v":40592.406053240738}]

{"sheet":"Hardware","index":4,"n_rows":46,"n_cols":111,"rows_kept":46,"cut":false,"hidden":false,"merged":[[38,110,38,115],[39,110,39,115],[40,110,40,115],[41,110,41,115],[41,107,41,109],[30,107,30,109],[29,107,29,115],[30,110,30,115],[31,110,31,115],[32,110,32,115],[33,110,33,115],[34,110,34,115],[35,110,35,115],[36,110,36,115],[37,110,37,115],[40,107,40,109],[36,107,36,109],[1,7,1,116],[6,36,6,45],[7,36,7,45],[14,36,14,38],[14,39,14,45],[23,36,23,38],[13,25,13,34],[13,36,13,45],[22,25,22,34],[22,36,22,45],[3,58,3,69],[3,70,3,79],[4,7,4,106],[15,7,15,65],[19,32,19,41],[23,39,23,45],[7,25,7,34],[42,37,42,41],[30,33,30,35],[31,33,31,35],[6,25,6,34],[14,25,14,27],[33,24,33,26],[24,28,24,34],[23,28,23,34],[14,28,14,34],[23,25,23,27],[24,25,24,27],[30,24,30,26],[31,24,31,26],[32,24,32,26],[28,7,28,67],[33,27,33,31],[32,33,32,35],[33,33,33,35],[33,42,33,44],[30,62,33,77],[30,47,30,49],[31,47,31,49],[32,47,32,49],[33,47,33,49],[30,102,30,104],[36,102,36,104],[42,43,42,45],[38,52,38,54],[39,52,39,54],[35,52,35,54],[36,52,36,54],[39,24,39,26],[38,24,38,26],[39,33,39,35],[38,33,38,35],[39,27,39,31],[35,27,35,31],[36,27,36,31],[36,24,36,26],[35,33,35,35],[36,33,36,35],[35,24,35,26],[42,28,42,32],[42,48,42,50],[35,42,35,44],[36,42,36,44],[38,42,38,44],[39,42,39,44],[29,41,29,45],[29,46,29,51],[31,42,31,44],[32,42,32,44],[36,82,36,86],[30,36,30,40],[31,36,31,40],[32,36,32,40],[33,36,33,40],[34,36,34,40],[35,36,35,40],[36,36,36,40],[30,55,30,60],[31,55,31,60],[36,79,36,81],[36,55,36,60],[30,42,30,44],[42,56,42,60],[29,79,29,86],[29,88,29,95],[29,96,29,100],[34,47,34,49],[35,47,35,49],[36,47,36,49],[38,47,38,49],[39,47,39,49],[30,88,30,90],[40,52,40,54],[30,91,30,95],[36,91,36,95],[41,52,41,54],[36,88,36,90],[37,55,37,60],[38,55,38,60],[39,55,39,60],[40,55,40,60],[41,55,41,60],[30,97,30,99],[36,97,36,99],[29,101,29,106],[29,52,29,60],[33,55,33,60],[34,55,34,60],[35,55,35,60],[17,7,17,31],[18,7,18,31],[19,7,19,31],[20,7,20,31],[25,7,25,65],[25,67,25,95],[19,42,19,51],[19,52,19,61],[20,32,20,41],[20,42,20,51],[20,52,20,61],[17,32,17,41],[17,42,17,51],[17,52,17,61],[18,32,18,41],[18,42,18,51],[18,52,18,61],[24,36,24,38],[24,39,24,45],[29,24,29,31],[29,33,29,40],[30,82,30,86],[38,27,38,31],[38,36,38,40],[39,36,39,40],[41,36,41,40],[41,27,41,31],[34,52,34,54],[30,52,30,54],[31,52,31,54],[32,52,32,54],[30,79,30,81],[41,42,41,44],[34,27,34,31],[34,33,34,35],[34,42,34,44],[34,24,34,26],[30,27,30,31],[31,27,31,31],[32,27,32,31],[32,55,32,60],[33,52,33,54],[41,47,41,49]]}
[]
[null,null,null,null,null,null,null,{"$f":"Lists!B14","v":"Hardware Configuration"}]
[null,null,null,null,null,null,null,"There are several different ways to configure the hardware for Windows Server virtualization.  The configuration depends on price and performance considerations."]
[null,null,null,null,null,null,null,{"$f":"Lists!$B$28","v":"Inputs"}]
[null,null,null,null,null,null,null,"If you need to enter a custom configuration with multiple connection types or a variable number of stations per host please click here."]
[{"$f":"IF(customhardware,1,0)","v":0},null,null,null,null,null,null,"You have entered some advanced inputs on the alternative configuration page. These changes will not be reflected on this sheet."]
[{"$f":"IF(customconnection,0,1)","v":1},null,null,null,null,null,null,null,null,null,null,null,null,null,null,null,null,null,null,null,null,null,null,null,null,{"$f":"Lists!$B$6","v":"User Selection"},null,null,null,null,null,null,null,null,null,null,{"$f":"Lists!$C$6","v":"Suggested Value"}]
[1,null,null,null,null,null,null,"Station Connection Method",null,null,null,null,null,null,null,null,null,null,null,null,null,null,null,null,null,{"$f":"AK8","v":"LAN Connection"},null,null,null,null,null,null,null,null,null,null,{"$f":"IF(OR('Start Page'!BH23=Lists!B2,'Start Page'!BH25=Lists!C2),Lists!B24,IF('Start Page'!$BH$22=Lists!$B$23,Lists!$D$24,Lists!$C$24))","v":"LAN Connection"}]
[1,null,null,null,null,null,null,"Selection criteria for suggested value"]
[1,null,null,null,null,null,null,null,{"$f":"IF(havedevices=Lists!B2,Lists!B30,Lists!C30)","v":"Not reusing existing PCs, thin clients, etc."},null,null,null,null,null,null,null,null,null,null,null,null,null,null,null,null,null,null,null,null,null,null,null,null,null,null,null,null,null,null,null,null,null,null,{"$f":"IF(havedevices=Lists!B2,Lists!B33,Lists!C33)","v":"Any connection method can be used"},null,null,null,null,null,null,null,null,null,null,null,null,null,null,null,null,null,null,null,null,null,null,null,"More information on Station connection methods"]
[1,null,null,null,null,null,null,null,{"$f":"IF(samelocation=Lists!B2,Lists!B31,Lists!C31)","v":"Require flexibility on station location"},null,null,null,null,null,null,null,null,null,null,null,null,null,null,null,null,null,null,null,null,null,null,null,null,null,null,null,null,null,null,null,null,null,null,{"$f":"IF(samelocation=Lists!B2,Lists!C33,Lists!B33)","v":"Requires a LAN Connection"}]
[1,null,null,null,null,null,null,null,{"$f":"IF(usage=Lists!B23,Lists!B32,IF(usage=Lists!C23,Lists!C32,Lists!D32))","v":"Running a mixed set of productivity and multimedia"},null,null,null,null,null,null,null,null,null,null,null,null,null,null,null,null,null,null,null,null,null,null,null,null,null,null,null,null,null,null,null,null,null,null,{"$f":"IF(usage=Lists!B23,Lists!B34,Lists!C34)","v":"Video Card/USB or LAN recommended"}]
[1]
[1,null,null,null,null,null,null,null,null,null,null,null,null,null,null,null,null,null,null,null,null,null,null,null,null,{"$f":"Lists!$B$6","v":"User Selection"},null,null,null,null,null,null,null,null,null,null,{"$f":"Lists!$C$6","v":"Suggested Value"}]
[1,null,null,null,null,null,null,"# of stations per host computer",null,null,null,null,null,null,null,null,null,null,null,null,null,null,null,null,"?",null,null,null,14,null,null,null,null,null,null,null,null,null,null,{"$f":"VLOOKUP(usage,'Data Tables'!$I$30:$L$32,VLOOKUP(configuration,'Data Tables'!$P$29:$Q$31,2,FALSE),FALSE)","v":15}]
[1,null,null,null,null,null,null,"This input depends on the needs of the organization, the station connection method, and the amount of video to be used."]
[1,null,null,null,null,null,null,"The tool selects from the following table when making the selection. Other configurations are possible."]
[1,null,null,null,null,null,null,null,null,null,null,null,null,null,null,null,null,null,null,null,null,null,null,null,null,null,null,null,null,null,null,null,{"$f":"Lists!B24","v":"LAN Connection"},null,null,null,null,null,null,null,null,null,{"$f":"Lists!C24","v":"Video Card/USB"},null,null,null,null,null,null,null,null,null,{"$f":"Lists!D24","v":"USB Connection"}]
[1,null,null,null,null,null,null,{"$f":"Lists!B23","v":"Internet and productivity applications only"},null,null,null,null,null,null,null,null,null,null,null,null,null,null,null,null,null,null,null,null,null,null,null,null,{"$f":"'Data Tables'!J30","v":20},null,null,null,null,null,null,null,null,null,{"$f":"'Data Tables'!K30","v":15},null,null,null,null,null,null,null,null,null,{"$f":"'Data Tables'!L30","v":10}]
[1,null,null,null,null,null,null,{"$f":"Lists!C23","v":"Internet, productivity and light multimedia"},null,null,null,null,null,null,null,null,null,null,null,null,null,null,null,null,null,null,null,null,null,null,null,null,{"$f":"'Data Tables'!J31","v":15},null,null,null,null,null,null,null,null,null,{"$f":"'Data Tables'!K31","v":10},null,null,null,null,null,null,null,null,null,{"$f":"'Data Tables'!L31","v":5}]
[1,null,null,null,null,null,null,{"$f":"Lists!D23","v":"Internet, productivity and heavy multimedia"},null,null,null,null,null,null,null,null,null,null,null,null,null,null,null,null,null,null,null,null,null,null,null,null,{"$f":"'Data Tables'!J32","v":10},null,null,null,null,null,null,null,null,null,{"$f":"'Data Tables'!K32","v":5},null,null,null,null,null,null,null,null,null,{"$f":"'Data Tables'!L32","v":2}]
[1]
[{"$f":"IF(customserver,0,1)","v":1},null,null,null,null,null,null,"Host server configuration",null,null,null,null,null,null,null,null,null,null,null,null,null,null,null,null,null,{"$f":"Lists!$B$6","v":"User Selection"},null,null,null,null,null,null,null,null,null,null,{"$f":"Lists!$C$6","v":"Suggested Value"}]
[{"$f":"IF(customserver,0,1)","v":1},null,null,null,null,null,null,"Number or processor cores",null,null,null,null,null,null,null,null,null,null,null,null,null,null,null,null,null,"Cores",null,null,{"$f":"AN24","v":6},null,null,null,null,null,null,null,"Cores",null,null,{"$f":"VLOOKUP(usage,'Data Tables'!$I$19:$N$21,VLOOKUP($AC$15,'Data Tables'!$P$18:$Q$22,2),FALSE)","v":6}]
[{"$f":"IF(customserver,0,1)","v":1},null,null,null,null,null,null,"Amount of RAM",null,null,null,null,null,null,null,null,null,null,null,null,null,null,null,null,null,"GB",null,null,16,null,null,null,null,null,null,null,"GB",null,null,{"$f":"VLOOKUP(usage,'Data Tables'!$I$24:$N$26,VLOOKUP($AC$15,'Data Tables'!$P$18:$Q$22,2),FALSE)","v":8}]
[{"$f":"IF(customserver,0,1)","v":1},null,null,null,null,null,null,"The required configuration of the host computer will depend on the applications that it will be running and the number of stations supported. The tool will vary the number of processor cores and the amount of RAM included in the server configuration to meet the minimum server specifications for the Windows Server configuration entered. Many other configuration are possible and you may want to use a server that exceeds the minimum specifications.",null,null,null,null,null,null,null,null,null,null,null,null,null,null,null,null,null,null,null,null,null,null,null,null,null,null,null,null,null,null,null,null,null,null,null,null,null,null,null,null,null,null,null,null,null,null,null,null,null,null,null,null,null,null,null,null,null,null,null,"More information on server configuration recommendations"]
[{"$f":"IF(customserver,0,1)","v":1}]
[null,null,null,null,null,null,null,{"$f":"Lists!$C$28","v":"Calculations"}]
[1,null,null,null,null,null,null,"Please enter the cost for the devices below. You may also modify the number of devices if your configuration will differ from the calculated value. The cost information is used directly for the cost comparison."]
[1,null,null,null,null,null,null,"HUB 400 zero client deployment",null,null,null,null,null,null,null,null,null,null,null,null,null,null,null,null,"Actual Cost",null,null,null,null,null,null,null,null,"Suggested Cost",null,null,null,null,null,null,null,"Number required",null,null,null,null,"Suggested Count",null,null,null,null,null,"Total Cost",null,null,null,null,null,null,null,null,null,"Traditional deployment",null,null,null,null,null,null,null,null,null,null,null,null,null,null,null,null,"Actual Cost",null,null,null,null,null,null,null,null,"Suggested Cost",null,null,null,null,null,null,null,"Number required",null,null,null,null,"Suggested Count",null,null,null,null,null,"Total Cost"]
[1,null,null,null,null,null,null,"Host computer",null,null,null,null,null,null,null,null,null,null,null,null,null,null,null,"?",{"$f":"CurrencySymbol","v":"US$"},null,null,1300,null,null,null,null,null,{"$f":"CurrencySymbol","v":"US$"},null,null,{"$f":"(IF('Start Page'!$BH$22=Lists!$B$23,'Data Tables'!$B$16,'Data Tables'!$B$17)+$AC$24*'Data Tables'!$D$20+VLOOKUP($AC$25,'Data Tables'!$F$17:$G$20,2))*Rate*hardwaremult","v":1950},null,null,null,null,null,{"$f":"AV31","v":72},null,null,null,null,{"$f":"ROUNDUP(Users/Hardware!$AC$15,0)","v":72},null,null,null,null,{"$f":"CurrencySymbol","v":"US$"},null,null,{"$f":"AB31*AQ31","v":93600},null,null,null,null,null,null,"Laptop or PC (includes monitor, mouse, keyboard)\nExcluding the Operating System license",null,null,null,null,null,null,null,null,null,null,null,null,null,null,null,"?",{"$f":"CurrencySymbol","v":"US$"},null,null,600,null,null,null,null,null,{"$f":"CurrencySymbol","v":"US$"},null,null,{"$f":"800*Rate*hardwaremult","v":800},null,null,null,null,null,{"$f":"CY31","v":1000},null,null,null,null,{"$f":"Users","v":1000},null,null,null,null,{"$f":"CurrencySymbol","v":"US$"},null,null,{"$f":"CE31*CT31","v":600000}]
[1,null,null,null,null,null,null,"Monitor",null,null,null,null,null,null,null,null,null,null,null,null,null,null,null,"?","US$",null,null,100,null,null,null,null,null,"US$",null,null,100,null,null,null,null,null,1000,null,null,null,null,{"$f":"Users","v":1000},null,null,null,null,"US$",null,null,100000]
[1,null,null,null,null,null,null,"Mouse and keyboard",null,null,null,null,null,null,null,null,null,null,null,null,null,null,null,"?","US$",null,null,20,null,null,null,null,null,"US$",null,null,20,null,null,null,null,null,1000,null,null,null,null,{"$f":"Users","v":1000},null,null,null,null,"US$",null,null,20000]
[1,null,null,null,null,null,null,"USB video adaptor/thin-client",null,null,null,null,null,null,null,null,null,null,null,null,null,null,null,"?","US$",null,null,null,null,null,null,null,null,"US$",null,null,{"$f":"80*Rate*hardwaremult","v":80},null,null,null,null,null,0,null,null,null,null,{"$f":"Calculations!AQ8*stationsperhost","v":0},null,null,null,null,"US$",null,null,0]
[1,null,null,null,null,null,null,"USB hub",null,null,null,null,null,null,null,null,null,null,null,null,null,null,null,"?","US$",null,null,20,null,null,null,null,null,"US$",null,null,{"$f":"25*Rate*hardwaremult","v":25},null,null,null,null,null,0,null,null,null,null,{"$f":"(Calculations!AQ8+Calculations!AQ7)*ROUNDUP(stationsperhost/10,0)+ROUNDUP(Calculations!AQ8*3*stationsperhost/10,0)+ROUNDUP(Calculations!AQ7*2*stationsperhost/10,0)","v":0},null,null,null,null,"US$",null,null,0]
[1,null,null,null,null,null,null,"Video card (enter cost per port)",null,null,null,null,null,null,null,null,null,null,null,null,null,null,null,"?","US$",null,null,null,null,null,null,null,null,"US$",null,null,{"$f":"75*Rate*hardwaremult","v":75},null,null,null,null,null,0,null,null,null,null,{"$f":"Calculations!AQ7*stationsperhost/2","v":0},null,null,null,null,"US$",null,null,0]
[1,null,null,null,null,null,null,"Ethernet switch",null,null,null,null,null,null,null,null,null,null,null,null,null,null,null,"?","US$",null,null,100,null,null,null,null,null,"US$",null,null,{"$f":"100*Rate*hardwaremult","v":100},null,null,null,null,null,42,null,null,null,null,{"$f":"ROUNDUP(Calculations!AQ6*stationsperhost/24,0)","v":42},null,null,null,null,"US$",null,null,4200,null,null,null,null,null,null,"Ethernet switch",null,null,null,null,null,null,null,null,null,null,null,null,null,null,null,"?",{"$f":"CurrencySymbol","v":"US$"},null,null,50,null,null,null,null,null,{"$f":"CurrencySymbol","v":"US$"},null,null,{"$f":"100*Rate*hardwaremult","v":100},null,null,null,null,null,{"$f":"CY37","v":42},null,null,null,null,{"$f":"ROUNDUP(CT31/24,0)","v":42},null,null,null,null,{"$f":"CurrencySymbol","v":"US$"},null,null,{"$f":"CE37*CT37","v":2100}]
[1,null,null,null,null,null,null,"Choose the type of station you will buy for a LAN connect installation"]
[1,null,null,null,null,null,null,"RemoteFX thin client",null,null,null,null,null,null,null,null,null,null,null,null,null,null,null,"?",{"$f":"CurrencySymbol","v":"US$"},null,null,null,null,null,null,null,null,{"$f":"CurrencySymbol","v":"US$"},null,null,{"$f":"200*Rate*hardwaremult*IF(havedevices=Lists!$B$2,0,1)","v":200},null,null,null,null,null,{"$f":"AV39","v":0},null,null,null,null,null,null,null,null,null,{"$f":"CurrencySymbol","v":"US$"},null,null,{"$f":"AB39*AQ39","v":0}]
[1,null,null,null,null,null,null,"Thin / Zero client",null,null,null,null,null,null,null,null,null,null,null,null,null,null,null,"?",{"$f":"CurrencySymbol","v":"US$"},null,null,100,null,null,null,null,null,{"$f":"CurrencySymbol","v":"US$"},null,null,{"$f":"400*Rate*hardwaremult*IF(havedevices=Lists!$B$2,0,1)","v":400},null,null,null,null,null,{"$f":"AV40","v":1000},null,null,null,null,{"$f":"IF(Calculations!AQ6*stationsperhost>Users,Users,Calculations!AQ6*stationsperhost)","v":1000},null,null,null,null,{"$f":"CurrencySymbol","v":"US$"},null,null,{"$f":"AB40*AQ40","v":100000}]
[1,null,null,null,null,null,null,"Other hardware costs",null,null,null,null,null,null,null,null,null,null,null,null,null,null,null,null,null,null,null,null,null,null,null,null,null,null,null,null,null,null,null,null,null,null,null,null,null,null,null,null,null,null,null,null,{"$f":"CurrencySymbol","v":"US$"},null,null,0,null,null,null,null,null,null,"Other hardware costs",null,null,null,null,null,null,null,null,null,null,null,null,null,null,null,null,null,null,null,null,null,null,null,null,null,null,null,null,null,null,null,null,null,null,null,null,null,null,null,null,null,null,null,null,{"$f":"CurrencySymbol","v":"US$"},null,null,0]
[1,null,null,null,null,null,null,"Total Cost",null,null,null,null,null,null,null,null,null,null,null,null,null,null,null,null,null,null,null,null,null,null,null,null,null,null,null,null,null,null,null,null,null,null,null,null,null,null,null,null,null,null,null,null,{"$f":"CurrencySymbol","v":"US$"},null,null,{"$f":"SUM(BD31:BH41)","v":317800},null,null,null,null,null,null,"Total Cost",null,null,null,null,null,null,null,null,null,null,null,null,null,null,null,null,null,null,null,null,null,null,null,null,null,null,null,null,null,null,null,null,null,null,null,null,null,null,null,null,null,null,null,null,{"$f":"CurrencySymbol","v":"US$"},null,null,{"$f":"SUM(DG31:DK41)","v":602100}]
[1]
[1]
[]
[1]

{"sheet":"Software","index":5,"n_rows":43,"n_cols":120,"rows_kept":43,"cut":false,"hidden":false,"merged":[[1,7,1,116],[14,62,14,68],[7,81,7,103],[4,58,4,69],[4,70,4,79],[2,7,2,79],[3,7,3,106],[12,58,12,69],[13,59,13,61],[13,62,13,68],[11,7,11,79],[12,70,12,79],[13,70,13,72],[13,73,13,79],[5,70,5,79],[7,59,7,68],[20,90,20,98],[20,99,20,107],[14,59,14,61],[6,70,6,79],[9,70,9,79],[9,59,9,68],[14,70,14,72],[14,73,14,79],[8,70,8,79],[8,59,8,68],[17,59,17,61],[17,62,17,68],[17,70,17,72],[17,73,17,79],[20,87,20,89],[15,70,15,72],[7,70,7,79],[5,59,5,68],[6,59,6,68],[20,35,20,37],[20,38,20,46],[20,47,20,55],[15,73,15,79],[16,70,16,72],[16,73,16,79],[15,59,15,61],[15,62,15,68],[16,59,16,61],[16,62,16,68],[21,35,21,37],[21,38,21,40],[21,41,21,46],[21,47,21,49],[21,50,21,55],[22,35,22,37],[22,38,22,40],[22,41,22,46],[22,47,22,49],[22,50,22,55],[24,99,24,101],[24,102,24,107],[24,47,24,49],[24,50,24,55],[23,47,23,49],[23,50,23,55],[23,99,23,101],[23,102,23,107],[21,87,21,89],[21,90,21,92],[21,93,21,98],[21,99,21,101],[21,102,21,107]]}
[]
[null,null,null,null,null,null,null,{"$f":"Lists!D14","v":"Software Details"}]
[null,null,null,null,null,null,null,"There are several ways to license for Windows Server 2016. This sheet will help you choose the best method for your organization. "]
[1,null,null,null,null,null,null,"If you need to enter a custom configuration with a different number of software licenses please click here."]
[1,null,null,null,null,null,null,{"$f":"Lists!$B$28","v":"Inputs"},null,null,null,null,null,null,null,null,null,null,null,null,null,null,null,null,null,null,null,null,null,null,null,null,null,null,null,null,null,null,null,null,null,null,null,null,null,null,null,null,null,null,null,null,null,null,null,null,null,null,"Value for Calculations",null,null,null,null,null,null,null,null,null,null,null,{"$f":"Lists!$C$6","v":"Suggested Value"}]
[{"$f":"IF(Industry=Lists!C26,1,0)","v":0},null,null,null,null,null,null,"Maximum number of stations per host",null,null,null,null,null,null,null,null,null,null,null,null,null,null,null,null,null,null,null,null,null,null,null,null,null,null,null,null,null,null,null,null,null,null,null,null,null,null,null,null,null,null,null,null,null,null,null,null,null,null,"?",{"$f":"BS6","v":14},null,null,null,null,null,null,null,null,null,null,{"$f":"Hardware!$AC$15","v":14}]
[{"$f":"IF(Industry=Lists!C26,1,0)","v":0},null,null,null,null,null,null,"Do you want to join a domain to use Active Directory for user account management?",null,null,null,null,null,null,null,null,null,null,null,null,null,null,null,null,null,null,null,null,null,null,null,null,null,null,null,null,null,null,null,null,null,null,null,null,null,null,null,null,null,null,null,null,null,null,null,null,null,null,"?",{"$f":"BS7","v":"Yes"},null,null,null,null,null,null,null,null,null,null,"Yes"]
[{"$f":"IF(Industry=Lists!C26,1,0)","v":0},null,null,null,null,null,null,"Do you need the Premium or Standard License?",null,null,null,null,null,null,null,null,null,null,null,null,null,null,null,null,null,null,null,null,null,null,null,null,null,null,null,null,null,null,null,null,null,null,null,null,null,null,null,null,null,null,null,null,null,null,null,null,null,null,"?",{"$f":"BS8","v":"Premium"},null,null,null,null,null,null,null,null,null,null,{"$f":" IF(OR(BH6>10,BH7=Lists!B2,Industry=Lists!B26,Hardware!AC25>8,Hardware!AC24>2),Lists!B27,Lists!C27)","v":"Premium"},null,null,null,null,null,null,null,null,null,null,"More information on software selection criteria",null,null,null,null,null,null,null,null,null,null,null,null,null,null,null,null,null,null,null,null,null,null,null,null,null,null,null,null,null,null,null,null,null,null,null,null,null,{"$f":"IF(A8=1,BH8,BS8)","v":"Premium"}]
[1,null,null,null,null,null,null,"Do you want to buy a subscription or perpetual license?",null,null,null,null,null,null,null,null,null,null,null,null,null,null,null,null,null,null,null,null,null,null,null,null,null,null,null,null,null,null,null,null,null,null,null,null,null,null,null,null,null,null,null,null,null,null,null,null,null,null,"?","Perpetual",null,null,null,null,null,null,null,null,null,null,"Subscription"]
[1,null,null,null,null,null,null,"Do you already own Windows Server CALs for your users/devices?",null,null,null,null,null,null,null,null,null,null,null,null,null,null,null,null,null,null,null,null,null,null,null,null,null,null,null,null,null,null,null,null,null,null,null,null,null,null,null,null,null,null,null,null,null,null,null,null,null,null,"?",{"$f":"BS10","v":"Yes"},null,null,null,null,null,null,null,null,null,null,"Yes"]
[{"$f":"IF(customsoftware,1,0)","v":0},null,null,null,null,null,null,"You have entered some advanced inputs on the alternative configuration page. These changes will not be reflected on this sheet."]
[1,null,null,null,null,null,null,"Note: the cost of software varies heavily depending on whether the licensing organization is a qualifying academic institution or a corporation. The following pricing is based on rates for academic qualifying organizations."]
[1,null,null,null,null,null,null,"Windows Server Software",null,null,null,null,null,null,null,null,null,null,null,null,null,null,null,null,null,null,null,null,null,null,null,null,null,null,null,null,null,null,null,null,null,null,null,null,null,null,null,null,null,null,null,null,null,null,null,null,null,null,"Value for Calculations",null,null,null,null,null,null,null,null,null,null,null,{"$f":"Lists!$C$6","v":"Suggested Value"}]
[{"$f":"IF(LicenseType=Lists!$B$27,1,0)","v":1},null,null,null,null,null,null,"Windows Server 2016 Standard",null,null,null,null,null,null,null,null,null,null,null,null,null,null,null,null,null,null,null,null,null,null,null,null,null,null,null,null,null,null,null,null,null,null,null,null,null,null,null,null,null,null,null,null,null,null,null,null,null,null,"?",{"$f":"BS14","v":"US$"},null,null,130,null,null,null,null,null,null,null,{"$f":"CurrencySymbol","v":"US$"},null,null,130]
[{"$f":"IF(LicenseType=Lists!$B$27,0,1)","v":0},null,null,null,null,null,null,"Windows MultiPoint Server 2011 Standard",null,null,null,null,null,null,null,null,null,null,null,null,null,null,null,null,null,null,null,null,null,null,null,null,null,null,null,null,null,null,null,null,null,null,null,null,null,null,null,null,null,null,null,null,null,null,null,null,null,null,"?",{"$f":"BS15","v":"US$"},null,null,{"$f":"BV15","v":0},null,null,null,null,null,null,null,{"$f":"CurrencySymbol","v":"US$"},null,null,{"$f":"VLOOKUP(H15,'Data Tables'!$A$35:$E$38,Licenseoffset,FALSE)","v":0}]
[{"$f":"IF($BH$10=Lists!$B$2,0,1)","v":0},null,null,null,null,null,null,"Windows MultiPoint Server 2011 CAL w/ Windows Server 2008 CAL",null,null,null,null,null,null,null,null,null,null,null,null,null,null,null,null,null,null,null,null,null,null,null,null,null,null,null,null,null,null,null,null,null,null,null,null,null,null,null,null,null,null,null,null,null,null,null,null,null,null,"?",{"$f":"BS16","v":"US$"},null,null,{"$f":"BV16","v":29},null,null,null,null,null,null,null,{"$f":"CurrencySymbol","v":"US$"},null,null,{"$f":"VLOOKUP(H16,'Data Tables'!$A$35:$E$38,Licenseoffset,FALSE)","v":29}]
[{"$f":"IF($BH$10=Lists!$B$2,1,0)","v":1},null,null,null,null,null,null,"Windows Server CAL",null,null,null,null,null,null,null,null,null,null,null,null,null,null,null,null,null,null,null,null,null,null,null,null,null,null,null,null,null,null,null,null,null,null,null,null,null,null,null,null,null,null,null,null,null,null,null,null,null,null,"?",{"$f":"BS17","v":"US$"},null,null,29,null,null,null,null,null,null,null,{"$f":"CurrencySymbol","v":"US$"},null,null,29]
[1,null,null,null,null,null,null,"Windows Client Software",null,null,null,null,null,null,null,null,null,null,null,null,null,null,null,null,null,null,null,null,null,null,null,null,null,null,null,null,null,null,null,null,null,null,null,null,null,null,null,null,null,null,null,null,null,null,null,null,null,null,"?",{"$f":"BS18","v":"US$"},null,null,{"$f":"BV18","v":115},null,null,null,null,null,null,null,{"$f":"CurrencySymbol","v":"US$"},null,null,{"$f":"VLOOKUP(H18,'Data Tables'!$A$35:$E$39,Licenseoffset,FALSE)","v":115}]
[1]
[1,null,null,null,null,null,null,{"$f":"Lists!$C$28","v":"Calculations"}]
[1,null,null,null,null,null,null,"Windows MultiPoint Software",null,null,null,null,null,null,null,null,null,null,null,null,null,null,null,null,null,null,null,null,null,null,null,null,null,null,null,"Count",null,null,"Cost",null,null,null,null,null,null,null,null,"Total",null,null,null,null,null,null,null,null,null,null,null,"Traditional Deployment",null,null,null,null,null,null,null,null,null,null,null,null,null,null,null,null,null,null,null,null,null,null,null,null,null,null,null,"Count",null,null,"Cost",null,null,null,null,null,null,null,null,"Total"]
[1,null,null,null,null,null,null,"Windows MultiPoint Server licenses",null,null,null,null,null,null,null,null,null,null,null,null,null,null,null,null,null,null,null,null,null,null,null,null,null,null,null,{"$f":"Hardware!AQ31","v":72},null,null,{"$f":"CurrencySymbol","v":"US$"},null,null,{"$f":"IF(LicenseType=Lists!$B$27,Software!$BK$14,Software!$BK$15)","v":130},null,null,null,null,null,{"$f":"CurrencySymbol","v":"US$"},null,null,{"$f":"AP22*AJ22","v":9360},null,null,null,null,null,null,null,null,"Windows Client software",null,null,null,null,null,null,null,null,null,null,null,null,null,null,null,null,null,null,null,null,null,null,null,null,null,null,null,{"$f":"Hardware!CT31","v":1000},null,null,{"$f":"CurrencySymbol","v":"US$"},null,null,{"$f":"BK18","v":115},null,null,null,null,null,{"$f":"CurrencySymbol","v":"US$"},null,null,{"$f":"CP22*CJ22","v":115000}]
[1,null,null,null,null,null,null,"Windows MultiPoint Server CALs",null,null,null,null,null,null,null,null,null,null,null,null,null,null,null,null,null,null,null,null,null,null,null,null,null,null,null,{"$f":"Users","v":1000},null,null,{"$f":"CurrencySymbol","v":"US$"},null,null,{"$f":"IF(BH10=Lists!$B$2,Software!$BK$17,Software!$BK$16)","v":29},null,null,null,null,null,{"$f":"CurrencySymbol","v":"US$"},null,null,{"$f":"AP23*AJ23","v":29000}]
[1,null,null,null,null,null,null,"Other software costs",null,null,null,null,null,null,null,null,null,null,null,null,null,null,null,null,null,null,null,null,null,null,null,null,null,null,null,null,null,null,null,null,null,null,null,null,null,null,null,{"$f":"CurrencySymbol","v":"US$"},null,null,0,null,null,null,null,null,null,null,null,"Other software costs",null,null,null,null,null,null,null,null,null,null,null,null,null,null,null,null,null,null,null,null,null,null,null,null,null,null,null,null,null,null,null,null,null,null,null,null,null,null,null,{"$f":"CurrencySymbol","v":"US$"},null,null,0]
[1,null,null,null,null,null,null,{"$f":"IF(BH9=Lists!B35,\"Total Annual Cost\",\"Total Cost\")","v":"Total Cost"},null,null,null,null,null,null,null,null,null,null,null,null,null,null,null,null,null,null,null,null,null,null,null,null,null,null,null,null,null,null,null,null,null,null,null,null,null,null,null,{"$f":"CurrencySymbol","v":"US$"},null,null,{"$f":"SUM(AY22:BD24)","v":38360},null,null,null,null,null,null,null,null,null,null,null,null,null,null,null,null,null,null,null,null,null,null,null,null,null,null,null,null,null,null,null,null,null,null,null,null,null,null,null,null,null,null,null,null,null,null,null,null,{"$f":"CurrencySymbol","v":"US$"},null,null,{"$f":"SUM(CY22:DD24)","v":115000}]
[1]
[1]
[1]
[1]
[]
[]
[]
[]
[{"$f":"IF(OR(LicenseType = Lists!#REF!,LicenseType=Lists!#REF!,LicenseType=Lists!#REF!),1,0)","v":{"$error":"#REF!"}}]
[{"$f":"IF(OR(LicenseType=Lists!#REF!,LicenseType=Lists!#REF!,LicenseType=Lists!#REF!,LicenseType = Lists!#REF!), 0,1)","v":{"$error":"#REF!"}}]
[0]
[1]
[{"$f":"IF(OR(LicenseType = Lists!#REF!,LicenseType = Lists!#REF!),1,0)","v":{"$error":"#REF!"}}]
[{"$f":"IF(OR(LicenseType = Lists!#REF!,LicenseType = Lists!#REF!),0,0)","v":{"$error":"#REF!"}}]
[]
[]
[]
[1]

{"sheet":"Deployment","index":6,"n_rows":17,"n_cols":110,"rows_kept":17,"cut":false,"hidden":false,"merged":[[15,51,15,53],[15,54,15,60],[15,106,15,108],[15,109,15,115],[1,7,1,116],[5,73,5,79],[2,7,2,79],[3,58,3,69],[3,70,3,79],[4,59,4,61],[4,62,4,68],[4,70,4,72],[4,73,4,79],[5,59,5,61],[5,62,5,68],[5,70,5,72],[12,29,12,38],[12,40,12,49],[13,109,13,115],[14,51,14,53],[14,54,14,60],[13,54,13,60],[13,29,13,31],[13,32,13,38],[13,40,13,42],[13,43,13,49],[13,51,13,53],[16,51,16,53],[16,54,16,60],[6,73,6,79],[12,51,12,60],[16,106,16,108],[12,84,12,93],[12,95,12,104],[13,84,13,86],[13,87,13,93],[13,95,13,97],[13,98,13,104],[6,59,6,61],[6,62,6,68],[6,70,6,72],[10,51,10,53],[10,54,10,60],[16,109,16,115],[14,106,14,108],[14,109,14,115],[10,106,10,108],[10,109,10,115],[12,106,12,115],[13,106,13,108]]}
[]
[null,null,null,null,null,null,null,{"$f":"Lists!E14","v":"Deployment Costs"}]
[null,null,null,null,null,null,null,"Organizations selecting zero client computing can take advantage of the simple configuration options to reduce deployment costs. They are also able to deploy software once for use across many stations rather than deploying it on each computer in a traditional deployment.\n\nWhen planning a new building, Windows MultiPoint Server enables cost reductions by decreasing the number of Ethernet ports required, which can save on cabling costs."]
[null,null,null,null,null,null,null,{"$f":"Lists!$B$28","v":"Inputs"},null,null,null,null,null,null,null,null,null,null,null,null,null,null,null,null,null,null,null,null,null,null,null,null,null,null,null,null,null,null,null,null,null,null,null,null,null,null,null,null,null,null,null,null,null,null,null,null,null,null,"Value for Calculations",null,null,null,null,null,null,null,null,null,null,null,{"$f":"Lists!$C$6","v":"Suggested Value"}]
[null,null,null,null,null,null,null,"How long will it take to deploy other software programs on each machine?",null,null,null,null,null,null,null,null,null,null,null,null,null,null,null,null,null,null,null,null,null,null,null,null,null,null,null,null,null,null,null,null,null,null,null,null,null,null,null,null,null,null,null,null,null,null,null,null,null,null,"?","hours",null,null,{"$f":"BV5","v":1},null,null,null,null,null,null,null,"hours",null,null,1]
[null,null,null,null,null,null,null,"How much would you spend on Ethernet cabling if not deploying Windows MultiPoint?",null,null,null,null,null,null,null,null,null,null,null,null,null,null,null,null,null,null,null,null,null,null,null,null,null,null,null,null,null,null,null,null,null,null,null,null,null,null,null,null,null,null,null,null,null,null,null,null,null,null,"?",{"$f":"CurrencySymbol","v":"US$"},null,null,100,null,null,null,null,null,null,null,{"$f":"CurrencySymbol","v":"US$"},null,null,{"$f":"Users*100*Rate","v":100000}]
[1,null,null,null,null,null,null,"How much will you spend on Ethernet cabling for Windows MultiPoint?",null,null,null,null,null,null,null,null,null,null,null,null,null,null,null,null,null,null,null,null,null,null,null,null,null,null,null,null,null,null,null,null,null,null,null,null,null,null,null,null,null,null,null,null,null,null,null,null,null,null,"?",{"$f":"CurrencySymbol","v":"US$"},null,null,100,null,null,null,null,null,null,null,{"$f":"CurrencySymbol","v":"US$"},null,null,{"$f":"IF(configuration=Lists!B24,Users*100*Rate,0)","v":100000}]
[{"$f":"IF(customdeployment,1,0)","v":0},null,null,null,null,null,null,"You have entered some advanced inputs on the alternative configuration page. These changes will not be reflected on this sheet."]
[null,null,null,null,null,null,null,{"$f":"Lists!$C$28","v":"Calculations"}]
[null,null,null,null,null,null,null,"Windows MultiPoint Server",null,null,null,null,null,null,null,null,null,null,null,null,null,null,null,null,null,null,null,null,null,null,null,null,null,null,null,null,null,null,null,null,null,null,null,null,null,null,null,null,null,null,null,null,null,null,null,null,null,null,null,null,null,null,"Traditional deployment"]
[null,null,null,null,null,null,null,"Ethernet cabling",null,null,null,null,null,null,null,null,null,null,null,null,null,null,null,null,null,null,null,null,null,null,null,null,null,null,null,null,null,null,null,null,null,null,null,null,null,null,null,null,null,null,null,{"$f":"CurrencySymbol","v":"US$"},null,null,{"$f":"BK7","v":100},null,null,null,null,null,null,null,"Ethernet cabling",null,null,null,null,null,null,null,null,null,null,null,null,null,null,null,null,null,null,null,null,null,null,null,null,null,null,null,null,null,null,null,null,null,null,null,null,null,null,null,null,null,null,null,{"$f":"CurrencySymbol","v":"US$"},null,null,{"$f":"BK6","v":100}]
[]
[{"$f":"IF(OR(LicenseType=Lists!#REF!,LicenseType=Lists!#REF!,LicenseType=Lists!#REF!,LicenseType = Lists!#REF!), 0,1)","v":{"$error":"#REF!"}},null,null,null,null,null,null,null,null,null,null,null,null,null,null,null,null,null,null,null,null,null,null,null,null,null,null,null,null,"Hours per computer",null,null,null,null,null,null,null,null,null,null,"# of computers",null,null,null,null,null,null,null,null,null,null,"Total hours",null,null,null,null,null,null,null,null,null,null,null,null,null,null,null,null,null,null,null,null,null,null,null,null,null,null,null,null,null,null,null,null,"Hours per computer",null,null,null,null,null,null,null,null,null,null,"# of computers",null,null,null,null,null,null,null,null,null,null,"Total hours"]
[0,null,null,null,null,null,null,"Software deployment",null,null,null,null,null,null,null,null,null,null,null,null,null,null,null,null,null,null,null,null,null,null,null,null,{"$f":"$BK$5","v":1},null,null,null,null,null,null,null,null,null,null,{"$f":"(Calculations!$BN$6+Calculations!$BN$8+Calculations!$BN$7)","v":72},null,null,null,null,null,null,null,null,null,null,{"$f":"AR14*AG14","v":72},null,null,null,null,null,null,null,"Software deployment",null,null,null,null,null,null,null,null,null,null,null,null,null,null,null,null,null,null,null,null,null,null,null,null,{"$f":"$BK$5","v":1},null,null,null,null,null,null,null,null,null,null,{"$f":"Calculations!$CK$9","v":1000},null,null,null,null,null,null,null,null,null,null,{"$f":"CU14*CJ14","v":1000}]
[1,null,null,null,null,null,null,"Total cost",null,null,null,null,null,null,null,null,null,null,null,null,null,null,null,null,null,null,null,null,null,null,null,null,null,null,null,null,null,null,null,null,null,null,null,null,null,null,null,null,null,null,null,{"$f":"CurrencySymbol","v":"US$"},null,null,{"$f":"BC14*Operations!$BK$7","v":3750},null,null,null,null,null,null,null,"Total cost",null,null,null,null,null,null,null,null,null,null,null,null,null,null,null,null,null,null,null,null,null,null,null,null,null,null,null,null,null,null,null,null,null,null,null,null,null,null,null,null,null,null,null,{"$f":"CurrencySymbol","v":"US$"},null,null,{"$f":"DF14*Operations!$BK$7","v":52083.333333333336}]
[{"$f":"IF(OR(LicenseType = Lists!#REF!,LicenseType = Lists!#REF!),1,0)","v":{"$error":"#REF!"}},null,null,null,null,null,null,"Other deployment cost",null,null,null,null,null,null,null,null,null,null,null,null,null,null,null,null,null,null,null,null,null,null,null,null,null,null,null,null,null,null,null,null,null,null,null,null,null,null,null,null,null,null,null,{"$f":"CurrencySymbol","v":"US$"},null,null,0,null,null,null,null,null,null,null,"Other deployment cost",null,null,null,null,null,null,null,null,null,null,null,null,null,null,null,null,null,null,null,null,null,null,null,null,null,null,null,null,null,null,null,null,null,null,null,null,null,null,null,null,null,null,null,{"$f":"CurrencySymbol","v":"US$"},null,null,0]
[null,null,null,null,null,null,null,"Total deployment cost",null,null,null,null,null,null,null,null,null,null,null,null,null,null,null,null,null,null,null,null,null,null,null,null,null,null,null,null,null,null,null,null,null,null,null,null,null,null,null,null,null,null,null,{"$f":"CurrencySymbol","v":"US$"},null,null,{"$f":"BC11+BC15+BC16","v":3850},null,null,null,null,null,null,null,"Total deployment cost",null,null,null,null,null,null,null,null,null,null,null,null,null,null,null,null,null,null,null,null,null,null,null,null,null,null,null,null,null,null,null,null,null,null,null,null,null,null,null,null,null,null,null,{"$f":"CurrencySymbol","v":"US$"},null,null,{"$f":"DF11+DF15+DF16","v":52183.333333333336}]

{"sheet":"Operations","index":7,"n_rows":69,"n_cols":120,"rows_kept":69,"cut":false,"hidden":false,"merged":[[17,59,17,61],[17,62,17,68],[18,59,18,61],[18,62,18,68],[19,59,19,61],[19,62,19,68],[20,59,20,61],[20,62,20,68],[1,7,1,116],[12,59,12,61],[12,62,12,68],[13,59,13,61],[13,62,13,68],[14,59,14,61],[14,62,14,68],[15,59,15,61],[15,62,15,68],[16,59,16,61],[16,62,16,68],[16,70,16,72],[16,73,16,79],[17,70,17,72],[17,73,17,79],[18,70,18,72],[19,70,19,72],[19,73,19,79],[20,70,20,72],[20,73,20,79],[10,62,10,68],[12,70,12,72],[12,73,12,79],[13,70,13,72],[13,73,13,79],[14,70,14,72],[14,73,14,79],[15,70,15,72],[15,73,15,79],[2,7,2,79],[3,70,3,79],[7,70,7,72],[7,73,7,79],[9,70,9,72],[9,73,9,79],[9,59,9,61],[9,62,9,68],[8,59,8,61],[8,62,8,68],[8,70,8,72],[8,73,8,79],[5,59,5,61],[5,62,5,68],[5,70,5,72],[5,73,5,79],[7,59,7,61],[7,62,7,68],[3,58,3,69],[6,59,6,61],[6,62,6,68],[6,70,6,72],[6,73,6,79],[4,70,4,72],[26,29,26,31],[26,32,26,38],[27,29,27,31],[27,32,27,38],[24,40,24,49],[25,40,25,42],[25,43,25,49],[26,40,26,42],[26,43,26,49],[27,40,27,42],[27,43,27,49],[24,29,24,38],[25,29,25,31],[25,32,25,38],[32,29,32,31],[32,32,32,38],[25,84,25,86],[25,87,25,93],[38,29,38,31],[38,32,38,38],[38,40,38,42],[38,43,38,49],[38,51,38,53],[31,29,31,31],[31,32,31,38],[33,29,33,31],[33,32,33,38],[28,29,28,31],[28,32,28,38],[29,29,29,31],[29,32,29,38],[30,29,30,31],[30,32,30,38],[31,40,31,42],[31,43,31,49],[32,40,32,42],[32,43,32,49],[33,40,33,42],[33,43,33,49],[28,40,28,42],[28,43,28,49],[29,40,29,42],[29,43,29,49],[30,40,30,42],[30,43,30,49],[25,106,25,108],[25,109,25,115],[25,95,25,97],[25,98,25,104],[25,51,25,53],[25,54,25,60],[26,51,26,53],[26,54,26,60],[27,51,27,53],[27,54,27,60],[29,95,29,97],[29,98,29,104],[29,106,29,108],[29,109,29,115],[4,62,4,68],[4,73,4,79],[35,51,35,53],[35,54,35,60],[34,51,34,53],[34,54,34,60],[4,59,4,61],[32,51,32,53],[32,54,32,60],[33,51,33,53],[33,54,33,60],[28,51,28,53],[28,54,28,60],[29,51,29,53],[29,54,29,60],[30,51,30,53],[30,54,30,60],[31,51,31,53],[31,54,31,60],[24,51,24,60],[10,70,10,72],[10,59,10,61],[10,73,10,79],[18,73,18,79],[35,106,35,108],[35,109,35,115],[26,84,26,86],[26,87,26,93],[26,95,26,97],[26,98,26,104],[26,106,26,108],[26,109,26,115],[27,84,27,86],[27,87,27,93],[27,95,27,97],[27,98,27,104],[27,106,27,108],[27,109,27,115],[28,84,28,86],[28,87,28,93],[34,106,34,108],[34,109,34,115],[24,84,24,93],[24,95,24,104],[24,106,24,115],[30,109,30,115],[31,84,31,86],[31,87,31,93],[31,95,31,97],[31,98,31,104],[31,106,31,108],[31,109,31,115],[30,84,30,86],[30,87,30,93],[30,95,30,97],[30,98,30,104],[30,106,30,108],[28,95,28,97],[28,98,28,104],[28,106,28,108],[28,109,28,115],[29,84,29,86],[29,87,29,93],[37,29,37,38],[37,40,37,49],[37,51,37,60],[37,84,37,93],[37,95,37,104],[37,106,37,115],[38,54,38,60],[38,84,38,86],[38,87,38,93],[38,95,38,97],[38,98,38,104],[40,29,40,38],[40,40,40,49],[41,40,41,42],[41,43,41,49],[40,51,40,60],[41,51,41,53],[41,54,41,60],[38,106,38,108],[38,109,38,115],[41,29,41,31],[41,32,41,38],[44,51,44,53],[44,54,44,60],[44,106,44,108],[44,109,44,115],[42,51,42,53],[42,54,42,60],[40,84,40,93],[40,95,40,104],[40,106,40,115],[41,84,41,86],[41,87,41,93],[41,95,41,97],[41,98,41,104],[41,106,41,108],[41,109,41,115],[42,106,42,108],[42,109,42,115],[43,51,43,53],[43,54,43,60],[43,106,43,108],[43,109,43,115]]}
[]
[null,null,null,null,null,null,null,{"$f":"Lists!K14","v":"Continuing Operations Costs"}]
[null,null,null,null,null,null,null,"Windows Server with zero client computing enables organizations to save on administration costs because there are fewer computers to manage. Fewer computers also results in less power consumption."]
[null,null,null,null,null,null,null,{"$f":"Lists!$B$28","v":"Inputs"},null,null,null,null,null,null,null,null,null,null,null,null,null,null,null,null,null,null,null,null,null,null,null,null,null,null,null,null,null,null,null,null,null,null,null,null,null,null,null,null,null,null,null,null,null,null,null,null,null,null,"Value for Calculations",null,null,null,null,null,null,null,null,null,null,null,{"$f":"Lists!$C$6","v":"Suggested Value"}]
[null,null,null,null,null,null,null,"What is the average number of work/school days per year?",null,null,null,null,null,null,null,null,null,null,null,null,null,null,null,null,null,null,null,null,null,null,null,null,null,null,null,null,null,null,null,null,null,null,null,null,null,null,null,null,null,null,null,null,null,null,null,null,null,null,null,null,null,null,{"$f":"BV5","v":240},null,null,null,null,null,null,null,null,null,null,240]
[null,null,null,null,null,null,null,"What is the typically fully burdened salary of an IT administrator?",null,null,null,null,null,null,null,null,null,null,null,null,null,null,null,null,null,null,null,null,null,null,null,null,null,null,null,null,null,null,null,null,null,null,null,null,null,null,null,null,null,null,null,null,null,null,null,null,null,null,"?",{"$f":"CurrencySymbol","v":"US$"},null,null,100000,null,null,null,null,null,null,null,{"$f":"CurrencySymbol","v":"US$"},null,null,100000]
[null,null,null,null,null,null,null,"Hourly rate for IT administrator",null,null,null,null,null,null,null,null,null,null,null,null,null,null,null,null,null,null,null,null,null,null,null,null,null,null,null,null,null,null,null,null,null,null,null,null,null,null,null,null,null,null,null,null,null,null,null,null,null,null,"?",{"$f":"CurrencySymbol","v":"US$"},null,null,52.083333333333336,null,null,null,null,null,null,null,{"$f":"CurrencySymbol","v":"US$"},null,null,{"$f":"BK6/BK5/8","v":52.083333333333336}]
[null,null,null,null,null,null,null,"How many hours per year do you typically spend on maintenance and upgrades for each computer?",null,null,null,null,null,null,null,null,null,null,null,null,null,null,null,null,null,null,null,null,null,null,null,null,null,null,null,null,null,null,null,null,null,null,null,null,null,null,null,null,null,null,null,null,null,null,null,null,null,null,"?",null,null,null,2,null,null,null,null,null,null,null,null,null,null,2]
[null,null,null,null,null,null,null,"What is the annual cost for hardware maintenance per computer?",null,null,null,null,null,null,null,null,null,null,null,null,null,null,null,null,null,null,null,null,null,null,null,null,null,null,null,null,null,null,null,null,null,null,null,null,null,null,null,null,null,null,null,null,null,null,null,null,null,null,"?",{"$f":"CurrencySymbol","v":"US$"},null,null,50,null,null,null,null,null,null,null,{"$f":"CurrencySymbol","v":"US$"},null,null,{"$f":"50*Rate","v":50}]
[null,null,null,null,null,null,null,"What do you typically pay per kWhr of electricity?",null,null,null,null,null,null,null,null,null,null,null,null,null,null,null,null,null,null,null,null,null,null,null,null,null,null,null,null,null,null,null,null,null,null,null,null,null,null,null,null,null,null,null,null,null,null,null,null,null,null,"?",{"$f":"CurrencySymbol","v":"US$"},null,null,0.112,null,null,null,null,null,null,null,{"$f":"CurrencySymbol","v":"US$"},null,null,{"$f":"0.112*Rate*powermult","v":0.112}]
[null,null,null,null,null,null,null,"How many hours per day are the computers typically in use?",null,null,null,null,null,null,null,null,null,null,null,null,null,null,null,null,null,null,null,null,null,null,null,null,null,null,null,null,null,null,null,null,null,null,null,null,null,null,null,null,null,null,null,null,null,null,null,null,null,null,"?","hours",null,null,8,null,null,null,null,null,null,null,"hours",null,null,8]
[null,null,null,null,null,null,null,"Power Consumption"]
[null,null,null,null,null,null,null,"Host computer",null,null,null,null,null,null,null,null,null,null,null,null,null,null,null,null,null,null,null,null,null,null,null,null,null,null,null,null,null,null,null,null,null,null,null,null,null,null,null,null,null,null,null,null,null,null,null,null,null,null,"?","W",null,null,100,null,null,null,null,null,null,null,"W",null,null,100]
[null,null,null,null,null,null,null,"Monitor",null,null,null,null,null,null,null,null,null,null,null,null,null,null,null,null,null,null,null,null,null,null,null,null,null,null,null,null,null,null,null,null,null,null,null,null,null,null,null,null,null,null,null,null,null,null,null,null,null,null,"?","W",null,null,20,null,null,null,null,null,null,null,"W",null,null,0]
[null,null,null,null,null,null,null,"Mouse and keyboard",null,null,null,null,null,null,null,null,null,null,null,null,null,null,null,null,null,null,null,null,null,null,null,null,null,null,null,null,null,null,null,null,null,null,null,null,null,null,null,null,null,null,null,null,null,null,null,null,null,null,"?","W",null,null,{"$f":"BV15","v":0},null,null,null,null,null,null,null,"W",null,null,0]
[null,null,null,null,null,null,null,"USB video adaptor/thin-client",null,null,null,null,null,null,null,null,null,null,null,null,null,null,null,null,null,null,null,null,null,null,null,null,null,null,null,null,null,null,null,null,null,null,null,null,null,null,null,null,null,null,null,null,null,null,null,null,null,null,"?","W",null,null,0,null,null,null,null,null,null,null,"W",null,null,0]
[null,null,null,null,null,null,null,"USB hub",null,null,null,null,null,null,null,null,null,null,null,null,null,null,null,null,null,null,null,null,null,null,null,null,null,null,null,null,null,null,null,null,null,null,null,null,null,null,null,null,null,null,null,null,null,null,null,null,null,null,"?","W",null,null,0,null,null,null,null,null,null,null,"W",null,null,12]
[null,null,null,null,null,null,null,"Video card",null,null,null,null,null,null,null,null,null,null,null,null,null,null,null,null,null,null,null,null,null,null,null,null,null,null,null,null,null,null,null,null,null,null,null,null,null,null,null,null,null,null,null,null,null,null,null,null,null,null,"?","W",null,null,0,null,null,null,null,null,null,null,"W",null,null,20]
[null,null,null,null,null,null,null,"Ethernet switch",null,null,null,null,null,null,null,null,null,null,null,null,null,null,null,null,null,null,null,null,null,null,null,null,null,null,null,null,null,null,null,null,null,null,null,null,null,null,null,null,null,null,null,null,null,null,null,null,null,null,"?","W",null,null,6,null,null,null,null,null,null,null,"W",null,null,6]
[null,null,null,null,null,null,null,"RemoteFX thin client",null,null,null,null,null,null,null,null,null,null,null,null,null,null,null,null,null,null,null,null,null,null,null,null,null,null,null,null,null,null,null,null,null,null,null,null,null,null,null,null,null,null,null,null,null,null,null,null,null,null,"?","W",null,null,0,null,null,null,null,null,null,null,"W",null,null,50]
[null,null,null,null,null,null,null,"Other station computer/thin-client",null,null,null,null,null,null,null,null,null,null,null,null,null,null,null,null,null,null,null,null,null,null,null,null,null,null,null,null,null,null,null,null,null,null,null,null,null,null,null,null,null,null,null,null,null,null,null,null,null,null,"?","W",null,null,0,null,null,null,null,null,null,null,"W",null,null,50]
[1]
[{"$f":"IF(customoperations,1,0)","v":0},null,null,null,null,null,null,"You have entered some advanced inputs on the alternative configuration page. These changes will not be reflected on this sheet."]
[null,null,null,null,null,null,null,{"$f":"Lists!$C$28","v":"Calculations"}]
[null,null,null,null,null,null,null,"Windows MultiPoint Server",null,null,null,null,null,null,null,null,null,null,null,null,null,null,null,null,null,null,null,null,null,"Power Consumption",null,null,null,null,null,null,null,null,null,null,"Actual Count",null,null,null,null,null,null,null,null,null,null,"Total Power Consumption",null,null,null,null,null,null,null,null,null,null,"Traditional Deployment",null,null,null,null,null,null,null,null,null,null,null,null,null,null,null,null,null,null,null,null,null,"Power Consumption",null,null,null,null,null,null,null,null,null,null,"Actual Count",null,null,null,null,null,null,null,null,null,null,"Total Power Consumption"]
[null,null,null,null,null,null,null,"Host computer",null,null,null,null,null,null,null,null,null,null,null,null,null,null,null,null,null,null,null,null,null,"W",null,null,{"$f":"BK13","v":100},null,null,null,null,null,null,null,null,null,null,{"$f":"Hardware!AQ31","v":72},null,null,null,null,null,null,null,"kW",null,null,{"$f":"AR26*AG26/1000","v":7.2},null,null,null,null,null,null,null,"Computer",null,null,null,null,null,null,null,null,null,null,null,null,null,null,null,null,null,null,null,null,null,"W",null,null,{"$f":"BK13","v":100},null,null,null,null,null,null,null,null,null,null,{"$f":"Calculations!$CK$9","v":1000},null,null,null,null,null,null,null,"kW",null,null,{"$f":"CU26*CJ26/1000","v":100},null,null,null,null,null,null,null,null,null,{"$f":"AG26*(Calculations!BN6+Calculations!BN7+Calculations!BN8)/1000","v":7.2}]
[null,null,null,null,null,null,null,"Monitor",null,null,null,null,null,null,null,null,null,null,null,null,null,null,null,null,null,null,null,null,null,"W",null,null,{"$f":"BK14","v":20},null,null,null,null,null,null,null,null,null,null,{"$f":"Hardware!AQ32","v":1000},null,null,null,null,null,null,null,"kW",null,null,{"$f":"AR27*AG27/1000","v":20},null,null,null,null,null,null,null,"Monitor",null,null,null,null,null,null,null,null,null,null,null,null,null,null,null,null,null,null,null,null,null,"W",null,null,{"$f":"BK14","v":20},null,null,null,null,null,null,null,null,null,null,0,null,null,null,null,null,null,null,"kW",null,null,0,null,null,null,null,null,null,null,null,null,{"$f":"AG27*Calculations!BN11/1000","v":20}]
[null,null,null,null,null,null,null,"Mouse and keyboard",null,null,null,null,null,null,null,null,null,null,null,null,null,null,null,null,null,null,null,null,null,"W",null,null,0,null,null,null,null,null,null,null,null,null,null,{"$f":"Hardware!AQ33","v":1000},null,null,null,null,null,null,null,"kW",null,null,0,null,null,null,null,null,null,null,"Mouse and keyboard",null,null,null,null,null,null,null,null,null,null,null,null,null,null,null,null,null,null,null,null,null,"W",null,null,0,null,null,null,null,null,null,null,null,null,null,0,null,null,null,null,null,null,null,"kW",null,null,0,null,null,null,null,null,null,null,null,null,{"$f":"AG28*Calculations!BN12/1000","v":0}]
[null,null,null,null,null,null,null,"USB video adaptor/thin-client",null,null,null,null,null,null,null,null,null,null,null,null,null,null,null,null,null,null,null,null,null,"W",null,null,0,null,null,null,null,null,null,null,null,null,null,{"$f":"Hardware!AQ34","v":0},null,null,null,null,null,null,null,"kW",null,null,0,null,null,null,null,null,null,null,"USB video adaptor/thin-client",null,null,null,null,null,null,null,null,null,null,null,null,null,null,null,null,null,null,null,null,null,"W",null,null,0,null,null,null,null,null,null,null,null,null,null,{"$f":"Calculations!CK13","v":0},null,null,null,null,null,null,null,"kW",null,null,0,null,null,null,null,null,null,null,null,null,{"$f":"AG29*Calculations!BN13/1000","v":0}]
[null,null,null,null,null,null,null,"USB hub",null,null,null,null,null,null,null,null,null,null,null,null,null,null,null,null,null,null,null,null,null,"W",null,null,0,null,null,null,null,null,null,null,null,null,null,{"$f":"Hardware!AQ35","v":0},null,null,null,null,null,null,null,"kW",null,null,0,null,null,null,null,null,null,null,"USB hub",null,null,null,null,null,null,null,null,null,null,null,null,null,null,null,null,null,null,null,null,null,"W",null,null,0,null,null,null,null,null,null,null,null,null,null,{"$f":"Calculations!CK14","v":0},null,null,null,null,null,null,null,"kW",null,null,0,null,null,null,null,null,null,null,null,null,{"$f":"AG30*Calculations!BN14/1000","v":0}]
[null,null,null,null,null,null,null,"Video card",null,null,null,null,null,null,null,null,null,null,null,null,null,null,null,null,null,null,null,null,null,"W",null,null,0,null,null,null,null,null,null,null,null,null,null,{"$f":"Hardware!AQ36","v":0},null,null,null,null,null,null,null,"kW",null,null,0,null,null,null,null,null,null,null,"Video card",null,null,null,null,null,null,null,null,null,null,null,null,null,null,null,null,null,null,null,null,null,"W",null,null,0,null,null,null,null,null,null,null,null,null,null,{"$f":"Calculations!CK15","v":0},null,null,null,null,null,null,null,"kW",null,null,0,null,null,null,null,null,null,null,null,null,{"$f":"AG31*Calculations!BN15/1000","v":0}]
[null,null,null,null,null,null,null,"Ethernet switch",null,null,null,null,null,null,null,null,null,null,null,null,null,null,null,null,null,null,null,null,null,"W",null,null,6,null,null,null,null,null,null,null,null,null,null,{"$f":"Hardware!AQ37","v":42},null,null,null,null,null,null,null,"kW",null,null,0.252,null,null,null,null,null,null,null,"Ethernet switch",null,null,null,null,null,null,null,null,null,null,null,null,null,null,null,null,null,null,null,null,null,"W",null,null,6,null,null,null,null,null,null,null,null,null,null,{"$f":"Calculations!CK16","v":42},null,null,null,null,null,null,null,"kW",null,null,0.252,null,null,null,null,null,null,null,null,null,{"$f":"AG32*Calculations!BN16/1000","v":0.252}]
[null,null,null,null,null,null,null,"RemoteFX thin client",null,null,null,null,null,null,null,null,null,null,null,null,null,null,null,null,null,null,null,null,null,"W",null,null,0,null,null,null,null,null,null,null,null,null,null,{"$f":"Hardware!AQ39","v":0},null,null,null,null,null,null,null,"kW",null,null,{"$f":"AR33*AG33/1000","v":0},null,null,null,null,null,null,null,null,null,null,null,null,null,null,null,null,null,null,null,null,null,null,null,null,null,null,null,null,null,null,null,null,null,null,null,null,null,null,null,null,null,null,null,null,null,null,null,null,null,null,null,null,null,null,null,null,null,null,null,null,null,null,null,null,{"$f":"AG34*Calculations!BN17/1000","v":0}]
[null,null,null,null,null,null,null,"Other station computer/thin-client",null,null,null,null,null,null,null,null,null,null,null,null,null,null,null,null,null,null,null,null,null,"W",null,null,0,null,null,null,null,null,null,null,null,null,null,{"$f":"Hardware!AQ40","v":1000},null,null,null,null,null,null,null,"kW",null,null,{"$f":"AR34*AG34/1000","v":0}]
[null,null,null,null,null,null,null,"Total kW",null,null,null,null,null,null,null,null,null,null,null,null,null,null,null,null,null,null,null,null,null,null,null,null,null,null,null,null,null,null,null,null,null,null,null,null,null,null,null,null,null,null,null,"kW",null,null,{"$f":"SUM(BC26:BI34)","v":27.451999999999998},null,null,null,null,null,null,null,"Total kW",null,null,null,null,null,null,null,null,null,null,null,null,null,null,null,null,null,null,null,null,null,null,null,null,null,null,null,null,null,null,null,null,null,null,null,null,null,null,null,null,null,null,null,"kW",null,null,{"$f":"SUM(DF26:DL32)","v":100.252},null,null,null,null,null,null,null,null,null,{"$f":"SUM(DP26:DP33)","v":27.451999999999998}]
[null,null,null,null,null,null,null,"Total annual cost for power",null,null,null,null,null,null,null,null,null,null,null,null,null,null,null,null,null,null,null,null,null,null,null,null,null,null,null,null,null,null,null,null,null,null,null,null,null,null,null,null,null,null,null,{"$f":"CurrencySymbol","v":"US$"},null,null,{"$f":"$BK$10*BC35*WorkDays*BK11","v":5903.27808},null,null,null,null,null,null,null,"Total annual cost for power",null,null,null,null,null,null,null,null,null,null,null,null,null,null,null,null,null,null,null,null,null,null,null,null,null,null,null,null,null,null,null,null,null,null,null,null,null,null,null,null,null,null,null,{"$f":"CurrencySymbol","v":"US$"},null,null,{"$f":"$BK$10*DF35*WorkDays*$BK$11","v":21558.190079999997},null,null,null,null,null,null,null,null,null,{"$f":"$BK$10*DP35*WorkDays*$BK$11","v":5903.27808}]
[null,null,null,null,null,null,null,null,null,null,null,null,null,null,null,null,null,null,null,null,null,null,null,null,null,null,null,null,null,null,null,null,null,null,null,null,null,null,null,null,null,null,null,null,null,null,null,null,null,null,null,null,null,null,null,null,null,null,null,null,null,null,null,null,null,null,null,null,null,null,null,null,null,null,null,null,null,null,null,null,null,null,null,null,null,null,null,null,null,null,null,null,null,null,null,null,null,null,null,null,null,null,null,null,null,null,null,null,null,null,null,null,null,null,null,null,null,null,null,{"$f":"DP35*WorkDays*$BK$11","v":52707.839999999997}]
[null,null,null,null,null,null,null,null,null,null,null,null,null,null,null,null,null,null,null,null,null,null,null,null,null,null,null,null,null,"Cost per computer",null,null,null,null,null,null,null,null,null,null,"# of computers",null,null,null,null,null,null,null,null,null,null,"Total annual cost",null,null,null,null,null,null,null,null,null,null,null,null,null,null,null,null,null,null,null,null,null,null,null,null,null,null,null,null,null,null,null,null,"Cost per computer",null,null,null,null,null,null,null,null,null,null,"# of computers",null,null,null,null,null,null,null,null,null,null,"Total annual cost",null,null,null,null,null,null,null,null,null,null,null,null,{"$f":"DF35*WorkDays*BK11","v":192483.84}]
[null,null,null,null,null,null,null,"Hardware maintenance",null,null,null,null,null,null,null,null,null,null,null,null,null,null,null,null,null,null,null,null,null,{"$f":"CurrencySymbol","v":"US$"},null,null,{"$f":"BK9","v":50},null,null,null,null,null,null,null,null,null,null,{"$f":"(Calculations!$BN$6+Calculations!$BN$8+Calculations!$BN$7)","v":72},null,null,null,null,null,null,null,{"$f":"CurrencySymbol","v":"US$"},null,null,{"$f":"AG39*AR39","v":3600},null,null,null,null,null,null,null,"Hardware maintenance",null,null,null,null,null,null,null,null,null,null,null,null,null,null,null,null,null,null,null,null,null,{"$f":"CurrencySymbol","v":"US$"},null,null,{"$f":"BK9","v":50},null,null,null,null,null,null,null,null,null,null,{"$f":"Calculations!$CK$9","v":1000},null,null,null,null,null,null,null,{"$f":"CurrencySymbol","v":"US$"},null,null,{"$f":"CJ39*CU39","v":50000}]
[]
[null,null,null,null,null,null,null,null,null,null,null,null,null,null,null,null,null,null,null,null,null,null,null,null,null,null,null,null,null,"Hours per computer",null,null,null,null,null,null,null,null,null,null,"# of computers",null,null,null,null,null,null,null,null,null,null,"Total hours",null,null,null,null,null,null,null,null,null,null,null,null,null,null,null,null,null,null,null,null,null,null,null,null,null,null,null,null,null,null,null,null,"Hours per computer",null,null,null,null,null,null,null,null,null,null,"# of computers",null,null,null,null,null,null,null,null,null,null,"Total hours"]
[null,null,null,null,null,null,null,"System management and updates",null,null,null,null,null,null,null,null,null,null,null,null,null,null,null,null,null,null,null,null,null,null,null,null,{"$f":"$BK$8","v":2},null,null,null,null,null,null,null,null,null,null,{"$f":"(Calculations!$BN$6+Calculations!$BN$8+Calculations!$BN$7)","v":72},null,null,null,null,null,null,null,null,null,null,{"$f":"AR42*AG42","v":144},null,null,null,null,null,null,null,"System management and updates",null,null,null,null,null,null,null,null,null,null,null,null,null,null,null,null,null,null,null,null,null,null,null,null,{"$f":"$BK$8","v":2},null,null,null,null,null,null,null,null,null,null,{"$f":"Calculations!$CK$9","v":1000},null,null,null,null,null,null,null,null,null,null,{"$f":"CU42*CJ42","v":2000}]
[null,null,null,null,null,null,null,"Total annual cost",null,null,null,null,null,null,null,null,null,null,null,null,null,null,null,null,null,null,null,null,null,null,null,null,null,null,null,null,null,null,null,null,null,null,null,null,null,null,null,null,null,null,null,{"$f":"CurrencySymbol","v":"US$"},null,null,{"$f":"BC42*$BK$7","v":7500},null,null,null,null,null,null,null,"Total annual cost",null,null,null,null,null,null,null,null,null,null,null,null,null,null,null,null,null,null,null,null,null,null,null,null,null,null,null,null,null,null,null,null,null,null,null,null,null,null,null,null,null,null,null,{"$f":"CurrencySymbol","v":"US$"},null,null,{"$f":"DF42*$BK$7","v":104166.66666666667}]
[null,null,null,null,null,null,null,"Other operations costs",null,null,null,null,null,null,null,null,null,null,null,null,null,null,null,null,null,null,null,null,null,null,null,null,null,null,null,null,null,null,null,null,null,null,null,null,null,null,null,null,null,null,null,{"$f":"CurrencySymbol","v":"US$"},null,null,0,null,null,null,null,null,null,null,"Other operations costs",null,null,null,null,null,null,null,null,null,null,null,null,null,null,null,null,null,null,null,null,null,null,null,null,null,null,null,null,null,null,null,null,null,null,null,null,null,null,null,null,null,null,null,{"$f":"CurrencySymbol","v":"US$"},null,null,0]
[null,null,null,null,null,null,null,"Total operations cost",null,null,null,null,null,null,null,null,null,null,null,null,null,null,null,null,null,null,null,null,null,null,null,null,null,null,null,null,null,null,null,null,null,null,null,null,null,null,null,null,null,null,null,{"$f":"CurrencySymbol","v":"US$"},null,null,{"$f":"BC36+BC39+BC43+BC44","v":17003.27808},null,null,null,null,null,null,null,"Total operations cost",null,null,null,null,null,null,null,null,null,null,null,null,null,null,null,null,null,null,null,null,null,null,null,null,null,null,null,null,null,null,null,null,null,null,null,null,null,null,null,null,null,null,null,{"$f":"CurrencySymbol","v":"US$"},null,null,{"$f":"DF36+DF39+DF43+DF44","v":175724.85674666666}]
[]
[]
[]
[]
[]
[]
[]
[]
[]
[]
[]
[]
[]
[]
[{"$f":"IF(OR(LicenseType = Lists!#REF!,LicenseType=Lists!#REF!,LicenseType=Lists!#REF!),1,0)","v":{"$error":"#REF!"}}]
[{"$f":"IF(OR(LicenseType=Lists!#REF!,LicenseType=Lists!#REF!,LicenseType=Lists!#REF!,LicenseType = Lists!#REF!), 0,1)","v":{"$error":"#REF!"}}]
[0]
[1]
[{"$f":"IF(OR(LicenseType = Lists!#REF!,LicenseType = Lists!#REF!),1,0)","v":{"$error":"#REF!"}}]
[{"$f":"IF(OR(LicenseType = Lists!#REF!,LicenseType = Lists!#REF!),0,0)","v":{"$error":"#REF!"}}]
[]
[]
[]
[1]

{"sheet":"Calculations","index":8,"n_rows":47,"n_cols":130,"rows_kept":47,"cut":false,"hidden":false,"merged":[[13,103,13,108],[14,88,14,90],[14,91,14,93],[14,94,14,99],[14,100,14,102],[14,103,14,108],[37,54,37,56],[37,57,37,62],[37,77,37,79],[37,80,37,85],[37,100,37,102],[37,103,37,108],[23,54,23,56],[23,57,23,62],[23,77,23,79],[23,100,23,102],[35,100,35,108],[35,68,35,76],[35,77,35,85],[35,88,35,90],[35,91,35,99],[33,100,33,102],[33,103,33,108],[28,88,28,90],[12,88,12,90],[12,91,12,93],[12,94,12,99],[12,100,12,102],[12,103,12,108],[13,88,13,90],[13,91,13,93],[13,94,13,99],[17,54,17,56],[17,57,17,62],[17,77,17,79],[17,80,17,85],[17,100,17,102],[17,103,17,108],[15,100,15,102],[15,103,15,108],[15,77,15,79],[15,80,15,85],[15,88,15,90],[15,91,15,93],[15,94,15,99],[14,80,14,85],[12,80,12,85],[13,100,13,102],[32,45,32,53],[32,54,32,62],[32,65,32,67],[32,68,32,76],[32,77,32,85],[36,42,36,44],[36,65,36,67],[26,91,26,99],[28,42,28,44],[28,65,28,67],[36,80,36,85],[36,91,36,93],[36,94,36,99],[33,45,33,47],[33,48,33,53],[33,94,33,99],[29,54,29,56],[29,57,29,62],[29,77,29,79],[29,80,29,85],[35,42,35,44],[35,45,35,53],[35,54,35,62],[35,65,35,67],[26,100,26,108],[32,91,32,99],[32,100,32,108],[33,54,33,56],[33,57,33,62],[33,68,33,70],[33,71,33,76],[33,77,33,79],[27,103,27,108],[28,103,28,108],[29,100,29,102],[29,103,29,108],[26,77,26,85],[26,54,26,62],[26,65,26,67],[26,68,26,76],[26,88,26,90],[27,80,27,85],[28,71,28,76],[28,77,28,79],[28,80,28,85],[38,103,38,108],[34,103,34,108],[2,42,2,85],[30,54,30,56],[30,57,30,62],[30,77,30,79],[30,80,30,85],[30,100,30,102],[30,103,30,108],[26,42,26,44],[26,45,26,53],[34,71,34,76],[34,77,34,79],[34,80,34,85],[34,91,34,93],[34,94,34,99],[34,100,34,102],[33,80,33,85],[33,91,33,93],[28,91,28,93],[28,94,28,99],[36,77,36,79],[36,100,36,102],[36,103,36,108],[38,54,38,56],[38,57,38,62],[38,77,38,79],[34,45,34,47],[34,48,34,53],[34,54,34,56],[34,57,34,62],[34,68,34,70],[27,100,27,102],[28,45,28,47],[28,48,28,53],[28,54,28,56],[28,57,28,62],[28,68,28,70],[38,80,38,85],[38,100,38,102],[36,45,36,47],[36,48,36,53],[36,54,36,56],[36,57,36,62],[36,68,36,70],[36,71,36,76],[36,88,36,90],[28,100,28,102],[18,103,18,108],[24,77,24,79],[24,80,24,85],[27,54,27,56],[27,57,27,62],[27,77,27,79],[24,54,24,56],[24,57,24,62],[18,54,18,56],[18,57,18,62],[18,77,18,79],[18,80,18,85],[18,100,18,102],[22,68,22,70],[22,71,22,76],[22,77,22,79],[23,80,23,85],[23,103,23,108],[24,100,24,102],[24,103,24,108],[20,88,20,90],[20,91,20,93],[20,94,20,99],[20,100,20,102],[22,80,22,85],[21,80,21,85],[22,42,22,44],[22,45,22,47],[22,48,22,53],[22,54,22,56],[22,57,22,62],[22,65,22,67],[21,42,21,44],[21,45,21,47],[21,48,21,53],[21,54,21,56],[21,57,21,62],[21,65,21,67],[21,68,21,70],[21,71,21,76],[21,77,21,79],[14,42,14,44],[14,45,14,47],[14,48,14,53],[14,54,14,56],[14,57,14,62],[14,65,14,67],[16,77,16,79],[16,80,16,85],[13,80,13,85],[13,42,13,44],[13,45,13,47],[13,48,13,53],[13,54,13,56],[13,57,13,62],[13,65,13,67],[13,68,13,70],[13,71,13,76],[13,77,13,79],[16,42,16,44],[16,45,16,47],[16,48,16,53],[16,54,16,56],[16,57,16,62],[16,65,16,67],[12,42,12,44],[12,45,12,47],[12,48,12,53],[12,54,12,56],[12,57,12,62],[12,65,12,67],[12,68,12,70],[12,71,12,76],[10,80,10,85],[10,42,10,44],[10,45,10,47],[10,48,10,53],[10,54,10,56],[10,57,10,62],[10,65,10,67],[11,71,11,76],[11,77,11,79],[11,80,11,85],[11,42,11,44],[11,45,11,47],[11,48,11,53],[11,54,11,56],[11,57,11,62],[11,65,11,67],[11,68,11,70],[8,103,8,108],[8,88,8,90],[8,91,8,93],[8,94,8,99],[8,100,8,102],[6,71,6,76],[6,77,6,79],[6,80,6,85],[7,77,7,79],[7,80,7,85],[10,88,10,90],[10,91,10,93],[10,94,10,99],[10,100,10,102],[10,103,10,108],[11,88,11,90],[11,91,11,93],[11,94,11,99],[11,100,11,102],[11,103,11,108],[7,71,7,76],[1,7,1,109],[5,65,5,67],[5,68,5,70],[5,71,5,76],[5,77,5,79],[5,80,5,85],[5,45,5,47],[5,48,5,53],[4,45,4,53],[5,54,5,56],[5,57,5,62],[4,54,4,62],[2,88,2,108],[3,42,3,62],[3,65,3,85],[3,88,3,108],[4,88,4,90],[4,91,4,99],[4,100,4,108],[4,65,4,67],[4,68,4,76],[4,77,4,85],[4,42,4,44],[7,65,7,67],[5,42,5,44],[10,68,10,70],[10,71,10,76],[10,77,10,79],[12,77,12,79],[15,68,15,70],[14,68,14,70],[14,71,14,76],[14,77,14,79],[6,42,6,44],[6,45,6,47],[6,48,6,53],[6,54,6,56],[6,57,6,62],[6,65,6,67],[6,68,6,70],[7,68,7,70],[7,42,7,44],[7,45,7,47],[7,48,7,53],[7,54,7,56],[7,57,7,62],[15,71,15,76],[15,42,15,44],[20,103,20,108],[19,42,19,44],[19,45,19,53],[19,54,19,62],[19,65,19,67],[19,68,19,76],[19,77,19,85],[19,88,19,90],[19,91,19,99],[19,100,19,108],[20,68,20,76],[20,77,20,85],[20,42,20,44],[20,45,20,53],[20,54,20,62],[20,65,20,67],[15,45,15,47],[15,48,15,53],[15,54,15,56],[15,57,15,62],[15,65,15,67],[16,71,16,76],[16,68,16,70]]}
[]
[null,null,null,null,null,null,null,{"$f":"Lists!C14","v":"Advanced inputs for hybrid scenario"}]
[null,null,null,null,null,null,null,null,null,null,null,null,null,null,null,null,null,null,null,null,null,null,null,null,null,null,null,null,null,null,null,null,null,null,null,null,null,null,null,null,null,null,null,null,null,null,null,null,null,null,null,null,null,null,null,null,null,null,null,null,null,null,null,null,null,null,null,null,null,null,null,null,null,null,null,null,null,null,null,null,null,null,null,null,null,null,null,null,"PC Configuration"]
[null,null,null,null,null,null,null,null,null,null,null,null,null,null,null,null,null,null,null,null,null,null,null,null,null,null,null,null,null,null,null,null,null,null,null,null,null,null,null,null,null,null,"Sample Configuration",null,null,null,null,null,null,null,null,null,null,null,null,null,null,null,null,null,null,null,null,"?",null,"Alternative Configuration",null,null,null,null,null,null,null,null,null,null,null,null,null,null,null,null,null,null,null,null,"?",null,null,null,null,null,null,null,null,null,null,null,null,null,null,null,null,null,null,null,null,null,null,"?",null,null,null,null,null,null,null,null,null,{"$f":"IF(OR(AND(BN6>0,BN8>0),AND(BN6>0,BN7>0),AND(BN8>0,BN7>0)),1,0)","v":0}]
[null,null,null,null,null,null,null,"Hardware",null,null,null,null,null,null,null,null,null,null,null,null,null,null,null,null,null,null,null,null,null,null,null,null,null,null,null,null,null,null,null,null,null,null,"Count",null,null,"Cost",null,null,null,null,null,null,null,null,"Total",null,null,null,null,null,null,null,null,null,null,"Count",null,null,"Cost",null,null,null,null,null,null,null,null,"Total",null,null,null,null,null,null,null,null,null,null,"Count",null,null,"Cost",null,null,null,null,null,null,null,null,"Total",null,null,null,null,null,null,null,null,null,null,null,null,null,null,null,null,null,null,{"$f":"IF(SUM($DP$6:$DR$39)=102,0,1)","v":0},{"$f":"IF(SUM($DP$6:$DP$8)=3,0,1)","v":0},{"$f":"IF(SUM($DQ$6:$DQ$8)=3,0,1)","v":0},{"$f":"IF(SUM($DP$6:$DR$19)=42,0,1)","v":0},{"$f":"IF(SUM($DP$22:$DR$25)=12,0,1)","v":0},{"$f":"IF(SUM($DP$28:$DR$31)=12,0,1)","v":0},{"$f":"IF(SUM($DP$34:$DR$39)=18,0,1)","v":0}]
[null,1,null,null,null,null,null,"LAN connected or hybrid host computers",null,null,null,null,null,null,null,null,null,null,null,null,null,null,null,null,null,null,null,null,null,null,null,null,null,null,null,null,null,null,null,null,null,null,{"$f":"IF(Hardware!$Z$8=Lists!$B$24,Hardware!AQ31,0)","v":72},null,null,{"$f":"CurrencySymbol","v":"US$"},null,null,{"$f":"Hardware!$AB$31","v":1300},null,null,null,null,null,{"$f":"CurrencySymbol","v":"US$"},null,null,{"$f":"AQ6*AW6","v":93600},null,null,null,null,null,null,null,{"$f":"DU6","v":72},null,null,{"$f":"CurrencySymbol","v":"US$"},null,null,{"$f":"DV6","v":1300},null,null,null,null,null,{"$f":"CurrencySymbol","v":"US$"},null,null,{"$f":"BN6*BT6","v":93600},null,null,null,null,null,null,null,null,null,null,null,null,null,null,null,null,null,null,null,null,null,null,null,null,null,null,null,null,null,null,null,null,null,null,null,null,null,null,{"$f":"IF($AQ6=BN6,1,0)","v":1},{"$f":"IF($AW6=$BT6,1,0)","v":1},{"$f":"IF(BF6=CC6,1,0)","v":1},{"$f":"SUM($DP$34:$DR$39)","v":18},null,{"$f":"AQ6","v":72},{"$f":"AW6","v":1300}]
[null,1,null,null,null,null,null,"Video/USB direct connect host computers",null,null,null,null,null,null,null,null,null,null,null,null,null,null,null,null,null,null,null,null,null,null,null,null,null,null,null,null,null,null,null,null,null,null,{"$f":"IF(Hardware!$Z$8=Lists!$C$24,Hardware!AQ31,0)","v":0},null,null,{"$f":"CurrencySymbol","v":"US$"},null,null,{"$f":"Hardware!$AB$31","v":1300},null,null,null,null,null,{"$f":"CurrencySymbol","v":"US$"},null,null,{"$f":"AQ7*AW7","v":0},null,null,null,null,null,null,null,{"$f":"DU7","v":0},null,null,{"$f":"CurrencySymbol","v":"US$"},null,null,{"$f":"DV7","v":1300},null,null,null,null,null,{"$f":"CurrencySymbol","v":"US$"},null,null,{"$f":"BN7*BT7","v":0},null,null,null,null,null,null,null,null,null,null,null,null,null,null,null,null,null,null,null,null,null,null,null,null,null,null,null,null,null,null,null,null,null,null,null,null,null,null,{"$f":"IF($AQ7=BN7,1,0)","v":1},{"$f":"IF($AW7=$BT7,1,0)","v":1},{"$f":"IF(BF7=CC7,1,0)","v":1},null,null,{"$f":"AQ7","v":0},{"$f":"AW7","v":1300}]
[null,1,null,null,null,null,null,"USB direct connect host computers",null,null,null,null,null,null,null,null,null,null,null,null,null,null,null,null,null,null,null,null,null,null,null,null,null,null,null,null,null,null,null,null,null,null,{"$f":"IF(Hardware!$Z$8=Lists!$D$24,Hardware!AQ31,0)","v":0},null,null,{"$f":"CurrencySymbol","v":"US$"},null,null,{"$f":"Hardware!$AB$31","v":1300},null,null,null,null,null,{"$f":"CurrencySymbol","v":"US$"},null,null,{"$f":"AQ8*AW8","v":0},null,null,null,null,null,null,null,{"$f":"DU8","v":0},null,null,{"$f":"CurrencySymbol","v":"US$"},null,null,{"$f":"DV8","v":1300},null,null,null,null,null,{"$f":"CurrencySymbol","v":"US$"},null,null,0,null,null,null,null,null,null,null,null,null,null,null,null,null,null,null,null,null,null,null,null,null,null,null,null,null,null,null,null,null,null,null,null,null,null,null,null,null,null,1,1,1,null,null,{"$f":"AQ8","v":0},{"$f":"AW8","v":1300}]
[null,1,null,null,null,null,null,"PCs (includes monitor, mouse, keyboard)",null,null,null,null,null,null,null,null,null,null,null,null,null,null,null,null,null,null,null,null,null,null,null,null,null,null,null,null,null,null,null,null,null,null,null,null,null,null,null,null,null,null,null,null,null,null,null,null,null,null,null,null,null,null,null,null,null,null,null,null,null,null,null,null,null,null,null,null,null,null,null,null,null,null,null,null,null,null,null,null,{"$f":"DX9","v":1000},null,null,{"$f":"CurrencySymbol","v":"US$"},null,null,{"$f":"DY9","v":600},null,null,null,null,null,{"$f":"CurrencySymbol","v":"US$"},null,null,{"$f":"CK9*CQ9","v":600000},null,null,null,null,null,"?",null,null,null,null,null,null,null,null,null,1,1,1,null,null,null,null,null,{"$f":"Hardware!CT31","v":1000},{"$f":"Hardware!CE31","v":600}]
[null,1,null,null,null,null,null,null,null,null,null,null,null,null,null,null,null,null,null,null,null,null,null,null,null,null,null,null,null,null,null,null,null,null,null,null,null,null,null,null,null,null,null,null,null,null,null,null,null,null,null,null,null,null,null,null,null,null,null,null,null,null,null,null,null,null,null,null,null,null,null,null,null,null,null,null,null,null,null,null,null,null,null,null,null,null,null,null,null,null,null,null,null,null,null,null,null,null,null,null,null,null,null,null,null,null,null,null,null,null,null,null,null,null,null,null,null,null,null,1,1,1]
[null,1,null,null,null,null,null,"Monitors",null,null,null,null,null,null,null,null,null,null,null,null,null,null,null,null,null,null,null,null,null,null,null,null,null,null,null,null,null,null,null,null,null,null,{"$f":"Hardware!AQ32","v":1000},null,null,{"$f":"CurrencySymbol","v":"US$"},null,null,{"$f":"Hardware!$AB$32","v":100},null,null,null,null,null,{"$f":"CurrencySymbol","v":"US$"},null,null,{"$f":"Hardware!BD32","v":100000},null,null,null,null,null,null,null,{"$f":"DU11","v":1000},null,null,{"$f":"CurrencySymbol","v":"US$"},null,null,{"$f":"DV11","v":100},null,null,null,null,null,{"$f":"CurrencySymbol","v":"US$"},null,null,{"$f":"BN11*BT11","v":100000},null,null,null,null,null,null,null,{"$f":"DX11","v":1000},null,null,{"$f":"CurrencySymbol","v":"US$"},null,null,{"$f":"DY11","v":0},null,null,null,null,null,{"$f":"CurrencySymbol","v":"US$"},null,null,{"$f":"CK11*CQ11","v":0},null,null,null,null,null,null,null,null,null,null,null,null,null,null,null,1,1,1,null,null,{"$f":"AQ11","v":1000},{"$f":"AW11","v":100},null,{"$f":"CK9","v":1000},0]
[null,1,null,null,null,null,null,"Mouse and keyboards",null,null,null,null,null,null,null,null,null,null,null,null,null,null,null,null,null,null,null,null,null,null,null,null,null,null,null,null,null,null,null,null,null,null,{"$f":"Hardware!AQ33","v":1000},null,null,"US$",null,null,{"$f":"Hardware!$AB$33","v":20},null,null,null,null,null,"US$",null,null,{"$f":"Hardware!BD33","v":20000},null,null,null,null,null,null,null,1000,null,null,"US$",null,null,20,null,null,null,null,null,"US$",null,null,20000,null,null,null,null,null,null,null,1000,null,null,"US$",null,null,0,null,null,null,null,null,"US$",null,null,0,null,null,null,null,null,null,null,null,null,null,null,null,null,null,null,1,1,1,null,null,{"$f":"AQ12","v":1000},20,null,{"$f":"CK9","v":1000},0]
[null,1,null,null,null,null,null,"USB video adaptor/thin-client",null,null,null,null,null,null,null,null,null,null,null,null,null,null,null,null,null,null,null,null,null,null,null,null,null,null,null,null,null,null,null,null,null,null,{"$f":"Hardware!AQ34","v":0},null,null,"US$",null,null,{"$f":"Hardware!$AB$34","v":0},null,null,null,null,null,"US$",null,null,{"$f":"Hardware!BD34","v":0},null,null,null,null,null,null,null,0,null,null,"US$",null,null,0,null,null,null,null,null,"US$",null,null,0,null,null,null,null,null,null,null,0,null,null,"US$",null,null,0,null,null,null,null,null,"US$",null,null,0,null,null,null,null,null,null,null,null,null,null,null,null,null,null,null,1,1,1,null,null,{"$f":"IF(customconnection=1,BN8*stationsperhost,AQ13)","v":0},0,null,0,{"$f":"AW13","v":0}]
[null,1,null,null,null,null,null,"USB hubs",null,null,null,null,null,null,null,null,null,null,null,null,null,null,null,null,null,null,null,null,null,null,null,null,null,null,null,null,null,null,null,null,null,null,{"$f":"Hardware!AQ35","v":0},null,null,"US$",null,null,{"$f":"Hardware!$AB$35","v":20},null,null,null,null,null,"US$",null,null,{"$f":"Hardware!BD35","v":0},null,null,null,null,null,null,null,0,null,null,"US$",null,null,20,null,null,null,null,null,"US$",null,null,0,null,null,null,null,null,null,null,0,null,null,"US$",null,null,20,null,null,null,null,null,"US$",null,null,0,null,null,null,null,null,null,null,null,null,null,null,null,null,null,null,1,1,1,null,null,{"$f":"IF(customconnection=1,(BN8+BN7)*ROUNDUP(stationsperhost/10,0)+ROUNDUP(BN8*3*stationsperhost/10,0)+ROUNDUP(BN7*2*stationsperhost/10,0),AQ14)","v":0},20,null,0,{"$f":"AW14","v":20}]
[null,1,null,null,null,null,null,"Video cards",null,null,null,null,null,null,null,null,null,null,null,null,null,null,null,null,null,null,null,null,null,null,null,null,null,null,null,null,null,null,null,null,null,null,{"$f":"Hardware!AQ36","v":0},null,null,"US$",null,null,{"$f":"Hardware!$AB$36","v":0},null,null,null,null,null,"US$",null,null,{"$f":"Hardware!BD36","v":0},null,null,null,null,null,null,null,0,null,null,"US$",null,null,0,null,null,null,null,null,"US$",null,null,0,null,null,null,null,null,null,null,0,null,null,"US$",null,null,0,null,null,null,null,null,"US$",null,null,0,null,null,null,null,null,null,null,null,null,null,null,null,null,null,null,1,1,1,null,null,{"$f":"IF(customconnection=1,BN7*stationsperhost/2,AQ15)","v":0},0,null,0,{"$f":"AW15","v":0}]
[null,1,null,null,null,null,null,"Ethernet switches",null,null,null,null,null,null,null,null,null,null,null,null,null,null,null,null,null,null,null,null,null,null,null,null,null,null,null,null,null,null,null,null,null,null,{"$f":"Hardware!AQ37","v":42},null,null,"US$",null,null,{"$f":"Hardware!$AB$37","v":100},null,null,null,null,null,"US$",null,null,{"$f":"Hardware!BD37","v":4200},null,null,null,null,null,null,null,42,null,null,"US$",null,null,100,null,null,null,null,null,"US$",null,null,4200,null,null,null,null,null,null,null,42,null,null,"US$",null,null,50,null,null,null,null,null,"US$",null,null,2100,null,null,null,null,null,null,null,null,null,null,null,null,null,null,null,1,1,1,null,null,{"$f":"IF(customconnection=1,ROUNDUP(BN6*stationsperhost/24,0),AQ16)","v":42},100,null,{"$f":"ROUNDUP(CK9/24,0)","v":42},{"$f":"Hardware!CE37","v":50}]
[null,1,null,null,null,null,null,"LAN connected stations (desktop, laptop, RemoteFX, etc)",null,null,null,null,null,null,null,null,null,null,null,null,null,null,null,null,null,null,null,null,null,null,null,null,null,null,null,null,null,null,null,null,null,null,{"$f":"Hardware!AQ39+Hardware!AQ40","v":1000},null,null,"US$",null,null,{"$f":"IF((Hardware!AQ39+Hardware!AQ40)>0,(Hardware!AB39*Hardware!AQ39+Hardware!AB40*Hardware!AQ40)/(Hardware!AQ39+Hardware!AQ40),0)","v":100},null,null,null,null,null,"US$",null,null,{"$f":"AQ17*AW17","v":100000},null,null,null,null,null,null,null,1000,null,null,"US$",null,null,100,null,null,null,null,null,"US$",null,null,100000,null,null,null,null,null,null,null,null,null,null,null,null,null,null,null,null,null,null,null,null,null,null,null,null,null,null,null,null,null,null,null,null,null,null,null,null,null,null,1,1,1,null,null,{"$f":"IF(customconnection=1,IF(Calculations!AQ6*stationsperhost*IF(AV9=Lists!C29,0,1)>Users,Users,Calculations!AQ6*stationsperhost*IF(AV9=Lists!C29,0,1)),AQ17)","v":1000},100]
[null,null,null,null,null,null,null,"Other hardware cost",null,null,null,null,null,null,null,null,null,null,null,null,null,null,null,null,null,null,null,null,null,null,null,null,null,null,null,null,null,null,null,null,null,null,null,null,null,null,null,null,null,null,null,null,null,null,"US$",null,null,{"$f":"Hardware!BD41","v":0},null,null,null,null,null,null,null,null,null,null,null,null,null,null,null,null,null,null,null,"US$",null,null,{"$f":"DW18","v":0},null,null,null,null,null,null,null,null,null,null,null,null,null,null,null,null,null,null,null,{"$f":"CurrencySymbol","v":"US$"},null,null,{"$f":"DZ18","v":0},null,null,null,null,null,null,null,null,null,null,null,null,null,null,null,1,1,1,null,null,null,null,{"$f":"BF18","v":0},null,null,{"$f":"Hardware!DG41","v":0}]
[null,1,null,null,null,null,null,"Total Cost",null,null,null,null,null,null,null,null,null,null,null,null,null,null,null,null,null,null,null,null,null,null,null,null,null,null,null,null,null,null,null,null,null,null,null,null,null,null,null,null,null,null,null,null,null,null,"US$",null,null,{"$f":"Hardware!BD42","v":317800},null,null,null,null,null,null,null,null,null,null,null,null,null,null,null,null,null,null,null,"US$",null,null,{"$f":"SUM(CC6:CC18)","v":317800},null,null,null,null,null,null,null,null,null,null,null,null,null,null,null,null,null,null,null,{"$f":"CurrencySymbol","v":"US$"},null,null,{"$f":"SUM(CZ9:CZ18)","v":602100},null,null,null,null,null,null,null,null,null,null,null,null,null,null,null,1,1,1]
[null,1,null,null,null,null,null,"Software",null,null,null,null,null,null,null,null,null,null,null,null,null,null,null,null,null,null,null,null,null,null,null,null,null,null,null,null,null,null,null,null,null,null,"Count",null,null,"Cost",null,null,null,null,null,null,null,null,"Total",null,null,null,null,null,null,null,null,null,null,"Count",null,null,"Cost",null,null,null,null,null,null,null,null,"Total",null,null,null,null,null,null,null,null,null,null,"Count",null,null,"Cost",null,null,null,null,null,null,null,null,"Total",null,null,null,null,null,null,null,null,null,null,null,null,null,null,null,null,null,null,1,1,1]
[null,1,null,null,null,null,null,"Windows Client software",null,null,null,null,null,null,null,null,null,null,null,null,null,null,null,null,null,null,{"$f":"Software!$BH$9","v":"Perpetual"},null,null,null,null,null,null,null,null,null,null,null,null,null,null,null,null,null,null,null,null,null,null,null,null,null,null,null,null,null,null,null,null,null,null,null,null,null,null,null,null,null,null,null,null,null,null,null,null,null,null,null,null,null,null,null,null,null,null,null,null,null,{"$f":"DX21","v":1000},null,null,{"$f":"CurrencySymbol","v":"US$"},null,null,{"$f":"DY21","v":115},null,null,null,null,null,{"$f":"CurrencySymbol","v":"US$"},null,null,{"$f":"CK21*CQ21","v":115000},null,null,null,null,null,null,null,null,null,null,null,null,null,null,null,1,1,1,null,null,null,null,null,{"$f":"Hardware!CT31","v":1000},{"$f":"Software!BK18","v":115}]
[null,1,null,null,null,null,null,"Windows MultiPoint Server licenses",null,null,null,null,null,null,null,null,null,null,null,null,null,null,null,null,null,null,{"$f":"Software!$BH$9","v":"Perpetual"},null,null,null,null,null,null,null,null,null,null,null,null,null,null,null,{"$f":"Software!AJ22","v":72},null,null,{"$f":"CurrencySymbol","v":"US$"},null,null,{"$f":"Software!AP22","v":130},null,null,null,null,null,{"$f":"CurrencySymbol","v":"US$"},null,null,{"$f":"Software!AY22","v":9360},null,null,null,null,null,null,null,{"$f":"DU22","v":72},null,null,{"$f":"CurrencySymbol","v":"US$"},null,null,{"$f":"DV22","v":130},null,null,null,null,null,{"$f":"CurrencySymbol","v":"US$"},null,null,{"$f":"BN22*BT22","v":9360},null,null,null,null,null,null,null,null,null,null,null,null,null,null,null,null,null,null,null,null,null,null,null,null,null,null,null,null,null,null,null,null,null,null,null,null,null,null,1,1,1,null,null,{"$f":"IF(customconnection=1,BN7+BN8+BN6,AQ22)","v":72},{"$f":"AW22","v":130}]
[null,1,null,null,null,null,null,"Windows MultiPoint Server CALs",null,null,null,null,null,null,null,null,null,null,null,null,null,null,null,null,null,null,{"$f":"Software!$BH$9","v":"Perpetual"},null,null,null,null,null,null,null,null,null,null,null,null,null,null,null,{"$f":"Software!AJ23","v":1000},null,null,{"$f":"CurrencySymbol","v":"US$"},null,null,{"$f":"Software!AP23","v":29},null,null,null,null,null,{"$f":"CurrencySymbol","v":"US$"},null,null,{"$f":"Software!AY23","v":29000},null,null,null,null,null,null,null,{"$f":"DU23","v":1000},null,null,{"$f":"CurrencySymbol","v":"US$"},null,null,{"$f":"DV23","v":29},null,null,null,null,null,{"$f":"CurrencySymbol","v":"US$"},null,null,{"$f":"BN23*BT23","v":29000},null,null,null,null,null,null,null,null,null,null,null,null,null,null,null,null,null,null,null,null,null,null,null,null,null,null,null,null,null,null,null,null,null,null,null,null,null,null,1,1,1,null,null,{"$f":"AQ23","v":1000},{"$f":"AW23","v":29}]
[null,null,null,null,null,null,null,"Other software cost",null,null,null,null,null,null,null,null,null,null,null,null,null,null,null,null,null,null,null,null,null,null,null,null,null,null,null,null,null,null,null,null,null,null,null,null,null,null,null,null,null,null,null,null,null,null,{"$f":"CurrencySymbol","v":"US$"},null,null,{"$f":"Software!AY24","v":0},null,null,null,null,null,null,null,null,null,null,null,null,null,null,null,null,null,null,null,{"$f":"CurrencySymbol","v":"US$"},null,null,{"$f":"DW24","v":0},null,null,null,null,null,null,null,null,null,null,null,null,null,null,null,null,null,null,null,{"$f":"CurrencySymbol","v":"US$"},null,null,{"$f":"DZ24","v":0},null,null,null,null,null,null,null,null,null,null,null,null,null,null,null,1,1,1,null,null,null,null,{"$f":"BF24","v":0},null,null,{"$f":"Software!CY24","v":0}]
[null,1,null,null,null,null,null,{"$f":"IF(Software!BH9=Lists!B35,\"Total Annual Cost\",\"Total Cost\")","v":"Total Cost"},null,null,null,null,null,null,null,null,null,null,null,null,null,null,null,null,null,null,null,null,null,null,null,null,null,null,null,null,null,null,null,null,null,null,null,null,null,null,null,null,null,null,null,null,null,null,{"$f":"CurrencySymbol","v":"US$"},null,null,{"$f":"Software!AY25","v":38360},null,null,null,null,null,null,null,null,null,null,null,null,null,null,null,null,null,null,null,{"$f":"CurrencySymbol","v":"US$"},null,null,{"$f":"SUM(CC22:CH24)","v":38360},null,null,null,null,null,null,null,null,null,null,null,null,null,null,null,null,null,null,null,{"$f":"CurrencySymbol","v":"US$"},null,null,{"$f":"SUM(CZ21:CZ24)","v":115000},null,null,null,null,null,null,null,null,null,null,null,null,null,null,null,1,1,1]
[null,1,null,null,null,null,null,null,null,null,null,null,null,null,null,null,null,null,null,null,null,null,null,null,null,null,null,null,null,null,null,null,null,null,null,null,null,null,null,null,null,null,null,null,null,null,null,null,null,null,null,null,null,null,null,null,null,null,null,null,null,null,null,null,null,null,null,null,null,null,null,null,null,null,null,null,null,null,null,null,null,null,null,null,null,null,null,null,null,null,null,null,null,null,null,null,null,null,null,null,null,null,null,null,null,null,null,null,null,null,null,null,null,null,null,null,null,null,null,1,1,1]
[null,1,null,null,null,null,null,"Deployment and Configuration",null,null,null,null,null,null,null,null,null,null,null,null,null,null,null,null,null,null,null,null,null,null,null,null,null,null,null,null,null,null,null,null,null,null,"Hours",null,null,"Cost per hour",null,null,null,null,null,null,null,null,"Total",null,null,null,null,null,null,null,null,null,null,"Hours",null,null,"Cost per hour",null,null,null,null,null,null,null,null,"Total",null,null,null,null,null,null,null,null,null,null,"Hours",null,null,"Cost per hour",null,null,null,null,null,null,null,null,"Total",null,null,null,null,null,null,null,null,null,null,null,null,null,null,null,null,null,null,1,1,1]
[null,1,null,null,null,null,null,"Ethernet cabling (if new building)",null,null,null,null,null,null,null,null,null,null,null,null,null,null,null,null,null,null,null,null,null,null,null,null,null,null,null,null,null,null,null,null,null,null,null,null,null,null,null,null,null,null,null,null,null,null,{"$f":"CurrencySymbol","v":"US$"},null,null,{"$f":"Deployment!$BK$7","v":100},null,null,null,null,null,null,null,null,null,null,null,null,null,null,null,null,null,null,null,{"$f":"CurrencySymbol","v":"US$"},null,null,{"$f":"DW28","v":100},null,null,null,null,null,null,null,null,null,null,null,null,null,null,null,null,null,null,null,{"$f":"CurrencySymbol","v":"US$"},null,null,{"$f":"DZ28","v":100},null,null,null,null,null,null,null,null,null,null,null,null,null,null,null,1,1,1,null,null,null,null,{"$f":"BF28","v":100},null,null,{"$f":"Deployment!$BK$6","v":100}]
[null,1,null,null,null,null,null,"Software deployment",null,null,null,null,null,null,null,null,null,null,null,null,null,null,null,null,null,null,null,null,null,null,null,null,null,null,null,null,null,null,null,null,null,null,{"$f":"Deployment!$BK$5*(Calculations!$AQ$7+Calculations!$AQ$8+Calculations!$AQ$6)","v":72},null,null,{"$f":"CurrencySymbol","v":"US$"},null,null,{"$f":"costperhour","v":52.083333333333336},null,null,null,null,null,{"$f":"CurrencySymbol","v":"US$"},null,null,{"$f":"AQ29*AW29","v":3750},null,null,null,null,null,null,null,{"$f":"DU29","v":72},null,null,{"$f":"CurrencySymbol","v":"US$"},null,null,{"$f":"DV29","v":52.083333333333336},null,null,null,null,null,{"$f":"CurrencySymbol","v":"US$"},null,null,{"$f":"BN29*BT29","v":3750},null,null,null,null,null,null,null,{"$f":"DX29","v":1000},null,null,{"$f":"CurrencySymbol","v":"US$"},null,null,{"$f":"DY29","v":52.083333333333336},null,null,null,null,null,{"$f":"CurrencySymbol","v":"US$"},null,null,{"$f":"CK29*CQ29","v":52083.333333333336},null,null,null,null,null,null,null,null,null,null,null,null,null,null,null,1,1,1,null,null,{"$f":"Deployment!BK5*(Calculations!BN7+Calculations!BN8+Calculations!BN6)","v":72},{"$f":"AW29","v":52.083333333333336},null,{"$f":"Deployment!$BK$5*Calculations!$CK$9","v":1000},{"$f":"costperhour","v":52.083333333333336}]
[null,null,null,null,null,null,null,"Other deployment cost",null,null,null,null,null,null,null,null,null,null,null,null,null,null,null,null,null,null,null,null,null,null,null,null,null,null,null,null,null,null,null,null,null,null,null,null,null,null,null,null,null,null,null,null,null,null,{"$f":"CurrencySymbol","v":"US$"},null,null,{"$f":"Deployment!BC16","v":0},null,null,null,null,null,null,null,null,null,null,null,null,null,null,null,null,null,null,null,{"$f":"CurrencySymbol","v":"US$"},null,null,{"$f":"DW30","v":0},null,null,null,null,null,null,null,null,null,null,null,null,null,null,null,null,null,null,null,{"$f":"CurrencySymbol","v":"US$"},null,null,{"$f":"DZ30","v":0},null,null,null,null,null,null,null,null,null,null,null,null,null,null,null,1,1,1,null,null,null,null,{"$f":"BF30","v":0},null,null,{"$f":"Deployment!DF16","v":0}]
[null,1,null,null,null,null,null,"Total Cost",null,null,null,null,null,null,null,null,null,null,null,null,null,null,null,null,null,null,null,null,null,null,null,null,null,null,null,null,null,null,null,null,null,null,null,null,null,null,null,null,null,null,null,null,null,null,{"$f":"CurrencySymbol","v":"US$"},null,null,{"$f":"Deployment!BC17","v":3850},null,null,null,null,null,null,null,null,null,null,null,null,null,null,null,null,null,null,null,{"$f":"CurrencySymbol","v":"US$"},null,null,{"$f":"SUM(CC28:CH30)","v":3850},null,null,null,null,null,null,null,null,null,null,null,null,null,null,null,null,null,null,null,{"$f":"CurrencySymbol","v":"US$"},null,null,{"$f":"SUM(CZ28:DE30)","v":52183.333333333336},null,null,null,null,null,null,null,null,null,null,null,null,null,null,null,1,1,1]
[null,1,null,null,null,null,null,null,null,null,null,null,null,null,null,null,null,null,null,null,null,null,null,null,null,null,null,null,null,null,null,null,null,null,null,null,null,null,null,null,null,null,null,null,null,null,null,null,null,null,null,null,null,null,null,null,null,null,null,null,null,null,null,null,null,null,null,null,null,null,null,null,null,null,null,null,null,null,null,null,null,null,null,null,null,null,null,null,null,null,null,null,null,null,null,null,null,null,null,null,null,null,null,null,null,null,null,null,null,null,null,null,null,null,null,null,null,null,null,1,1,1]
[null,1,null,null,null,null,null,"Operations",null,null,null,null,null,null,null,null,null,null,null,null,null,null,null,null,null,null,null,null,null,null,null,null,null,null,null,null,null,null,null,null,null,null,null,null,null,"Cost",null,null,null,null,null,null,null,null,"Total",null,null,null,null,null,null,null,null,null,null,null,null,null,"Cost",null,null,null,null,null,null,null,null,"Total",null,null,null,null,null,null,null,null,null,null,null,null,null,"Cost",null,null,null,null,null,null,null,null,"Total",null,null,null,null,null,null,null,null,null,null,null,null,null,null,null,null,null,null,1,1,1]
[null,1,null,null,null,null,null,"Power consumption",null,null,null,null,null,null,null,null,null,null,null,null,null,null,null,null,null,null,null,null,null,null,null,null,null,null,null,null,null,null,null,null,null,null,null,null,null,{"$f":"CurrencySymbol","v":"US$"},null,null,{"$f":"Operations!BC36","v":5903.27808},null,null,null,null,null,{"$f":"CurrencySymbol","v":"US$"},null,null,{"$f":"AW34","v":5903.27808},null,null,null,null,null,null,null,null,null,null,{"$f":"CurrencySymbol","v":"US$"},null,null,{"$f":"DV34","v":5903.27808},null,null,null,null,null,{"$f":"CurrencySymbol","v":"US$"},null,null,{"$f":"BT34","v":5903.27808},null,null,null,null,null,null,null,null,null,null,{"$f":"CurrencySymbol","v":"US$"},null,null,{"$f":"DY34","v":21558.190079999997},null,null,null,null,null,{"$f":"CurrencySymbol","v":"US$"},null,null,{"$f":"CQ34","v":21558.190079999997},null,null,null,null,null,null,null,null,null,null,null,null,null,null,null,1,1,1,null,null,null,{"$f":"MPpowercost","v":5903.27808},null,null,{"$f":"TDpowercost","v":21558.190079999997}]
[null,1,null,null,null,null,null,"Hardware maintenance",null,null,null,null,null,null,null,null,null,null,null,null,null,null,null,null,null,null,null,null,null,null,null,null,null,null,null,null,null,null,null,null,null,null,null,null,null,{"$f":"CurrencySymbol","v":"US$"},null,null,{"$f":"Operations!BC39","v":3600},null,null,null,null,null,{"$f":"CurrencySymbol","v":"US$"},null,null,{"$f":"AW35","v":3600},null,null,null,null,null,null,null,null,null,null,{"$f":"CurrencySymbol","v":"US$"},null,null,{"$f":"DV35","v":3600},null,null,null,null,null,{"$f":"CurrencySymbol","v":"US$"},null,null,{"$f":"BT35","v":3600},null,null,null,null,null,null,null,null,null,null,{"$f":"CurrencySymbol","v":"US$"},null,null,{"$f":"DY35","v":50000},null,null,null,null,null,{"$f":"CurrencySymbol","v":"US$"},null,null,{"$f":"CQ35","v":50000},null,null,null,null,null,null,null,null,null,null,null,null,null,null,null,1,1,1,null,null,null,{"$f":"AW35","v":3600},null,null,{"$f":"Operations!$BK$9*(Calculations!CK9)","v":50000}]
[null,1,null,null,null,null,null,null,null,null,null,null,null,null,null,null,null,null,null,null,null,null,null,null,null,null,null,null,null,null,null,null,null,null,null,null,null,null,null,null,null,null,"Hours",null,null,"Cost per hour",null,null,null,null,null,null,null,null,"Total",null,null,null,null,null,null,null,null,null,null,"Hours",null,null,"Cost per hour",null,null,null,null,null,null,null,null,"Total",null,null,null,null,null,null,null,null,null,null,"Hours",null,null,"Cost per hour",null,null,null,null,null,null,null,null,"Total",null,null,null,null,null,null,null,null,null,null,null,null,null,null,null,null,null,null,1,1,1]
[null,1,null,null,null,null,null,"System management and updates",null,null,null,null,null,null,null,null,null,null,null,null,null,null,null,null,null,null,null,null,null,null,null,null,null,null,null,null,null,null,null,null,null,null,{"$f":"Operations!BK8*(AQ6+AQ8+AQ7)","v":144},null,null,{"$f":"CurrencySymbol","v":"US$"},null,null,{"$f":"costperhour","v":52.083333333333336},null,null,null,null,null,{"$f":"CurrencySymbol","v":"US$"},null,null,{"$f":"AW37*AQ37","v":7500},null,null,null,null,null,null,null,{"$f":"DU37","v":144},null,null,{"$f":"CurrencySymbol","v":"US$"},null,null,{"$f":"DV37","v":52.083333333333336},null,null,null,null,null,{"$f":"CurrencySymbol","v":"US$"},null,null,{"$f":"BN37*BT37","v":7500},null,null,null,null,null,null,null,{"$f":"DX37","v":2000},null,null,{"$f":"CurrencySymbol","v":"US$"},null,null,{"$f":"DY37","v":52.083333333333336},null,null,null,null,null,{"$f":"CurrencySymbol","v":"US$"},null,null,{"$f":"CK37*CQ37","v":104166.66666666667},null,null,null,null,null,null,null,null,null,null,null,null,null,null,null,1,1,1,null,null,{"$f":"Operations!BK8*(BN6+BN8+BN7)","v":144},{"$f":"AW37","v":52.083333333333336},null,{"$f":"Operations!BK8*CK9","v":2000},{"$f":"Operations!$BK$7","v":52.083333333333336}]
[null,null,null,null,null,null,null,"Other operations cost",null,null,null,null,null,null,null,null,null,null,null,null,null,null,null,null,null,null,null,null,null,null,null,null,null,null,null,null,null,null,null,null,null,null,null,null,null,null,null,null,null,null,null,null,null,null,{"$f":"CurrencySymbol","v":"US$"},null,null,{"$f":"Operations!BC44","v":0},null,null,null,null,null,null,null,null,null,null,null,null,null,null,null,null,null,null,null,{"$f":"CurrencySymbol","v":"US$"},null,null,{"$f":"DW38","v":0},null,null,null,null,null,null,null,null,null,null,null,null,null,null,null,null,null,null,null,{"$f":"CurrencySymbol","v":"US$"},null,null,{"$f":"DZ38","v":0},null,null,null,null,null,null,null,null,null,null,null,null,null,null,null,1,1,1,null,null,null,null,{"$f":"BF38","v":0},null,null,{"$f":"Operations!DF44","v":0}]
[{"$f":"IF(OR(LicenseType = Lists!#REF!,LicenseType=Lists!#REF!,LicenseType=Lists!#REF!),1,0)","v":{"$error":"#REF!"}},1,null,null,null,null,null,"Total Annual Cost",null,null,null,null,null,null,null,null,null,null,null,null,null,null,null,null,null,null,null,null,null,null,null,null,null,null,null,null,null,null,null,null,null,null,null,null,null,null,null,null,null,null,null,null,null,null,{"$f":"CurrencySymbol","v":"US$"},null,null,{"$f":"Operations!BC45","v":17003.27808},null,null,null,null,null,null,null,null,null,null,null,null,null,null,null,null,null,null,null,{"$f":"CurrencySymbol","v":"US$"},null,null,{"$f":"SUM(CC34:CC38)","v":17003.27808},null,null,null,null,null,null,null,null,null,null,null,null,null,null,null,null,null,null,null,{"$f":"CurrencySymbol","v":"US$"},null,null,{"$f":"SUM(CZ34:CZ38)","v":175724.85674666666},null,null,null,null,null,null,null,null,null,null,null,null,null,null,null,1,1,1]
[{"$f":"IF(OR(LicenseType=Lists!#REF!,LicenseType=Lists!#REF!,LicenseType=Lists!#REF!,LicenseType = Lists!#REF!), 0,1)","v":{"$error":"#REF!"}},null,null,null,null,null,null,null,null,null,null,null,null,null,null,null,null,null,null,null,null,null,null,null,null,null,null,null,null,null,null,null,null,null,null,null,null,null,null,null,null,null,null,null,null,null,null,null,null,null,null,null,null,null,null,null,null,null,null,null,null,null,null,null,null,null,null,null,null,null,null,null,null,null,null,null,null,null,null,null,null,null,null,null,null,null,null,null,null,null,null,null,null,null,null,null,null,null,null,null,null,null,null,null,null,null,null,null,null,null,null,null,null,null,null,null,null,null,null,{"$f":"SUM(DP6:DP39)","v":34},{"$f":"SUM(DQ6:DQ39)","v":34},34,{"$f":"SUM(DP40:DR40)","v":102}]
[0]
[1]
[{"$f":"IF(OR(LicenseType = Lists!#REF!,LicenseType = Lists!#REF!),1,0)","v":{"$error":"#REF!"}}]
[{"$f":"IF(OR(LicenseType = Lists!#REF!,LicenseType = Lists!#REF!),0,0)","v":{"$error":"#REF!"}}]
[]
[]
[1]

{"sheet":"Account Team Inputs","index":9,"n_rows":13,"n_cols":53,"rows_kept":13,"cut":false,"hidden":false,"merged":[[8,43,8,50],[3,43,3,50],[6,43,6,50],[2,52,2,59],[1,7,1,82],[5,43,5,50],[5,52,5,59],[4,43,4,50],[2,43,2,50],[3,52,3,59],[8,52,8,59],[4,52,4,59],[6,52,6,59],[12,43,12,50],[12,52,12,59],[10,43,10,50],[11,43,11,50],[9,43,9,50],[9,52,9,59],[10,52,10,59],[11,52,11,59]]}
[]
[null,null,null,null,null,null,null,{"$f":"Lists!F14","v":"Software Pricing"}]
[null,null,null,null,null,null,null,"Academic",null,null,null,null,null,null,null,null,null,null,null,null,null,null,null,null,null,null,null,null,null,null,null,null,null,null,null,null,null,null,null,null,null,null,null,{"$f":"Text!B47","v":"License Only"},null,null,null,null,null,null,null,null,"Subscription - Annual price"]
[null,null,null,null,null,null,null,"Windows MultiPoint Server 2011 Premium",null,null,null,null,null,null,null,null,null,null,null,null,null,null,null,null,null,null,null,null,null,null,null,null,null,null,null,null,null,null,null,null,null,null,null,{"$f":"115*rate1","v":115},null,null,null,null,null,null,null,null,{"$f":"43*rate1","v":43}]
[null,null,null,null,null,null,null,"Windows MultiPoint Server 2011 CAL w/ Windows Server 2008 CAL",null,null,null,null,null,null,null,null,null,null,null,null,null,null,null,null,null,null,null,null,null,null,null,null,null,null,null,null,null,null,null,null,null,null,null,{"$f":"29*rate1","v":29},null,null,null,null,null,null,null,null,{"$f":"11*rate1","v":11}]
[null,null,null,null,null,null,null,"Windows MultiPoint Server 2011 CAL",null,null,null,null,null,null,null,null,null,null,null,null,null,null,null,null,null,null,null,null,null,null,null,null,null,null,null,null,null,null,null,null,null,null,null,{"$f":"22*rate1","v":22},null,null,null,null,null,null,null,null,{"$f":"8*rate1","v":8}]
[null,null,null,null,null,null,null,"Windows Client",null,null,null,null,null,null,null,null,null,null,null,null,null,null,null,null,null,null,null,null,null,null,null,null,null,null,null,null,null,null,null,null,null,null,null,{"$f":"115*rate1","v":115},null,null,null,null,null,null,null,null,{"$f":"30*rate1","v":30}]
[null,null,null,null,null,null,null,"Business"]
[null,null,null,null,null,null,null,"Windows MultiPoint Server 2011 Premium",null,null,null,null,null,null,null,null,null,null,null,null,null,null,null,null,null,null,null,null,null,null,null,null,null,null,null,null,null,null,null,null,null,null,null,{"$f":"817*rate1","v":817},null,null,null,null,null,null,null,null,{"$f":"323*rate1","v":323}]
[null,null,null,null,null,null,null,"Windows MultiPoint Server 2011 Standard",null,null,null,null,null,null,null,null,null,null,null,null,null,null,null,null,null,null,null,null,null,null,null,null,null,null,null,null,null,null,null,null,null,null,null,{"$f":"330*rate1","v":330},null,null,null,null,null,null,null,null,{"$f":"131*rate1","v":131}]
[null,null,null,null,null,null,null,"Windows MultiPoint Server 2011 CAL w/ Windows Server 2008 CAL",null,null,null,null,null,null,null,null,null,null,null,null,null,null,null,null,null,null,null,null,null,null,null,null,null,null,null,null,null,null,null,null,null,null,null,{"$f":"139*rate1","v":139},null,null,null,null,null,null,null,null,{"$f":"55*rate1","v":55}]
[null,null,null,null,null,null,null,"Windows MultiPoint Server 2011 CAL",null,null,null,null,null,null,null,null,null,null,null,null,null,null,null,null,null,null,null,null,null,null,null,null,null,null,null,null,null,null,null,null,null,null,null,{"$f":"110*rate1","v":110},null,null,null,null,null,null,null,null,{"$f":"44*rate1","v":44}]
[null,null,null,null,null,null,null,"Windows Client",null,null,null,null,null,null,null,null,null,null,null,null,null,null,null,null,null,null,null,null,null,null,null,null,null,null,null,null,null,null,null,null,null,null,null,{"$f":"199*rate1","v":199},null,null,null,null,null,null,null,null,{"$f":"50*rate1","v":50}]

{"sheet":"Hardware Info","index":10,"n_rows":57,"n_cols":164,"rows_kept":57,"cut":false,"hidden":false,"merged":[[1,7,1,107]]}
[]
[null,null,null,null,null,null,null,{"$f":"Lists!H14","v":"Hardware Configuration Information"}]
[]
[null,null,null,null,null,null,null,"Hardware"]
[null,null,null,null,null,null,null,"There are several different ways to configure the hardware for Windows MultiPoint Server.  The configuration depends on price and performance considerations."]
[]
[]
[]
[]
[]
[]
[]
[]
[]
[]
[]
[]
[]
[]
[]
[]
[]
[]
[]
[]
[null,null,null,null,null,null,null,"Use USB device to connect the monitor, keyboard and mouse",null,null,null,null,null,null,null,null,null,null,null,null,null,null,null,null,null,null,null,null,null,null,null,null,null,null,null,null,null,null,"Use Video cards for video connection",null,null,null,null,null,null,null,null,null,null,null,null,null,null,null,null,null,null,null,null,null,null,null,null,null,null,null,null,null,null,"Connect stations through the network"]
[null,null,null,null,null,null,null,null,null,null,null,null,null,null,null,null,null,null,null,null,null,null,null,null,null,null,null,null,null,null,null,null,null,null,null,null,null,null,"Connect keyboard and mouse though USB hubs"]
[null,null,null,null,null,null,null,"Advantages",null,null,null,null,null,null,null,null,null,null,null,null,null,null,null,null,null,null,null,null,null,null,null,null,null,null,null,null,null,null,"Advantages",null,null,null,null,null,null,null,null,null,null,null,null,null,null,null,null,null,null,null,null,null,null,null,null,null,null,null,null,null,null,"Advantages"]
[null,null,null,null,null,null,null,"Easy to scale though a USB hub",null,null,null,null,null,null,null,null,null,null,null,null,null,null,null,null,null,null,null,null,null,null,null,null,null,null,null,null,null,null,"Good for video-based applications",null,null,null,null,null,null,null,null,null,null,null,null,null,null,null,null,null,null,null,null,null,null,null,null,null,null,null,null,null,null,"Repurpose existing hardware"]
[null,null,null,null,null,null,null,"Can use low-cost computer for server",null,null,null,null,null,null,null,null,null,null,null,null,null,null,null,null,null,null,null,null,null,null,null,null,null,null,null,null,null,null,"Good cost/performance",null,null,null,null,null,null,null,null,null,null,null,null,null,null,null,null,null,null,null,null,null,null,null,null,null,null,null,null,null,null,"Best performance (with RemoteFX devices)"]
[null,null,null,null,null,null,null,null,null,null,null,null,null,null,null,null,null,null,null,null,null,null,null,null,null,null,null,null,null,null,null,null,null,null,null,null,null,null,null,null,null,null,null,null,null,null,null,null,null,null,null,null,null,null,null,null,null,null,null,null,null,null,null,null,null,null,null,null,null,"No distance limitations"]
[null,null,null,null,null,null,null,null,null,null,null,null,null,null,null,null,null,null,null,null,null,null,null,null,null,null,null,null,null,null,null,null,null,null,null,null,null,null,null,null,null,null,null,null,null,null,null,null,null,null,null,null,null,null,null,null,null,null,null,null,null,null,null,null,null,null,null,null,null,"Can be deployed as hybrid with directly connected devices"]
[{"$f":"IF(OR(LicenseType = Lists!#REF!,LicenseType=Lists!#REF!,LicenseType=Lists!#REF!),1,0)","v":{"$error":"#REF!"}},null,null,null,null,null,null,"Disadvantages",null,null,null,null,null,null,null,null,null,null,null,null,null,null,null,null,null,null,null,null,null,null,null,null,null,null,null,null,null,null,"Disadvantages",null,null,null,null,null,null,null,null,null,null,null,null,null,null,null,null,null,null,null,null,null,null,null,null,null,null,null,null,null,null,"Disadvantages"]
[{"$f":"IF(OR(LicenseType=Lists!#REF!,LicenseType=Lists!#REF!,LicenseType=Lists!#REF!,LicenseType = Lists!#REF!), 0,1)","v":{"$error":"#REF!"}},null,null,null,null,null,null,"Video performance is limited",null,null,null,null,null,null,null,null,null,null,null,null,null,null,null,null,null,null,null,null,null,null,null,null,null,null,null,null,null,null,"Host computer must be able to handle multiple video cards",null,null,null,null,null,null,null,null,null,null,null,null,null,null,null,null,null,null,null,null,null,null,null,null,null,null,null,null,null,null,"Requires network cables and switches"]
[0,null,null,null,null,null,null,"Must buy USB device for each user",null,null,null,null,null,null,null,null,null,null,null,null,null,null,null,null,null,null,null,null,null,null,null,null,null,null,null,null,null,null,"Two cables for each station",null,null,null,null,null,null,null,null,null,null,null,null,null,null,null,null,null,null,null,null,null,null,null,null,null,null,null,null,null,null,"Station hardware may be more expensive"]
[1,null,null,null,null,null,null,"Deploment limited by length of USB cable (up to 5 meters)",null,null,null,null,null,null,null,null,null,null,null,null,null,null,null,null,null,null,null,null,null,null,null,null,null,null,null,null,null,null,"Deploment limited by length of cables (up to 5 meters)"]
[]
[]
[]
[null,null,null,null,null,null,null,null,null,null,null,null,null,null,null,null,null,null,null,null,null,null,null,null,null,null,null,null,null,null,null,null,null,null,null,null,null,null,null,null,null,null,null,null,null,null,null,null,null,null,null,null,null,null,null,null,null,null,null,null,null,null,null,null,null,null,null,null,null,null,null,null,null,null,null,null,null,null,null,null,null,null,null,null,null,null,null,null,null,null,null,null,null,null,null,null,null,null,null,null,null,null,null,null,null,null,null,null,null,null,null,null,null,null,null,null,null,null,null,null,null,null,null,null,null,null,null,null,null,null,null,null,null,null,null,null,null,null,null,null,null,null,null,null,null,null,null,null,null,null,null,null,null,null,null,null,null,null,null,{"$f":"'Country information'!N39","v":"Cape Verde Island"},{"$f":"'Country information'!C39","v":"escudo"},{"$f":"'Country information'!D39","v":"C.V.Esc."},{"$f":"'Country information'!E39","v":74.31},{"$f":"'Country information'!F39","v":39413}]
[null,null,null,null,null,null,null,null,null,null,null,null,null,null,null,null,null,null,null,null,null,null,null,null,null,null,null,null,null,null,null,null,null,null,null,null,null,null,null,null,null,null,null,null,null,null,null,null,null,null,null,null,null,null,null,null,null,null,null,null,null,null,null,null,null,null,null,null,null,null,null,null,null,null,null,null,null,null,null,null,null,null,null,null,null,null,null,null,null,null,null,null,null,null,null,null,null,null,null,null,null,null,null,null,null,null,null,null,null,null,null,null,null,null,null,null,null,null,null,null,null,null,null,null,null,null,null,null,null,null,null,null,null,null,null,null,null,null,null,null,null,null,null,null,null,null,null,null,null,null,null,null,null,null,null,null,null,null,null,{"$f":"'Country information'!N40","v":"Cayman Islands"},{"$f":"'Country information'!C40","v":"dollar"},{"$f":"'Country information'!D40","v":"CI$"},{"$f":"'Country information'!E40","v":0.82},{"$f":"'Country information'!F40","v":40592.406006944446}]
[null,null,null,null,null,null,null,null,null,null,null,null,null,null,null,null,null,null,null,null,null,null,null,null,null,null,null,null,null,null,null,null,null,null,null,null,null,null,null,null,null,null,null,null,null,null,null,null,null,null,null,null,null,null,null,null,null,null,null,null,null,null,null,null,null,null,null,null,null,null,null,null,null,null,null,null,null,null,null,null,null,null,null,null,null,null,null,null,null,null,null,null,null,null,null,null,null,null,null,null,null,null,null,null,null,null,null,null,null,null,null,null,null,null,null,null,null,null,null,null,null,null,null,null,null,null,null,null,null,null,null,null,null,null,null,null,null,null,null,null,null,null,null,null,null,null,null,null,null,null,null,null,null,null,null,null,null,null,null,{"$f":"'Country information'!N41","v":"Central African Republic"},{"$f":"'Country information'!C41","v":"franc"},{"$f":"'Country information'!D41","v":"CFAF"},{"$f":"'Country information'!E41","v":503.3},{"$f":"'Country information'!F41","v":40592.406006944446}]
[null,null,null,null,null,null,null,null,null,null,null,null,null,null,null,null,null,null,null,null,null,null,null,null,null,null,null,null,null,null,null,null,null,null,null,null,null,null,null,null,null,null,null,null,null,null,null,null,null,null,null,null,null,null,null,null,null,null,null,null,null,null,null,null,null,null,null,null,null,null,null,null,null,null,null,null,null,null,null,null,null,null,null,null,null,null,null,null,null,null,null,null,null,null,null,null,null,null,null,null,null,null,null,null,null,null,null,null,null,null,null,null,null,null,null,null,null,null,null,null,null,null,null,null,null,null,null,null,null,null,null,null,null,null,null,null,null,null,null,null,null,null,null,null,null,null,null,null,null,null,null,null,null,null,null,null,null,null,null,{"$f":"'Country information'!N42","v":"Chad"},{"$f":"'Country information'!C42","v":"franc"},{"$f":"'Country information'!D42","v":"CFAF"},{"$f":"'Country information'!E42","v":503.3},{"$f":"'Country information'!F42","v":40592.406006944446}]
[]
[null,null,null,null,null,null,null,null,null,null,null,null,null,null,null,null,null,null,null,null,null,null,null,null,null,null,null,null,null,null,null,null,null,null,null,null,null,null,null,null,null,null,null,null,null,null,null,null,null,null,null,null,null,null,null,null,null,null,null,null,null,null,null,null,null,null,null,null,null,null,null,null,null,null,null,null,null,null,null,null,null,null,null,null,null,null,null,null,null,null,null,null,null,null,null,null,null,null,null,null,null,null,null,null,null,null,null,null,null,null,null,null,null,null,null,null,null,null,null,null,null,null,null,null,null,null,null,null,null,null,null,null,null,null,null,null,null,null,null,null,null,null,null,null,null,null,null,null,null,null,null,null,null,null,null,null,null,null,null,{"$f":"'Country information'!N44","v":"China"},{"$f":"'Country information'!C44","v":"yuan renminbi"},{"$f":"'Country information'!D44","v":"¥"},{"$f":"'Country information'!E44","v":6.67},{"$f":"'Country information'!F44","v":40592.406006944446}]
[null,null,null,null,null,null,null,null,null,null,null,null,null,null,null,null,null,null,null,null,null,null,null,null,null,null,null,null,null,null,null,null,null,null,null,null,null,null,null,null,null,null,null,null,null,null,null,null,null,null,null,null,null,null,null,null,null,null,null,null,null,null,null,null,null,null,null,null,null,null,null,null,null,null,null,null,null,null,null,null,null,null,null,null,null,null,null,null,null,null,null,null,null,null,null,null,null,null,null,null,null,null,null,null,null,null,null,null,null,null,null,null,null,null,null,null,null,null,null,null,null,null,null,null,null,null,null,null,null,null,null,null,null,null,null,null,null,null,null,null,null,null,null,null,null,null,null,null,null,null,null,null,null,null,null,null,null,null,null,{"$f":"'Country information'!N45","v":"Christmas Island"},{"$f":"'Country information'!C45","v":"dollar"},{"$f":"'Country information'!D45","v":"A$"},{"$f":"'Country information'!E45","v":1.04},{"$f":"'Country information'!F45","v":40592.406053240738}]
[null,null,null,null,null,null,null,null,null,null,null,null,null,null,null,null,null,null,null,null,null,null,null,null,null,null,null,null,null,null,null,null,null,null,null,null,null,null,null,null,null,null,null,null,null,null,null,null,null,null,null,null,null,null,null,null,null,null,null,null,null,null,null,null,null,null,null,null,null,null,null,null,null,null,null,null,null,null,null,null,null,null,null,null,null,null,null,null,null,null,null,null,null,null,null,null,null,null,null,null,null,null,null,null,null,null,null,null,null,null,null,null,null,null,null,null,null,null,null,null,null,null,null,null,null,null,null,null,null,null,null,null,null,null,null,null,null,null,null,null,null,null,null,null,null,null,null,null,null,null,null,null,null,null,null,null,null,null,null,{"$f":"'Country information'!N46","v":"Cocos (Keeling) Islands"},{"$f":"'Country information'!C46","v":"dollar"},{"$f":"'Country information'!D46","v":"A$"},{"$f":"'Country information'!E46","v":1.04},{"$f":"'Country information'!F46","v":40592.406053240738}]
[null,null,null,null,null,null,null,null,null,null,null,null,null,null,null,null,null,null,null,null,null,null,null,null,null,null,null,null,null,null,null,null,null,null,null,null,null,null,null,null,null,null,null,null,null,null,null,null,null,null,null,null,null,null,null,null,null,null,null,null,null,null,null,null,null,null,null,null,null,null,null,null,null,null,null,null,null,null,null,null,null,null,null,null,null,null,null,null,null,null,null,null,null,null,null,null,null,null,null,null,null,null,null,null,null,null,null,null,null,null,null,null,null,null,null,null,null,null,null,null,null,null,null,null,null,null,null,null,null,null,null,null,null,null,null,null,null,null,null,null,null,null,null,null,null,null,null,null,null,null,null,null,null,null,null,null,null,null,null,{"$f":"'Country information'!N47","v":"Colombia"},{"$f":"'Country information'!C47","v":"peso"},{"$f":"'Country information'!D47","v":"Col$"},{"$f":"'Country information'!E47","v":1920},{"$f":"'Country information'!F47","v":40592.406006944446}]
[null,null,null,null,null,null,null,null,null,null,null,null,null,null,null,null,null,null,null,null,null,null,null,null,null,null,null,null,null,null,null,null,null,null,null,null,null,null,null,null,null,null,null,null,null,null,null,null,null,null,null,null,null,null,null,null,null,null,null,null,null,null,null,null,null,null,null,null,null,null,null,null,null,null,null,null,null,null,null,null,null,null,null,null,null,null,null,null,null,null,null,null,null,null,null,null,null,null,null,null,null,null,null,null,null,null,null,null,null,null,null,null,null,null,null,null,null,null,null,null,null,null,null,null,null,null,null,null,null,null,null,null,null,null,null,null,null,null,null,null,null,null,null,null,null,null,null,null,null,null,null,null,null,null,null,null,null,null,null,{"$f":"'Country information'!N48","v":"Comoros"},{"$f":"'Country information'!C48","v":"franc"},{"$f":"'Country information'!D48","v":"KMF"},{"$f":"'Country information'!E48","v":361.35},{"$f":"'Country information'!F48","v":40592.406006944446}]
[null,null,null,null,null,null,null,null,null,null,null,null,null,null,null,null,null,null,null,null,null,null,null,null,null,null,null,null,null,null,null,null,null,null,null,null,null,null,null,null,null,null,null,null,null,null,null,null,null,null,null,null,null,null,null,null,null,null,null,null,null,null,null,null,null,null,null,null,null,null,null,null,null,null,null,null,null,null,null,null,null,null,null,null,null,null,null,null,null,null,null,null,null,null,null,null,null,null,null,null,null,null,null,null,null,null,null,null,null,null,null,null,null,null,null,null,null,null,null,null,null,null,null,null,null,null,null,null,null,null,null,null,null,null,null,null,null,null,null,null,null,null,null,null,null,null,null,null,null,null,null,null,null,null,null,null,null,null,null,{"$f":"'Country information'!N49","v":"Congo"},{"$f":"'Country information'!C49","v":"franc"},{"$f":"'Country information'!D49","v":"CFAF"},{"$f":"'Country information'!E49","v":503.3},{"$f":"'Country information'!F49","v":40592.406006944446}]
[null,null,null,null,null,null,null,null,null,null,null,null,null,null,null,null,null,null,null,null,null,null,null,null,null,null,null,null,null,null,null,null,null,null,null,null,null,null,null,null,null,null,null,null,null,null,null,null,null,null,null,null,null,null,null,null,null,null,null,null,null,null,null,null,null,null,null,null,null,null,null,null,null,null,null,null,null,null,null,null,null,null,null,null,null,null,null,null,null,null,null,null,null,null,null,null,null,null,null,null,null,null,null,null,null,null,null,null,null,null,null,null,null,null,null,null,null,null,null,null,null,null,null,null,null,null,null,null,null,null,null,null,null,null,null,null,null,null,null,null,null,null,null,null,null,null,null,null,null,null,null,null,null,null,null,null,null,null,null,{"$f":"'Country information'!N50","v":"Congo, Dem. Rep."},{"$f":"'Country information'!C50","v":"franc"},{"$f":"'Country information'!D50","v":"CDF"},{"$f":"'Country information'!E50","v":560},{"$f":"'Country information'!F50","v":39413}]
[null,null,null,null,null,null,null,null,null,null,null,null,null,null,null,null,null,null,null,null,null,null,null,null,null,null,null,null,null,null,null,null,null,null,null,null,null,null,null,null,null,null,null,null,null,null,null,null,null,null,null,null,null,null,null,null,null,null,null,null,null,null,null,null,null,null,null,null,null,null,null,null,null,null,null,null,null,null,null,null,null,null,null,null,null,null,null,null,null,null,null,null,null,null,null,null,null,null,null,null,null,null,null,null,null,null,null,null,null,null,null,null,null,null,null,null,null,null,null,null,null,null,null,null,null,null,null,null,null,null,null,null,null,null,null,null,null,null,null,null,null,null,null,null,null,null,null,null,null,null,null,null,null,null,null,null,null,null,null,{"$f":"'Country information'!N51","v":"Cook Islands"},{"$f":"'Country information'!C51","v":"dollar"},{"$f":"'Country information'!D51","v":"NZ$"},{"$f":"'Country information'!E51","v":1.34},{"$f":"'Country information'!F51","v":40592.406053240738}]
[null,null,null,null,null,null,null,null,null,null,null,null,null,null,null,null,null,null,null,null,null,null,null,null,null,null,null,null,null,null,null,null,null,null,null,null,null,null,null,null,null,null,null,null,null,null,null,null,null,null,null,null,null,null,null,null,null,null,null,null,null,null,null,null,null,null,null,null,null,null,null,null,null,null,null,null,null,null,null,null,null,null,null,null,null,null,null,null,null,null,null,null,null,null,null,null,null,null,null,null,null,null,null,null,null,null,null,null,null,null,null,null,null,null,null,null,null,null,null,null,null,null,null,null,null,null,null,null,null,null,null,null,null,null,null,null,null,null,null,null,null,null,null,null,null,null,null,null,null,null,null,null,null,null,null,null,null,null,null,{"$f":"'Country information'!N52","v":"Costa Rica"},{"$f":"'Country information'!C52","v":"colon"},{"$f":"'Country information'!D52","v":"₡"},{"$f":"'Country information'!E52","v":501.95},{"$f":"'Country information'!F52","v":40592.406018518515}]
[null,null,null,null,null,null,null,null,null,null,null,null,null,null,null,null,null,null,null,null,null,null,null,null,null,null,null,null,null,null,null,null,null,null,null,null,null,null,null,null,null,null,null,null,null,null,null,null,null,null,null,null,null,null,null,null,null,null,null,null,null,null,null,null,null,null,null,null,null,null,null,null,null,null,null,null,null,null,null,null,null,null,null,null,null,null,null,null,null,null,null,null,null,null,null,null,null,null,null,null,null,null,null,null,null,null,null,null,null,null,null,null,null,null,null,null,null,null,null,null,null,null,null,null,null,null,null,null,null,null,null,null,null,null,null,null,null,null,null,null,null,null,null,null,null,null,null,null,null,null,null,null,null,null,null,null,null,null,null,{"$f":"'Country information'!N53","v":"Côte d'Ivoire"},{"$f":"'Country information'!C53","v":"franc"},{"$f":"'Country information'!D53","v":"CFAF"},{"$f":"'Country information'!E53","v":503.3},{"$f":"'Country information'!F53","v":40592.406053240738}]
[null,null,null,null,null,null,null,null,null,null,null,null,null,null,null,null,null,null,null,null,null,null,null,null,null,null,null,null,null,null,null,null,null,null,null,null,null,null,null,null,null,null,null,null,null,null,null,null,null,null,null,null,null,null,null,null,null,null,null,null,null,null,null,null,null,null,null,null,null,null,null,null,null,null,null,null,null,null,null,null,null,null,null,null,null,null,null,null,null,null,null,null,null,null,null,null,null,null,null,null,null,null,null,null,null,null,null,null,null,null,null,null,null,null,null,null,null,null,null,null,null,null,null,null,null,null,null,null,null,null,null,null,null,null,null,null,null,null,null,null,null,null,null,null,null,null,null,null,null,null,null,null,null,null,null,null,null,null,null,{"$f":"'Country information'!N54","v":"Croatia"},{"$f":"'Country information'!C54","v":"kuna"},{"$f":"'Country information'!D54","v":"kn"},{"$f":"'Country information'!E54","v":5.59},{"$f":"'Country information'!F54","v":40592.406018518515}]
[null,null,null,null,null,null,null,null,null,null,null,null,null,null,null,null,null,null,null,null,null,null,null,null,null,null,null,null,null,null,null,null,null,null,null,null,null,null,null,null,null,null,null,null,null,null,null,null,null,null,null,null,null,null,null,null,null,null,null,null,null,null,null,null,null,null,null,null,null,null,null,null,null,null,null,null,null,null,null,null,null,null,null,null,null,null,null,null,null,null,null,null,null,null,null,null,null,null,null,null,null,null,null,null,null,null,null,null,null,null,null,null,null,null,null,null,null,null,null,null,null,null,null,null,null,null,null,null,null,null,null,null,null,null,null,null,null,null,null,null,null,null,null,null,null,null,null,null,null,null,null,null,null,null,null,null,null,null,null,{"$f":"'Country information'!N55","v":"Cuba (external)"},{"$f":"'Country information'!C55","v":"convertible peso"},{"$f":"'Country information'!D55","v":"Cuc$"},{"$f":"'Country information'!E55","v":0.92589999999999995},{"$f":"'Country information'!F55","v":39413}]
[null,null,null,null,null,null,null,null,null,null,null,null,null,null,null,null,null,null,null,null,null,null,null,null,null,null,null,null,null,null,null,null,null,null,null,null,null,null,null,null,null,null,null,null,null,null,null,null,null,null,null,null,null,null,null,null,null,null,null,null,null,null,null,null,null,null,null,null,null,null,null,null,null,null,null,null,null,null,null,null,null,null,null,null,null,null,null,null,null,null,null,null,null,null,null,null,null,null,null,null,null,null,null,null,null,null,null,null,null,null,null,null,null,null,null,null,null,null,null,null,null,null,null,null,null,null,null,null,null,null,null,null,null,null,null,null,null,null,null,null,null,null,null,null,null,null,null,null,null,null,null,null,null,null,null,null,null,null,null,{"$f":"'Country information'!N56","v":"Cuba (internal)"},{"$f":"'Country information'!C56","v":"peso"},{"$f":"'Country information'!D56","v":"₱"},{"$f":"'Country information'!E56","v":26.49708532061473},{"$f":"'Country information'!F56","v":39413}]

{"sheet":"Server Info","index":11,"n_rows":57,"n_cols":164,"rows_kept":57,"cut":false,"hidden":false,"merged":[[12,7,12,67],[1,7,1,107],[3,73,4,107]]}
[]
[null,null,null,null,null,null,null,{"$f":"Lists!I14","v":"Server Configuration Information"}]
[]
[{"$f":"IF(OR(LicenseType = Lists!#REF!,LicenseType = Lists!#REF!),0,0)","v":{"$error":"#REF!"}}]
[]
[1]
[{"$f":"IF(configuration=Lists!B24,1,0)","v":1}]
[1]
[1]
[1]
[1]
[1]
[]
[1]
[1]
[1]
[1]
[1]
[1]
[1]
[1]
[1]
[1]
[1]
[]
[]
[]
[]
[]
[]
[]
[]
[]
[]
[]
[]
[]
[]
[]
[null,null,null,null,null,null,null,null,null,null,null,null,null,null,null,null,null,null,null,null,null,null,null,null,null,null,null,null,null,null,null,null,null,null,null,null,null,null,null,null,null,null,null,null,null,null,null,null,null,null,null,null,null,null,null,null,null,null,null,null,null,null,null,null,null,null,null,null,null,null,null,null,null,null,null,null,null,null,null,null,null,null,null,null,null,null,null,null,null,null,null,null,null,null,null,null,null,null,null,null,null,null,null,null,null,null,null,null,null,null,null,null,null,null,null,null,null,null,null,null,null,null,null,null,null,null,null,null,null,null,null,null,null,null,null,null,null,null,null,null,null,null,null,null,null,null,null,null,null,null,null,null,null,null,null,null,null,null,null,{"$f":"'Country information'!N48","v":"Comoros"},{"$f":"'Country information'!C48","v":"franc"},{"$f":"'Country information'!D48","v":"KMF"},{"$f":"'Country information'!E48","v":361.35},{"$f":"'Country information'!F48","v":40592.406006944446}]
[null,null,null,null,null,null,null,null,null,null,null,null,null,null,null,null,null,null,null,null,null,null,null,null,null,null,null,null,null,null,null,null,null,null,null,null,null,null,null,null,null,null,null,null,null,null,null,null,null,null,null,null,null,null,null,null,null,null,null,null,null,null,null,null,null,null,null,null,null,null,null,null,null,null,null,null,null,null,null,null,null,null,null,null,null,null,null,null,null,null,null,null,null,null,null,null,null,null,null,null,null,null,null,null,null,null,null,null,null,null,null,null,null,null,null,null,null,null,null,null,null,null,null,null,null,null,null,null,null,null,null,null,null,null,null,null,null,null,null,null,null,null,null,null,null,null,null,null,null,null,null,null,null,null,null,null,null,null,null,{"$f":"'Country information'!N49","v":"Congo"},{"$f":"'Country information'!C49","v":"franc"},{"$f":"'Country information'!D49","v":"CFAF"},{"$f":"'Country information'!E49","v":503.3},{"$f":"'Country information'!F49","v":40592.406006944446}]
[null,null,null,null,null,null,null,null,null,null,null,null,null,null,null,null,null,null,null,null,null,null,null,null,null,null,null,null,null,null,null,null,null,null,null,null,null,null,null,null,null,null,null,null,null,null,null,null,null,null,null,null,null,null,null,null,null,null,null,null,null,null,null,null,null,null,null,null,null,null,null,null,null,null,null,null,null,null,null,null,null,null,null,null,null,null,null,null,null,null,null,null,null,null,null,null,null,null,null,null,null,null,null,null,null,null,null,null,null,null,null,null,null,null,null,null,null,null,null,null,null,null,null,null,null,null,null,null,null,null,null,null,null,null,null,null,null,null,null,null,null,null,null,null,null,null,null,null,null,null,null,null,null,null,null,null,null,null,null,{"$f":"'Country information'!N50","v":"Congo, Dem. Rep."},{"$f":"'Country information'!C50","v":"franc"},{"$f":"'Country information'!D50","v":"CDF"},{"$f":"'Country information'!E50","v":560},{"$f":"'Country information'!F50","v":39413}]
[null,null,null,null,null,null,null,null,null,null,null,null,null,null,null,null,null,null,null,null,null,null,null,null,null,null,null,null,null,null,null,null,null,null,null,null,null,null,null,null,null,null,null,null,null,null,null,null,null,null,null,null,null,null,null,null,null,null,null,null,null,null,null,null,null,null,null,null,null,null,null,null,null,null,null,null,null,null,null,null,null,null,null,null,null,null,null,null,null,null,null,null,null,null,null,null,null,null,null,null,null,null,null,null,null,null,null,null,null,null,null,null,null,null,null,null,null,null,null,null,null,null,null,null,null,null,null,null,null,null,null,null,null,null,null,null,null,null,null,null,null,null,null,null,null,null,null,null,null,null,null,null,null,null,null,null,null,null,null,{"$f":"'Country information'!N51","v":"Cook Islands"},{"$f":"'Country information'!C51","v":"dollar"},{"$f":"'Country information'!D51","v":"NZ$"},{"$f":"'Country information'!E51","v":1.34},{"$f":"'Country information'!F51","v":40592.406053240738}]
[null,null,null,null,null,null,null,null,null,null,null,null,null,null,null,null,null,null,null,null,null,null,null,null,null,null,null,null,null,null,null,null,null,null,null,null,null,null,null,null,null,null,null,null,null,null,null,null,null,null,null,null,null,null,null,null,null,null,null,null,null,null,null,null,null,null,null,null,null,null,null,null,null,null,null,null,null,null,null,null,null,null,null,null,null,null,null,null,null,null,null,null,null,null,null,null,null,null,null,null,null,null,null,null,null,null,null,null,null,null,null,null,null,null,null,null,null,null,null,null,null,null,null,null,null,null,null,null,null,null,null,null,null,null,null,null,null,null,null,null,null,null,null,null,null,null,null,null,null,null,null,null,null,null,null,null,null,null,null,{"$f":"'Country information'!N52","v":"Costa Rica"},{"$f":"'Country information'!C52","v":"colon"},{"$f":"'Country information'!D52","v":"₡"},{"$f":"'Country information'!E52","v":501.95},{"$f":"'Country information'!F52","v":40592.406018518515}]
[null,null,null,null,null,null,null,null,null,null,null,null,null,null,null,null,null,null,null,null,null,null,null,null,null,null,null,null,null,null,null,null,null,null,null,null,null,null,null,null,null,null,null,null,null,null,null,null,null,null,null,null,null,null,null,null,null,null,null,null,null,null,null,null,null,null,null,null,null,null,null,null,null,null,null,null,null,null,null,null,null,null,null,null,null,null,null,null,null,null,null,null,null,null,null,null,null,null,null,null,null,null,null,null,null,null,null,null,null,null,null,null,null,null,null,null,null,null,null,null,null,null,null,null,null,null,null,null,null,null,null,null,null,null,null,null,null,null,null,null,null,null,null,null,null,null,null,null,null,null,null,null,null,null,null,null,null,null,null,{"$f":"'Country information'!N53","v":"Côte d'Ivoire"},{"$f":"'Country information'!C53","v":"franc"},{"$f":"'Country information'!D53","v":"CFAF"},{"$f":"'Country information'!E53","v":503.3},{"$f":"'Country information'!F53","v":40592.406053240738}]
[null,null,null,null,null,null,null,null,null,null,null,null,null,null,null,null,null,null,null,null,null,null,null,null,null,null,null,null,null,null,null,null,null,null,null,null,null,null,null,null,null,null,null,null,null,null,null,null,null,null,null,null,null,null,null,null,null,null,null,null,null,null,null,null,null,null,null,null,null,null,null,null,null,null,null,null,null,null,null,null,null,null,null,null,null,null,null,null,null,null,null,null,null,null,null,null,null,null,null,null,null,null,null,null,null,null,null,null,null,null,null,null,null,null,null,null,null,null,null,null,null,null,null,null,null,null,null,null,null,null,null,null,null,null,null,null,null,null,null,null,null,null,null,null,null,null,null,null,null,null,null,null,null,null,null,null,null,null,null,{"$f":"'Country information'!N54","v":"Croatia"},{"$f":"'Country information'!C54","v":"kuna"},{"$f":"'Country information'!D54","v":"kn"},{"$f":"'Country information'!E54","v":5.59},{"$f":"'Country information'!F54","v":40592.406018518515}]
[null,null,null,null,null,null,null,null,null,null,null,null,null,null,null,null,null,null,null,null,null,null,null,null,null,null,null,null,null,null,null,null,null,null,null,null,null,null,null,null,null,null,null,null,null,null,null,null,null,null,null,null,null,null,null,null,null,null,null,null,null,null,null,null,null,null,null,null,null,null,null,null,null,null,null,null,null,null,null,null,null,null,null,null,null,null,null,null,null,null,null,null,null,null,null,null,null,null,null,null,null,null,null,null,null,null,null,null,null,null,null,null,null,null,null,null,null,null,null,null,null,null,null,null,null,null,null,null,null,null,null,null,null,null,null,null,null,null,null,null,null,null,null,null,null,null,null,null,null,null,null,null,null,null,null,null,null,null,null,{"$f":"'Country information'!N55","v":"Cuba (external)"},{"$f":"'Country information'!C55","v":"convertible peso"},{"$f":"'Country information'!D55","v":"Cuc$"},{"$f":"'Country information'!E55","v":0.92589999999999995},{"$f":"'Country information'!F55","v":39413}]
[null,null,null,null,null,null,null,null,null,null,null,null,null,null,null,null,null,null,null,null,null,null,null,null,null,null,null,null,null,null,null,null,null,null,null,null,null,null,null,null,null,null,null,null,null,null,null,null,null,null,null,null,null,null,null,null,null,null,null,null,null,null,null,null,null,null,null,null,null,null,null,null,null,null,null,null,null,null,null,null,null,null,null,null,null,null,null,null,null,null,null,null,null,null,null,null,null,null,null,null,null,null,null,null,null,null,null,null,null,null,null,null,null,null,null,null,null,null,null,null,null,null,null,null,null,null,null,null,null,null,null,null,null,null,null,null,null,null,null,null,null,null,null,null,null,null,null,null,null,null,null,null,null,null,null,null,null,null,null,{"$f":"'Country information'!N56","v":"Cuba (internal)"},{"$f":"'Country information'!C56","v":"peso"},{"$f":"'Country information'!D56","v":"₱"},{"$f":"'Country information'!E56","v":26.49708532061473},{"$f":"'Country information'!F56","v":39413}]
[null,null,null,null,null,null,null,null,null,null,null,null,null,null,null,null,null,null,null,null,null,null,null,null,null,null,null,null,null,null,null,null,null,null,null,null,null,null,null,null,null,null,null,null,null,null,null,null,null,null,null,null,null,null,null,null,null,null,null,null,null,null,null,null,null,null,null,null,null,null,null,null,null,null,null,null,null,null,null,null,null,null,null,null,null,null,null,null,null,null,null,null,null,null,null,null,null,null,null,null,null,null,null,null,null,null,null,null,null,null,null,null,null,null,null,null,null,null,null,null,null,null,null,null,null,null,null,null,null,null,null,null,null,null,null,null,null,null,null,null,null,null,null,null,null,null,null,null,null,null,null,null,null,null,null,null,null,null,null,{"$f":"'Country information'!N57","v":"Cyprus"},{"$f":"'Country information'!C57","v":"poundC"},{"$f":"'Country information'!D57","v":"£C"},{"$f":"'Country information'!E57","v":0.77},{"$f":"'Country information'!F57","v":40592.406018518515}]
[null,null,null,null,null,null,null,null,null,null,null,null,null,null,null,null,null,null,null,null,null,null,null,null,null,null,null,null,null,null,null,null,null,null,null,null,null,null,null,null,null,null,null,null,null,null,null,null,null,null,null,null,null,null,null,null,null,null,null,null,null,null,null,null,null,null,null,null,null,null,null,null,null,null,null,null,null,null,null,null,null,null,null,null,null,null,null,null,null,null,null,null,null,null,null,null,null,null,null,null,null,null,null,null,null,null,null,null,null,null,null,null,null,null,null,null,null,null,null,null,null,null,null,null,null,null,null,null,null,null,null,null,null,null,null,null,null,null,null,null,null,null,null,null,null,null,null,null,null,null,null,null,null,null,null,null,null,null,null,{"$f":"'Country information'!N58","v":"Cyprus (Northern)"},{"$f":"'Country information'!C58","v":"new lira"},{"$f":"'Country information'!D58","v":"YTL"},{"$f":"'Country information'!E58","v":1.3449899125756557},{"$f":"'Country information'!F58","v":38817}]
[null,null,null,null,null,null,null,null,null,null,null,null,null,null,null,null,null,null,null,null,null,null,null,null,null,null,null,null,null,null,null,null,null,null,null,null,null,null,null,null,null,null,null,null,null,null,null,null,null,null,null,null,null,null,null,null,null,null,null,null,null,null,null,null,null,null,null,null,null,null,null,null,null,null,null,null,null,null,null,null,null,null,null,null,null,null,null,null,null,null,null,null,null,null,null,null,null,null,null,null,null,null,null,null,null,null,null,null,null,null,null,null,null,null,null,null,null,null,null,null,null,null,null,null,null,null,null,null,null,null,null,null,null,null,null,null,null,null,null,null,null,null,null,null,null,null,null,null,null,null,null,null,null,null,null,null,null,null,null,{"$f":"'Country information'!N59","v":"Czech"},{"$f":"'Country information'!C59","v":"koruna"},{"$f":"'Country information'!D59","v":"Kč"},{"$f":"'Country information'!E59","v":17},{"$f":"'Country information'!F59","v":40599.404351851852}]
[null,null,null,null,null,null,null,null,null,null,null,null,null,null,null,null,null,null,null,null,null,null,null,null,null,null,null,null,null,null,null,null,null,null,null,null,null,null,null,null,null,null,null,null,null,null,null,null,null,null,null,null,null,null,null,null,null,null,null,null,null,null,null,null,null,null,null,null,null,null,null,null,null,null,null,null,null,null,null,null,null,null,null,null,null,null,null,null,null,null,null,null,null,null,null,null,null,null,null,null,null,null,null,null,null,null,null,null,null,null,null,null,null,null,null,null,null,null,null,null,null,null,null,null,null,null,null,null,null,null,null,null,null,null,null,null,null,null,null,null,null,null,null,null,null,null,null,null,null,null,null,null,null,null,null,null,null,null,null,{"$f":"'Country information'!N60","v":"Denmark"},{"$f":"'Country information'!C60","v":"kroner"},{"$f":"'Country information'!D60","v":"Dkr"},{"$f":"'Country information'!E60","v":5.72},{"$f":"'Country information'!F60","v":40592.406018518515}]
[null,null,null,null,null,null,null,null,null,null,null,null,null,null,null,null,null,null,null,null,null,null,null,null,null,null,null,null,null,null,null,null,null,null,null,null,null,null,null,null,null,null,null,null,null,null,null,null,null,null,null,null,null,null,null,null,null,null,null,null,null,null,null,null,null,null,null,null,null,null,null,null,null,null,null,null,null,null,null,null,null,null,null,null,null,null,null,null,null,null,null,null,null,null,null,null,null,null,null,null,null,null,null,null,null,null,null,null,null,null,null,null,null,null,null,null,null,null,null,null,null,null,null,null,null,null,null,null,null,null,null,null,null,null,null,null,null,null,null,null,null,null,null,null,null,null,null,null,null,null,null,null,null,null,null,null,null,null,null,{"$f":"'Country information'!N61","v":"Djibouti"},{"$f":"'Country information'!C61","v":"franc"},{"$f":"'Country information'!D61","v":"DF"},{"$f":"'Country information'!E61","v":177},{"$f":"'Country information'!F61","v":40592.406018518515}]
[null,null,null,null,null,null,null,null,null,null,null,null,null,null,null,null,null,null,null,null,null,null,null,null,null,null,null,null,null,null,null,null,null,null,null,null,null,null,null,null,null,null,null,null,null,null,null,null,null,null,null,null,null,null,null,null,null,null,null,null,null,null,null,null,null,null,null,null,null,null,null,null,null,null,null,null,null,null,null,null,null,null,null,null,null,null,null,null,null,null,null,null,null,null,null,null,null,null,null,null,null,null,null,null,null,null,null,null,null,null,null,null,null,null,null,null,null,null,null,null,null,null,null,null,null,null,null,null,null,null,null,null,null,null,null,null,null,null,null,null,null,null,null,null,null,null,null,null,null,null,null,null,null,null,null,null,null,null,null,{"$f":"'Country information'!N62","v":"Dominica"},{"$f":"'Country information'!C62","v":"dollar"},{"$f":"'Country information'!D62","v":"EC$"},{"$f":"'Country information'!E62","v":2.7},{"$f":"'Country information'!F62","v":40592.406053240738}]
[null,null,null,null,null,null,null,null,null,null,null,null,null,null,null,null,null,null,null,null,null,null,null,null,null,null,null,null,null,null,null,null,null,null,null,null,null,null,null,null,null,null,null,null,null,null,null,null,null,null,null,null,null,null,null,null,null,null,null,null,null,null,null,null,null,null,null,null,null,null,null,null,null,null,null,null,null,null,null,null,null,null,null,null,null,null,null,null,null,null,null,null,null,null,null,null,null,null,null,null,null,null,null,null,null,null,null,null,null,null,null,null,null,null,null,null,null,null,null,null,null,null,null,null,null,null,null,null,null,null,null,null,null,null,null,null,null,null,null,null,null,null,null,null,null,null,null,null,null,null,null,null,null,null,null,null,null,null,null,{"$f":"'Country information'!N63","v":"Dominican Rep."},{"$f":"'Country information'!C63","v":"peso"},{"$f":"'Country information'!D63","v":"RD$"},{"$f":"'Country information'!E63","v":33.483499999999999},{"$f":"'Country information'!F63","v":39413}]
[null,null,null,null,null,null,null,null,null,null,null,null,null,null,null,null,null,null,null,null,null,null,null,null,null,null,null,null,null,null,null,null,null,null,null,null,null,null,null,null,null,null,null,null,null,null,null,null,null,null,null,null,null,null,null,null,null,null,null,null,null,null,null,null,null,null,null,null,null,null,null,null,null,null,null,null,null,null,null,null,null,null,null,null,null,null,null,null,null,null,null,null,null,null,null,null,null,null,null,null,null,null,null,null,null,null,null,null,null,null,null,null,null,null,null,null,null,null,null,null,null,null,null,null,null,null,null,null,null,null,null,null,null,null,null,null,null,null,null,null,null,null,null,null,null,null,null,null,null,null,null,null,null,null,null,null,null,null,null,{"$f":"'Country information'!N64","v":"Dronning Maud Land"},{"$f":"'Country information'!C64","v":"krone"},{"$f":"'Country information'!D64","v":"NKr"},{"$f":"'Country information'!E64","v":6.2},{"$f":"'Country information'!F64","v":40592.406053240738}]
[null,null,null,null,null,null,null,null,null,null,null,null,null,null,null,null,null,null,null,null,null,null,null,null,null,null,null,null,null,null,null,null,null,null,null,null,null,null,null,null,null,null,null,null,null,null,null,null,null,null,null,null,null,null,null,null,null,null,null,null,null,null,null,null,null,null,null,null,null,null,null,null,null,null,null,null,null,null,null,null,null,null,null,null,null,null,null,null,null,null,null,null,null,null,null,null,null,null,null,null,null,null,null,null,null,null,null,null,null,null,null,null,null,null,null,null,null,null,null,null,null,null,null,null,null,null,null,null,null,null,null,null,null,null,null,null,null,null,null,null,null,null,null,null,null,null,null,null,null,null,null,null,null,null,null,null,null,null,null,{"$f":"'Country information'!N65","v":"East Timor"},{"$f":"'Country information'!C65","v":"dollar"},{"$f":"'Country information'!D65","v":"US$"},{"$f":"'Country information'!E65","v":1},{"$f":"'Country information'!F65","v":40592.406018518515}]

{"sheet":"Software Info","index":12,"n_rows":32,"n_cols":8,"rows_kept":32,"cut":false,"hidden":false,"merged":[[1,7,1,107],[2,7,2,67]]}
[]
[null,null,null,null,null,null,null,{"$f":"Lists!J14","v":"Software Selection Information"}]
[null,null,null,null,null,null,null,"This table shows the requirements for choosing between Standard and Premium licenses for business customers."]
[]
[]
[]
[]
[]
[]
[]
[]
[]
[]
[]
[]
[]
[]
[]
[]
[]
[]
[]
[{"$f":"IF(OR(LicenseType = Lists!#REF!,LicenseType=Lists!#REF!,LicenseType=Lists!#REF!),1,0)","v":{"$error":"#REF!"}}]
[{"$f":"IF(OR(LicenseType=Lists!#REF!,LicenseType=Lists!#REF!,LicenseType=Lists!#REF!,LicenseType = Lists!#REF!), 0,1)","v":{"$error":"#REF!"}}]
[0]
[1]
[{"$f":"IF(OR(LicenseType = Lists!#REF!,LicenseType = Lists!#REF!),1,0)","v":{"$error":"#REF!"}}]
[{"$f":"IF(OR(LicenseType = Lists!#REF!,LicenseType = Lists!#REF!),0,0)","v":{"$error":"#REF!"}}]
[]
[]
[]
[1]

{"sheet":"Data Tables","index":13,"n_rows":133,"n_cols":17,"rows_kept":133,"cut":false,"hidden":true,"merged":[[94,2,94,3],[94,4,94,5],[94,6,94,7],[32,3,32,4],[32,1,32,2]]}
[null,null,null,null,null,null,null,null,null,"ready to start",{"$f":"IF(OR(Name=\"\",Industry=\"\",Users<1,'Start Page'!BH20=\"\",usage=\"\",havedevices=\"\",haveperipherals=\"\",samelocation=\"\"),0,1)","v":0}]
["Salary Information",null,null,null,null,null,null,null,null,"hardwaremult",{"$f":"VLOOKUP(Country,'Country information'!B2:M247,10,FALSE)","v":1}]
[null,null,null,null,"Country",{"$f":"VLOOKUP('Start Page'!BH20,'Country information'!N2:O247,2,FALSE)","v":"United States"},null,null,null,"powermult",{"$f":"VLOOKUP(Country,'Country information'!B2:M247,12,FALSE)","v":1}]
[null,null,null,null,"Burden rate",{"$f":"VLOOKUP(Country,'Country information'!B2:J247,9,FALSE)","v":0.4}]
[]
["Function","Hours/year","$/hour","Salary","FB Salary","Local FB Salary"]
["IT",{"$f":"WorkDays*8","v":1920},{"$f":"D7/B7","v":29.402604166666666},{"$f":"'Country information'!G233","v":56453},{"$f":"D7*(1+$F$4)","v":79034.2},{"$f":"E7*VLOOKUP(Country,'Country information'!$B$2:$I$247,8,FALSE)*Rate","v":79034.2}]
[]
[]
[]
[]
[]
[]
["Server Cost information"]
[]
["Low-end",{"$f":"500","v":500},"Cost per core",null,null,"Cost of RAM"]
["High-end",{"$f":"1000","v":1000},2,0,null,2,125,null,null,"Cores required",null,null,null,null,null,"Stations","Column"]
[null,null,2.4,25,null,4,375,null,null,"1-4","5-6","7-10","11-14","15-20",null,0,2]
[null,null,2.6,50,null,6,450,null,{"$f":"Lists!$B$23","v":"Internet and productivity applications only"},2,2,4,4,6,null,5,3]
["Cores",null,2.8,75,null,8,500,null,{"$f":"Lists!$C$23","v":"Internet, productivity and light multimedia"},2,2,4,6,6,null,7,4]
[1,null,3,100,null,16,1000,null,{"$f":"Lists!$D$23","v":"Internet, productivity and heavy multimedia"},2,4,6,6,8,null,11,5]
[2,null,3.2,200,null,32,2000,null,null,"RAM required",null,null,null,null,null,15,6]
[4,null,3.4,300,null,64,4000,null,null,"1-4","5-6","7-10","11-14","15-20"]
[6,null,3.6,500,null,128,10000,null,{"$f":"Lists!$B$23","v":"Internet and productivity applications only"},2,4,6,8,8]
[8,null,3.8,1000,null,null,null,null,{"$f":"Lists!$C$23","v":"Internet, productivity and light multimedia"},2,4,6,8,8]
[12,null,null,null,null,null,null,null,{"$f":"Lists!$D$23","v":"Internet, productivity and heavy multimedia"},2,4,6,8,8]
[16]
[20]
[24,null,null,null,null,null,null,null,null,{"$f":"Lists!B24","v":"LAN Connection"},{"$f":"Lists!C24","v":"Video Card/USB"},{"$f":"Lists!D24","v":"USB Connection"},null,null,null,{"$f":"Lists!$B$24","v":"LAN Connection"},2]
[32,null,null,null,null,null,null,null,{"$f":"Lists!$B$23","v":"Internet and productivity applications only"},20,15,10,null,null,null,{"$f":"Lists!$C$24","v":"Video Card/USB"},3]
[null,null,null,null,null,null,null,null,{"$f":"Lists!$C$23","v":"Internet, productivity and light multimedia"},15,10,5,null,null,null,{"$f":"Lists!$D$24","v":"USB Connection"},4]
[null,null,null,null,null,null,null,null,{"$f":"Lists!$D$23","v":"Internet, productivity and heavy multimedia"},10,5,2]
[null,"Academic",null,"Business"]
[null,"Perp","Sub","Perp","Sub"]
[{"$f":"Software!H14","v":"Windows Server 2016 Standard"},{"$f":"'Account Team Inputs'!AR4","v":115},{"$f":"'Account Team Inputs'!BA4","v":43},{"$f":"'Account Team Inputs'!AR9","v":817},{"$f":"'Account Team Inputs'!BA9","v":323}]
[{"$f":"Software!H15","v":"Windows MultiPoint Server 2011 Standard"},null,null,{"$f":"'Account Team Inputs'!AR10","v":330},{"$f":"'Account Team Inputs'!BA10","v":131}]
[{"$f":"Software!H16","v":"Windows MultiPoint Server 2011 CAL w/ Windows Server 2008 CAL"},{"$f":"'Account Team Inputs'!AR5","v":29},{"$f":"'Account Team Inputs'!BA5","v":11},{"$f":"'Account Team Inputs'!AR11","v":139},{"$f":"'Account Team Inputs'!BA11","v":55}]
[{"$f":"Software!H17","v":"Windows Server CAL"},{"$f":"'Account Team Inputs'!AR6","v":22},{"$f":"'Account Team Inputs'!BA6","v":8},{"$f":"'Account Team Inputs'!AR12","v":110},{"$f":"'Account Team Inputs'!BA12","v":44}]
[{"$f":"Software!H18","v":"Windows Client Software"},{"$f":"'Account Team Inputs'!AR7","v":115},{"$f":"'Account Team Inputs'!BA7","v":30},{"$f":"'Account Team Inputs'!AR13","v":199},{"$f":"'Account Team Inputs'!BA13","v":50}]
[null,{"$f":"IF(Industry=Lists!B26,IF(Software!BH9=Lists!B35,3,2),IF(Software!BH9=Lists!B35,5,4))","v":2}]
[]
[]
[]
[]
[]
[]
[]
[]
[]
[]
[]
[]
[]
[]
[]
[]
[]
[]
[]
[]
[]
[]
[]
[]
[]
[]
[]
[]
[]
[]
[]
[]
[]
[]
[]
[]
[]
[]
[]
[]
[]
[]
[]
[]
[]
[]
[]
[]
[]
[]
[]
[]
[]
[]
[]
[]
[]
[]
[]
[]
[]
[]
[]
[]
[]
[]
[]
[]
[]
[]
[]
[]
[]
[]
[]
[]
[]
[]
[]
[]
[]
[]
[]
[]
[null,"0-100",".1-.2"]
[null,"100-250",".2-.3"]
[null,"250-500",".3-.5"]
[null,"500-1000",".5-.75"]
[null,"1000-2000",".75-2"]
[null,"2000-5000","2-3"]
[null,"5000-10000","3-6"]
[null,"10000-50000","6-11"]
[null,"50000-100000","11-15"]

{"sheet":"Charts","index":14,"n_rows":41,"n_cols":7,"rows_kept":41,"cut":false,"hidden":true,"merged":[]}
[null,{"$f":"Lists!$B$36","v":"Windows MultiPoint Server"}]
[null,{"$f":"Results!S10","v":"Year 1"},{"$f":"Results!Z10","v":"Year 2"},{"$f":"Results!AG10","v":"Year 3"},{"$f":"Results!AN10","v":"Year 4"},{"$f":"Results!AU10","v":"Year 5"},{"$f":"Results!BB10","v":"Average"}]
[{"$f":"Results!H11","v":"Hardware"},{"$f":"Results!DP11","v":317800},{"$f":"Results!DQ11","v":0},{"$f":"Results!DR11","v":0},{"$f":"Results!DS11","v":0},{"$f":"Results!DT11","v":0},{"$f":"Results!BB11","v":63560}]
[{"$f":"Results!H12","v":"Software"},{"$f":"Results!DP12","v":38360},{"$f":"Results!DQ12","v":0},{"$f":"Results!DR12","v":0},{"$f":"Results!DS12","v":0},{"$f":"Results!DT12","v":0},{"$f":"Results!BB12","v":7672}]
[{"$f":"Results!H13","v":"Deployment"},{"$f":"Results!DP13","v":3850},{"$f":"Results!DQ13","v":0},{"$f":"Results!DR13","v":0},{"$f":"Results!DS13","v":0},{"$f":"Results!DT13","v":0},{"$f":"Results!BB13","v":770}]
[{"$f":"Results!H14","v":"Operations"},{"$f":"Results!DP14","v":17003.27808},{"$f":"Results!DQ14","v":17003.27808},{"$f":"Results!DR14","v":17003.27808},{"$f":"Results!DS14","v":17003.27808},{"$f":"Results!DT14","v":17003.27808},{"$f":"Results!BB14","v":17003.27808}]
[{"$f":"Results!H15","v":"Total"},{"$f":"Results!S15","v":377013.27808000002},{"$f":"Results!Z15","v":17003.27808},{"$f":"Results!AG15","v":17003.27808},{"$f":"Results!AN15","v":17003.27808},{"$f":"Results!AU15","v":17003.27808},{"$f":"Results!BB15","v":89005.278080000004}]
[]
[null,{"$f":"Lists!$C$36","v":"Traditional deployment"}]
[null,{"$f":"Results!S18","v":"Year 1"},{"$f":"Results!Z18","v":"Year 2"},{"$f":"Results!AG18","v":"Year 3"},{"$f":"Results!AN18","v":"Year 4"},{"$f":"Results!AU18","v":"Year 5"},{"$f":"Results!BB18","v":"Average"}]
[{"$f":"Results!H19","v":"Hardware"},{"$f":"Results!DP19","v":602100},{"$f":"Results!DQ19","v":0},{"$f":"Results!DR19","v":0},{"$f":"Results!DS19","v":0},{"$f":"Results!DT19","v":0},{"$f":"Results!BB19","v":120420}]
[{"$f":"Results!H20","v":"Software"},{"$f":"Results!DP20","v":115000},{"$f":"Results!DQ20","v":0},{"$f":"Results!DR20","v":0},{"$f":"Results!DS20","v":0},{"$f":"Results!DT20","v":0},{"$f":"Results!BB20","v":23000}]
[{"$f":"Results!H21","v":"Deployment"},{"$f":"Results!DP21","v":52183.333333333336},{"$f":"Results!DQ21","v":0},{"$f":"Results!DR21","v":0},{"$f":"Results!DS21","v":0},{"$f":"Results!DT21","v":0},{"$f":"Results!BB21","v":10436.666666666668}]
[{"$f":"Results!H22","v":"Operations"},{"$f":"Results!DP22","v":175724.85674666666},{"$f":"Results!DQ22","v":175724.85674666666},{"$f":"Results!DR22","v":175724.85674666666},{"$f":"Results!DS22","v":175724.85674666666},{"$f":"Results!DT22","v":175724.85674666666},{"$f":"Results!BB22","v":175724.85674666666}]
[{"$f":"Results!H23","v":"Total"},{"$f":"Results!S23","v":945008.19008000009},{"$f":"Results!Z23","v":175724.85674666666},{"$f":"Results!AG23","v":175724.85674666666},{"$f":"Results!AN23","v":175724.85674666666},{"$f":"Results!AU23","v":175724.85674666666},{"$f":"Results!BB23","v":329581.52341333334}]
[]
[null,null,{"$f":"B1","v":"Windows MultiPoint Server"},{"$f":"B9","v":"Traditional deployment"}]
[null,{"$f":"A3","v":"Hardware"},{"$f":"G3","v":63560},{"$f":"G11","v":120420}]
[null,{"$f":"A4","v":"Software"},{"$f":"G4","v":7672},{"$f":"G12","v":23000}]
[null,{"$f":"A5","v":"Deployment"},{"$f":"G5","v":770},{"$f":"G13","v":10436.666666666668}]
[null,{"$f":"A6","v":"Operations"},{"$f":"G6","v":17003.27808},{"$f":"G14","v":175724.85674666666}]
[]
[]
[]
[]
[]
[]
[]
[]
[]
[]
[]
[]
[]
[]
[]
[]
[null,null,{"$f":"B1","v":"Windows MultiPoint Server"},{"$f":"B9","v":"Traditional deployment"}]
[null,{"$f":"A3","v":"Hardware"},{"$f":"B3","v":317800},{"$f":"B11","v":602100}]
[null,{"$f":"A4","v":"Software"},38360,{"$f":"B12","v":115000}]
[null,"Deployment",3850,52183.333333333336]

{"sheet":"Default values and inputs","index":15,"n_rows":227,"n_cols":6,"rows_kept":227,"cut":false,"hidden":true,"merged":[]}
["Sheet","Cell","Value",null,"Total User Inputs",{"$f":"COUNTA(B:B)","v":173}]
["Start Page","BH17"]
["Start Page","BH18"]
["Start Page","BH19"]
["Start Page"]
["Start Page"]
["Start Page","BH22"]
["Start Page","BH23"]
["Start Page","BH24"]
["Start Page","BH25"]
[]
["Results","S11","=DP11"]
["Results","S12","=DP12"]
["Results","S13","=DP13"]
["Results","S14","=DP14"]
["Results"]
["Results","S19","=DP19"]
["Results","S20","=DP20"]
["Results","S21","=DP21"]
["Results","S22","=DP22"]
["Results"]
["Results","Z11","=DQ11"]
["Results","Z12","=DQ12"]
["Results","Z13","=DQ13"]
["Results","Z14","=DQ14"]
["Results"]
["Results","Z19","=DQ19"]
["Results","Z20","=DQ20"]
["Results","Z21","=DQ21"]
["Results","Z22","=DQ22"]
["Results"]
["Results","AG11","=DR11"]
["Results","AG12","=DR12"]
["Results","AG13","=DR13"]
["Results","AG14","=DR14"]
["Results"]
["Results","AG19","=DR19"]
["Results","AG20","=DR20"]
["Results","AG21","=DR21"]
["Results","AG22","=DR22"]
["Results"]
["Results","AN11","=DS11"]
["Results","AN12","=DS12"]
["Results","AN13","=DS13"]
["Results","AN14","=DS14"]
["Results"]
["Results","AN19","=DS19"]
["Results","AN20","=DS20"]
["Results","AN21","=DS21"]
["Results","AN22","=DS22"]
["Results"]
["Results","AU11","=DT11"]
["Results","AU12","=DT12"]
["Results","AU13","=DT13"]
["Results","AU14","=DT14"]
["Results"]
["Results","AU19","=DT19"]
["Results","AU20","=DT20"]
["Results","AU21","=DT21"]
["Results","AU22","=DT22"]
[]
["Hardware","Z8","=AK8"]
["Hardware","AC15","=AN15"]
["Hardware","AC24","=AN24"]
["Hardware","AC25","=AN25"]
["Hardware"]
["Hardware","AB31","=AK31"]
["Hardware","AB32","=AK32"]
["Hardware","AB33","=AK33"]
["Hardware","AB34","=AK34"]
["Hardware","AB35","=AK35"]
["Hardware","AB36","=AK36"]
["Hardware","AB37","=AK37"]
["Hardware"]
["Hardware","AB39","=AK39"]
["Hardware","AB40","=AK40"]
["Hardware"]
["Hardware","AQ31","=AV31"]
["Hardware","AQ32","=AV32"]
["Hardware","AQ33","=AV33"]
["Hardware","AQ34","=AV34"]
["Hardware","AQ35","=AV35"]
["Hardware","AQ36","=AV36"]
["Hardware","AQ37","=AV37"]
["Hardware"]
["Hardware","AQ39","=AV39"]
["Hardware","AQ40","=AV40"]
["Hardware"]
["Hardware","BD41",0]
["Hardware"]
["Hardware","CE31","=CN31"]
["Hardware","CE37","=CN37"]
["Hardware","CT31","=CY31"]
["Hardware","CT37","=CY37"]
["Hardware"]
["Hardware","DG41",0]
[]
["Software","BH6","=BS6"]
["Software","BH7","=BS7"]
["Software","BH8","=BS8"]
["Software","BH9","=BS9"]
["Software","BH10","=BS10"]
["Software"]
["Software"]
["Software"]
["Software","BK14","=BV14"]
["Software","BK15","=BV15"]
["Software","BK16","=BV16"]
["Software","BK17","=BV17"]
["Software","BK18","=BV18"]
["Software"]
["Software","AY24",0]
["Software","CY24",0]
[]
["Deployment","BK5","=BV5"]
["Deployment","BK6","=BV6"]
["Deployment","BK7","=BV7"]
["Deployment"]
["Deployment","BC16",0]
["Deployment","DF16",0]
[]
["Operations","BK5","=BV5"]
["Operations","BK6","=BV6"]
["Operations","BK7","=BV7"]
["Operations","BK8","=BV8"]
["Operations","BK9","=BV9"]
["Operations","BK10","=BV10"]
["Operations","BK11","=BV11"]
["Operations"]
["Operations","BK13","=BV13"]
["Operations","BK14","=BV14"]
["Operations","BK15","=BV15"]
["Operations","BK16","=BV16"]
["Operations","BK17","=BV17"]
["Operations","BK18","=BV18"]
["Operations","BK19","=BV19"]
["Operations","BK20","=BV20"]
["Operations","BK21","=BV21"]
["Operations"]
["Operations","BC44",0]
["Operations","DF44",0]
[]
["Calculations","BN6","=DU6"]
["Calculations","BN7","=DU7"]
["Calculations","BN8","=DU8"]
["Calculations"]
["Calculations"]
["Calculations","BN11","=DU11"]
["Calculations","BN12","=DU12"]
["Calculations","BN13","=DU13"]
["Calculations","BN14","=DU14"]
["Calculations","BN15","=DU15"]
["Calculations","BN16","=DU16"]
["Calculations","BN17","=DU17"]
["Calculations"]
["Calculations","BN22","=DU22"]
["Calculations","BN23","=DU23"]
["Calculations"]
["Calculations"]
["Calculations","BN29","=DU29"]
["Calculations"]
["Calculations","BN37","=DU37"]
["Calculations"]
["Calculations","BT6","=DV6"]
["Calculations","BT7","=DV7"]
["Calculations","BT8","=DV8"]
["Calculations"]
["Calculations"]
["Calculations","BT11","=DV11"]
["Calculations","BT12","=DV12"]
["Calculations","BT13","=DV13"]
["Calculations","BT14","=DV14"]
["Calculations","BT15","=DV15"]
["Calculations","BT16","=DV16"]
["Calculations","BT17","=DV17"]
["Calculations"]
["Calculations","BT22","=DV22"]
["Calculations","BT23","=DV23"]
["Calculations"]
["Calculations"]
["Calculations","BT29","=DV29"]
["Calculations"]
["Calculations","BT34","=DV34"]
["Calculations","BT35","=DV35"]
["Calculations"]
["Calculations","BT37","=DV37"]
["Calculations"]
["Calculations","CC18","=DW18"]
["Calculations","CC24","=DW24"]
["Calculations","CC28","=DW28"]
["Calculations","CC30","=DW30"]
["Calculations","CC38","=DW38"]
["Calculations"]
["Calculations","CK9","=DX9"]
["Calculations"]
["Calculations","CK11","=DX11"]
["Calculations","CK12","=DX12"]
["Calculations","CK13","=DX13"]
["Calculations","CK14","=DX14"]
["Calculations","CK15","=DX15"]
["Calculations","CK16","=DX16"]
["Calculations"]
["Calculations","CK21","=DX21"]
["Calculations","CK29","=DX29"]
["Calculations","CK37","=DX37"]
["Calculations"]
["Calculations","CQ9","=DY9"]
["Calculations"]
["Calculations","CQ11","=DY11"]
["Calculations","CQ12","=DY12"]
["Calculations","CQ13","=DY13"]
["Calculations","CQ14","=DY14"]
["Calculations","CQ15","=DY15"]
["Calculations","CQ16","=DY16"]
["Calculations"]
["Calculations","CQ21","=DY21"]
["Calculations","CQ29","=DY29"]
["Calculations","CQ34","=DY34"]
["Calculations","CQ35","=DY35"]
["Calculations"]
["Calculations","CQ37","=DY37"]
["Calculations"]
["Calculations","CZ18","=DZ18"]
["Calculations","CZ24","=DZ24"]
["Calculations","CZ28","=DZ28"]
["Calculations","CZ30","=DZ30"]
["Calculations","CZ38","=DZ38"]

{"sheet":"Report Info","index":16,"n_rows":26,"n_cols":16,"rows_kept":26,"cut":false,"hidden":true,"merged":[]}
["<Organization Name>",{"$f":"Name","v":0},null,null,null,"<custom>",{"$f":"custom","v":0},null,null,"<CostComparisonTable>","Results","G8:BI24",null,"<CostBar>","Results",1]
["<Industry>",{"$f":"Industry","v":"Academic"},null,null,null,"<havedevices>",{"$f":"IF(havedevices=Lists!$B$2,1,0)","v":0},null,null,"<cost%difftable>","Results","BY8:DE23"]
["<stations>",{"$f":" IF(Users>=1000,TEXT(Users,IF(Thousands=\".\",\"0.000\",IF(Thousands=\",\",\"0,000\",\"0 000\"))),Users)","v":"1,000"},null,null,null,"<haveperipherals>",{"$f":"IF(haveperipherals=Lists!$B$2,1,0)","v":0},null,null,"<HardwareCalcs>","CalculationsDisp","hardwarecosts"]
["<country>",{"$f":"Country","v":"United States"},null,null,null,"<samelocation>",{"$f":"IF(samelocation=Lists!$B$2,1,0)","v":0},null,null,"<SoftwareCalcs>","CalculationsDisp","softwarecosts"]
["<hosts>",{"$f":"Calculations!BN6+Calculations!BN7+Calculations!BN8","v":72},null,null,null,"<directusb>",{"$f":"IF(Calculations!BN8>0,1,0)","v":0},null,null,"<DeploymentCalcs>","CalculationsDisp","deploymentcosts"]
["<avgstationsperhost>",{"$f":"TEXT(B3/B5,IF(Decimal=\".\",\"0.00\",\"0,00\"))","v":"13.89"},null,null,null,"<directvideo>",{"$f":"IF(Calculations!BN7>0,1,0)","v":0},null,null,"<OperationsCalcs>","CalculationsDisp","operationscosts"]
["<TCOChange>",{"$f":"CurrencySymbol& \" \" & IF(ABS(Results!BB15-Results!BB23)>=1000,TEXT(ABS(Results!BB15-Results!BB23),IF(Thousands=\".\",\"0.000\",IF(Thousands=\",\",\"0,000\",\"0 000\"))),TEXT(ABS(Results!BB15-Results!BB23),\"000\"))","v":"US$ 240,576"},null,null,null,"<LAN>",{"$f":"IF(Calculations!BN6>0,1,0)","v":1}]
["<MPHardware>",{"$f":"CurrencySymbol& \" \" & IF(Results!BB11*5>=1000,TEXT(Results!BB11*5,IF(Thousands=\".\",\"0.000\",IF(Thousands=\",\",\"0,000\",\"0 000\"))),TEXT(Results!BB11*5,\"000\"))","v":"US$ 317,800"},null,null,null,"<Mixed>",{"$f":"mixedconfiguration","v":0}]
["<MPSoftware>",{"$f":"CurrencySymbol& \" \" & IF(Results!BB12*5>=1000,TEXT(Results!BB12*5,IF(Thousands=\".\",\"0.000\",IF(Thousands=\",\",\"0,000\",\"0 000\"))),TEXT(Results!BB12*5,\"000\"))","v":"US$ 38,360"},"<Sample>",{"$f":"CurrencySymbol& \" \" & TEXT(Results!AJ50,IF(Decimal=\".\",\"0.00\",\"0,00\"))","v":"US$ 0.00"},null,"<costreduction>",{"$f":"IF(B7<0,1,0)","v":0}]
["<MPDepoyment>",{"$f":"CurrencySymbol& \" \" & IF(Results!BB13*5>=1000,TEXT(Results!BB13*5,IF(Thousands=\".\",\"0.000\",IF(Thousands=\",\",\"0,000\",\"0 000\"))),TEXT(Results!BB13*5,\"000\"))","v":"US$ 3,850"},"<Sample>",{"$f":"TEXT(Results!I16,\"0%\")","v":"0%"},null,"<subscription>",{"$f":"IF(Software!BH9=Lists!B35,1,0)","v":0}]
["<MPOperations>",{"$f":"CurrencySymbol& \" \" & IF(Results!BB14*5>=1000,TEXT(Results!BB14*5,IF(Thousands=\".\",\"0.000\",IF(Thousands=\",\",\"0,000\",\"0 000\"))),TEXT(Results!BB14*5,\"000\"))","v":"US$ 85,016"},null,null,null,"<Academic>",{"$f":"IF(Industry=Lists!B26,1,0)","v":1}]
["<MPTotal>",{"$f":"CurrencySymbol& \" \" & IF(Results!BB15*5>=1000,TEXT(Results!BB15*5,IF(Thousands=\".\",\"0.000\",IF(Thousands=\",\",\"0,000\",\"0 000\"))),TEXT(Results!BB15*5,\"000\"))","v":"US$ 445,026"},null,null,null,"<Business>",{"$f":"IF(Industry=Lists!C26,1,0)","v":0}]
["<TDHardware>",{"$f":"CurrencySymbol& \" \" & IF(Results!BB19*5>=1000,TEXT(Results!BB19*5,IF(Thousands=\".\",\"0.000\",IF(Thousands=\",\",\"0,000\",\"0 000\"))),TEXT(Results!BB19*5,\"000\"))","v":"US$ 602,100"},null,null,null,"<savings>",{"$f":"IF(B12<B17,1,0)","v":0}]
["<TDSoftware>",{"$f":"CurrencySymbol& \" \" & IF(Results!BB20*5>=1000,TEXT(Results!BB20*5,IF(Thousands=\".\",\"0.000\",IF(Thousands=\",\",\"0,000\",\"0 000\"))),TEXT(Results!BB20*5,\"000\"))","v":"US$ 115,000"},null,null,null,"<hardwaresavings>",{"$f":"IF(B8<B13,1,0)","v":1}]
["<TDDepoyment>",{"$f":"CurrencySymbol& \" \" & IF(Results!BB21*5>=1000,TEXT(Results!BB21*5,IF(Thousands=\".\",\"0.000\",IF(Thousands=\",\",\"0,000\",\"0 000\"))),TEXT(Results!BB21*5,\"000\"))","v":"US$ 52,183"},null,null,null,"<Powersavings>",{"$f":"IF(Calculations!$DY$34>Calculations!$DV$34,1,0)","v":1}]
["<TDOperations>",{"$f":"CurrencySymbol& \" \" & IF(Results!BB22*5>=1000,TEXT(Results!BB22*5,IF(Thousands=\".\",\"0.000\",IF(Thousands=\",\",\"0,000\",\"0 000\"))),TEXT(Results!BB22*5,\"000\"))","v":"US$ 878,624"},null,null,null,"<Operationssavings>",{"$f":"IF(Results!CQ14>Results!CJ14,1,0)","v":1}]
["<TDTotal>",{"$f":"CurrencySymbol& \" \" & IF(Results!BB23*5>=1000,TEXT(Results!BB23*5,IF(Thousands=\".\",\"0.000\",IF(Thousands=\",\",\"0,000\",\"0 000\"))),TEXT(Results!BB23*5,\"000\"))","v":"US$ 1,647,908"}]
["<%change>",{"$f":"TEXT(Results!CX15,\"0%\")","v":"73%"}]
["<deploymentmethod>",{"$f":"IF(G8=1,\"a mixed environment\",IF(G5=1,\"Direct Connect through USB ports\",IF(G6=1,\"Direct Connect through Video cards and USB ports\",IF(G7=1,\"LAN connections\"))))","v":"LAN connections"}]
["<costperstation>",{"$f":"CurrencySymbol& \" \" & IF(Results!CJ15/Users>=1000,TEXT(Results!CJ15/Users,IF(Thousands=\".\",\"0.000\",IF(Thousands=\",\",\"0,000\",\"0 000\"))),TEXT(Results!CJ15/Users,\"000\"))","v":"US$ 445"}]
["<hardwarechange>",{"$f":"CurrencySymbol& \" \" & IF(ABS(Results!CQ11-Results!CJ11)>=1000,TEXT(ABS(Results!CQ11-Results!CJ11),IF(Thousands=\".\",\"0.000\",IF(Thousands=\",\",\"0,000\",\"0 000\"))),TEXT(ABS(Results!CQ11-Results!CJ11),\"000\"))","v":"US$ 284,300"}]
["<MPhardwarecostperstation>",{"$f":"CurrencySymbol& \" \" & IF(Results!CJ11/Users>=1000,TEXT(ABS(Results!CJ11/Users),IF(Thousands=\".\",\"0.000\",IF(Thousands=\",\",\"0,000\",\"0 000\"))),TEXT(ABS(Results!CJ11/Users),\"000\"))","v":"US$ 318"}]
["<TDhardwarecostperstation>",{"$f":"CurrencySymbol& \" \" & IF(Results!CQ11/Users>=1000,TEXT(ABS(Results!CQ11/Users),IF(Thousands=\".\",\"0.000\",IF(Thousands=\",\",\"0,000\",\"0 000\"))),TEXT(ABS(Results!CQ11/Users),\"000\"))","v":"US$ 602"}]
["<powerchange>",{"$f":"CurrencySymbol& \" \" & IF(ABS(Calculations!$DY$34-Calculations!$DV$34)>=1000,TEXT(ABS(Calculations!$DY$34-Calculations!$DV$34),IF(Thousands=\".\",\"0.000\",IF(Thousands=\",\",\"0,000\",\"0 000\"))),TEXT(ABS(Calculations!$DY$34-Calculations!$DV$34),\"000\"))","v":"US$ 15,655"}]
["<operationschange>",{"$f":"CurrencySymbol& \" \" & IF(ABS(Results!S22-Results!S14)>=1000,TEXT(ABS(Results!S22-Results!S14),IF(Thousands=\".\",\"0.000\",IF(Thousands=\",\",\"0,000\",\"0 000\"))),TEXT(ABS(Results!S22-Results!S14),\"000\"))","v":"US$ 158,722"}]
["<kWhrchange>",{"$f":" IF(ABS(TDkWhr-MPkWhr)>=1000,TEXT(ABS(TDkWhr-MPkWhr),IF(Thousands=\".\",\"0.000\",IF(Thousands=\",\",\"0,000\",\"0 000\"))),TEXT(ABS(TDkWhr-MPkWhr),\"000\"))","v":"139,776"}]

{"sheet":"Lists","index":17,"n_rows":36,"n_cols":16,"rows_kept":36,"cut":false,"hidden":true,"merged":[]}
[]
[null,"Yes","No"]
[null,0,1,2,3,4,5,6,7,8,9,10]
[null,"Agriculture","Education","Financial Services","Government","Healthcare","Life Sciences","Manufacturing","Media","Nonprofit","Professional Services","Retail","Telecommunications","Transportation","Utilities","Other"]
[null,"Year 0","Year 1","Year 2","Year 3","SA-Only","Year 4","Year 5","Year 6"]
[null,"User Selection","Suggested Value"]
[null,"Users","Current","Future","Total","Cost per User"]
[null,"Details"]
[null,"minutes","hours","hours per server","hours per load balancer","hours per gateway","months","month","weeks","day","minute","hour","week"]
[null,"Organization Name","Location"]
[null,"Start","Inputs","Results","Advanced"]
[null,"Update Costs\n","Messaging\n","IM/Presence\n","Conferencing\n","Voice\n"]
[null,"Save File","Print Sheet","User Guide","Create Report","Import Data From Questionnaire","Reset Sheet","Reset Entry"]
[null,"Hardware Configuration","Advanced inputs for hybrid scenario","Software Details","Deployment Costs","Software Pricing","Results","Hardware Configuration Information","Server Configuration Information","Software Selection Information","Continuing Operations Costs"]
[null,"Verify Licensing","Download Exchange Rates\n","Reset Entries and Start New Analysis","Next","Welcome to the Windows MultiPoint Server 2011 TCO tool!","Localization Settings","Language Selection"]
[null,"Inputs for Basic Analysis","Requires Input","Hide/Show","TCO analysis report for"]
[null,"Summary\n","TCO\n","Compare online vs. on-premises\n"]
[null,"Reset All Entries in Tool","Return to Start Page","Return to Results","Return to Hardware Configuration","Return to Software Configuration"]
[null,"MB","GB","MB/sec","GHz"]
[null,"Exchange Online","Exchange Server and Online","Exchange Server"]
[null,",","."," "]
[null,"Server Specifications","Storage Specifications","Cores","Speed","RAM","Actual Cost","Estimated Cost","Actual","Estimated","Cost per server","Servers required"]
[null,"Internet and productivity applications only","Internet, productivity and light multimedia","Internet, productivity and heavy multimedia"]
[null,"LAN Connection","Video Card/USB","USB Connection",null,"USB Connection"]
[null,"Yes","No, help me decide"]
[null,"Academic","Business"]
[null,"Premium","Standard"]
[null,"Inputs","Calculations"]
[null,"Buy new RemoteFX","Use existing hardware","Buy other hardware"]
[null,"Use existing hardware for stations","Not reusing existing PCs, thin clients, etc."]
[null,"Locate stations close to host","Require flexibility on station location"]
[null,"Running mostly productivity applications with no or light video","Running a mixed set of productivity and multimedia","Running heavy multimedia applications"]
[null,"Requires a LAN Connection","Any connection method can be used"]
[null,"Any connection method can be used","Video Card/USB or LAN recommended"]
[null,"Subscription","Perpetual"]
[null,"Windows MultiPoint Server","Traditional deployment"]

{"sheet":"Text","index":18,"n_rows":756,"n_cols":7,"rows_kept":756,"cut":false,"hidden":true,"merged":[]}
[null,"Selected",null,null,null,null,"English"]
["Account Team Inputs",{"$f":"OFFSET(G2,,LanguageOffset)","v":"You may use this section to edit the software cost for Microsoft software licenses. If there are any promotions you want to include you can make the adjustments here. Microsoft licensing prices may not be based on the exchange rate above as Microsoft adjusts their exchange rates on a standard schedule.\n\nPlease do not set the license prices to zero for items that are not used. The tool will select the cheapest licensing option so setting prices to zero can cause unwanted results."},null,null,null,null,"You may use this section to edit the software cost for Microsoft software licenses. If there are any promotions you want to include you can make the adjustments here. Microsoft licensing prices may not be based on the exchange rate above as Microsoft adjusts their exchange rates on a standard schedule.\n\nPlease do not set the license prices to zero for items that are not used. The tool will select the cheapest licensing option so setting prices to zero can cause unwanted results."]
["Account Team Inputs","Which Microsoft licensing contract should be used?",null,null,null,null,"Which Microsoft licensing contract should be used?"]
["Account Team Inputs","What is the customer's pricing level?",null,null,null,null,"What is the customer's pricing level?"]
["Account Team Inputs","Should Software Assurance be included?",null,null,null,null,"Should Software Assurance be included?"]
["Account Team Inputs","Do you use Single/Listed Languages or All Languages?",null,null,null,null,"Do you use Single/Listed Languages or All Languages?"]
["Account Team Inputs","Is the EA Platform or Component?",null,null,null,null,"Is the EA Platform or Component?"]
["Account Team Inputs","Is the Open Value program Standard or Enterprise?",null,null,null,null,"Is the Open Value program Standard or Enterprise?"]
["Account Team Inputs","Do you want to specify a CAL Suite or let the tool choose the least expensive option?",null,null,null,null,"Do you want to specify a CAL Suite or let the tool choose the least expensive option?"]
["Account Team Inputs","Discount from standard rate to be applied",null,null,null,null,"Discount from standard rate to be applied"]
["Account Team Inputs","Software Licenses",null,null,null,null,"Software Licenses"]
["Account Team Inputs","Exchange Server Standard Edition",null,null,null,null,"Exchange Server Standard Edition"]
["Account Team Inputs","Exchange Server Enterprise Edition",null,null,null,null,"Exchange Server Enterprise Edition"]
["Account Team Inputs","Exchange Server Standard CAL",null,null,null,null,"Exchange Server Standard CAL"]
["Account Team Inputs","Exchange Server Enterprise CAL",null,null,null,null,"Exchange Server Enterprise CAL"]
["Account Team Inputs","Lync Server Standard Edition",null,null,null,null,"Lync Server Standard Edition"]
["Account Team Inputs","Lync Server Enterprise Edition",null,null,null,null,"Lync Server Enterprise Edition"]
["Account Team Inputs","Lync Server Standard CAL",null,null,null,null,"Lync Server Standard CAL"]
["Account Team Inputs","Lync Server Enterprise CAL",null,null,null,null,"Lync Server Enterprise CAL"]
["Account Team Inputs","Windows Server Standard Edition",null,null,null,null,"Windows Server Standard Edition"]
["Account Team Inputs","Windows Server Enterprise Edition",null,null,null,null,"Windows Server Enterprise Edition"]
["Account Team Inputs","Windows Server CAL",null,null,null,null,"Windows Server CAL"]
["Account Team Inputs","Rights Management Services CAL",null,null,null,null,"Rights Management Services CAL"]
["Account Team Inputs","SQL Server Standard Edition",null,null,null,null,"SQL Server Standard Edition"]
["Account Team Inputs","SQL Server Enterprise Edition",null,null,null,null,"SQL Server Enterprise Edition"]
["Account Team Inputs","SQL Server CAL",null,null,null,null,"SQL Server CAL"]
["Account Team Inputs","ISA Server",null,null,null,null,"ISA Server"]
["Account Team Inputs","Core CAL Suite",null,null,null,null,"Core CAL Suite"]
["Account Team Inputs","Enterprise CAL Suite",null,null,null,null,"Enterprise CAL Suite"]
["Account Team Inputs","Office Professional Plus",null,null,null,null,"Office Professional Plus"]
["Account Team Inputs","Office Outlook",null,null,null,null,"Office Outlook"]
["Account Team Inputs","Office Communicator",null,null,null,null,"Office Communicator"]
["Account Team Inputs","Services",null,null,null,null,"Services"]
["Account Team Inputs","BPO Standard Suite",null,null,null,null,"BPO Standard Suite"]
["Account Team Inputs","Exchange Online",null,null,null,null,"Exchange Online"]
["Account Team Inputs","Exchange Deskless Online",null,null,null,null,"Exchange Deskless Online"]
["Account Team Inputs","Office Communications Online",null,null,null,null,"Office Communications Online"]
["Account Team Inputs","Live Meeting Standard",null,null,null,null,"Live Meeting Standard"]
["Account Team Inputs","Live Meeting Professional ",null,null,null,null,"Live Meeting Professional "]
["Account Team Inputs","Public IM Access",null,null,null,null,"Public IM Access"]
["Account Team Inputs","Exchange Hosted Filtering",null,null,null,null,"Exchange Hosted Filtering"]
["Account Team Inputs","Exchange Hosted Archiving",null,null,null,null,"Exchange Hosted Archiving"]
["Account Team Inputs","Exchange Hosted Continuity",null,null,null,null,"Exchange Hosted Continuity"]
["Account Team Inputs","Exchange Hosted Encryption",null,null,null,null,"Exchange Hosted Encryption"]
["Account Team Inputs","Forefront for Exchange",null,null,null,null,"Forefront for Exchange"]
["Account Team Inputs","Forefront for OCS",null,null,null,null,"Forefront for OCS"]
["Account Team Inputs","License Only",null,null,null,null,"License Only"]
["Account Team Inputs","License + SA  - annual price for 3 years",null,null,null,null,"License + SA  - annual price for 3 years"]
["Account Team Inputs","SA Only - annual price for 3 years",null,null,null,null,"SA Only - annual price for 3 years"]
["Account Team Inputs","# of licenses currently covered by Software Assurance (used for Exchange or LCS/OCS)",null,null,null,null,"# of licenses currently covered by Software Assurance (used for Exchange or LCS/OCS)"]
["Account Team Inputs","Monthly Cost per User",null,null,null,null,"Monthly Cost per User"]
["Account Team Inputs","Enterprise CAL Suite Step-up",null,null,null,null,"Enterprise CAL Suite Step-up"]
[null,0]
["Start Page","This tool has been set up to help produce a business case for deploying a Microsoft Unified Communications solution. Before starting, please view the user guide by clicking here.",null,null,null,null,"This tool has been set up to help produce a business case for deploying a Microsoft Unified Communications solution. Before starting, please view the user guide by clicking here."]
["Start Page","What is the organization's name?",null,null,null,null,"What is the organization's name?"]
["Start Page","How many users does the organization have?",null,null,null,null,"How many users does the organization have?"]
["Start Page","Where is the organization located?",null,null,null,null,"Where is the organization located?"]
["Start Page","Which Unified Communications workloads would you like to analyze?",null,null,null,null,"Which Unified Communications workloads would you like to analyze?"]
["Start Page","Although great care has been taken to ensure the accuracy and completeness of results derived from this tool, this tool should be used for informational purposes only, and Microsoft makes no warranties, express, implied or statutory, as to the information generated by the tool or any organization's achievement of the potential benefits estimated by using Microsoft solutions or products.  Use, disclosure or reproduction of this tool is prohibited without the prior written permission of Microsoft Corporation.",null,null,null,null,"Although great care has been taken to ensure the accuracy and completeness of results derived from this tool, this tool should be used for informational purposes only, and Microsoft makes no warranties, express, implied or statutory, as to the information generated by the tool or any organization's achievement of the potential benefits estimated by using Microsoft solutions or products.  Use, disclosure or reproduction of this tool is prohibited without the prior written permission of Microsoft Corporation."]
[null,0]
["Basic","General Information",null,null,null,null,"General Information"]
["Basic","Company Information",null,null,null,null,"Company Information"]
["Basic","What is your organization's revenue?",null,null,null,null,"What is your organization's revenue?"]
["Basic","What is your organization's gross profit margin?",null,null,null,null,"What is your organization's gross profit margin?"]
["Basic","How does your organization typically adopt technology?",null,null,null,null,"How does your organization typically adopt technology?"]
["Basic",{"$f":"OFFSET(G66,,LanguageOffset)","v":"Cost Information"},null,null,null,null,"Cost Information"]
["Basic","What do you typically pay for hardware maintenance as a percent of hardware cost?",null,null,null,null,"What do you typically pay for hardware maintenance as a percent of hardware cost?"]
["Basic","Over how many years does the organization typically depreciate hardware?",null,null,null,null,"Over how many years does the organization typically depreciate hardware?"]
["Basic","What do you typically pay for datacenter costs for each server?",null,null,null,null,"What do you typically pay for datacenter costs for each server?"]
["Basic","What is the average fully burdened salary of IT administrators?",null,null,null,null,"What is the average fully burdened salary of IT administrators?"]
["Basic","What is the weighted average fully burdened salary of computer users?",null,null,null,null,"What is the weighted average fully burdened salary of computer users?"]
["Basic","Deployment Information",null,null,null,null,"Deployment Information"]
["Basic","Enter the number of users with access to the solution.",null,null,null,null,"Enter the number of users with access to the solution."]
["Basic","Will you choose an on-premises or online solution?",null,null,null,null,"Will you choose an on-premises or online solution?"]
["Basic","Product Information",null,null,null,null,"Product Information"]
["Basic","Exchange Inputs",null,null,null,null,"Exchange Inputs"]
["Basic","What is the current monthly cost per mailbox for your messaging environment?",null,null,null,null,"What is the current monthly cost per mailbox for your messaging environment?"]
["Basic","What is the current e-mail usage profile of employees with mailboxes?",null,null,null,null,"What is the current e-mail usage profile of employees with mailboxes?"]
["Basic","Light  - Average of 5 messages sent and 20 received per day",null,null,null,null,"Light  - Average of 5 messages sent and 20 received per day"]
["Basic","Average  - Average of 10 messages sent and 40 received per day",null,null,null,null,"Average  - Average of 10 messages sent and 40 received per day"]
["Basic","Heavy  - Average of 20 messages sent and 80 received per day",null,null,null,null,"Heavy  - Average of 20 messages sent and 80 received per day"]
["Basic","Very Heavy  - Average of 30 messages sent and 120 received per day",null,null,null,null,"Very Heavy  - Average of 30 messages sent and 120 received per day"]
["Basic","Extra Heavy  - Average of 40 messages sent and 160 received per day",null,null,null,null,"Extra Heavy  - Average of 40 messages sent and 160 received per day"]
["Basic","What percentage of users currently access e-mail remotely through:",null,null,null,null,"What percentage of users currently access e-mail remotely through:"]
["Basic","ActiveSync mobile device (e.g. Windows Mobile)",null,null,null,null,"ActiveSync mobile device (e.g. Windows Mobile)"]
["Basic","Non-ActiveSync mobile device (e.g. RIM Blackberry)",null,null,null,null,"Non-ActiveSync mobile device (e.g. RIM Blackberry)"]
["Basic","Will you deploy Exchange 2007 or Exchange 2010?",null,null,null,null,"Will you deploy Exchange 2007 or Exchange 2010?"]
["Basic","What will you use as your primary e-mail client?",null,null,null,null,"What will you use as your primary e-mail client?"]
["Basic","What mailbox size (in MB) will you provide?",null,null,null,null,"What mailbox size (in MB) will you provide?"]
["Basic","What type of storage will you use?",null,null,null,null,"What type of storage will you use?"]
["Basic","How many voice mail systems do you have?",null,null,null,null,"How many voice mail systems do you have?"]
["Basic","Lync Server Inputs",null,null,null,null,"Lync Server Inputs"]
["Basic","What is the current monthly cost per user for your IM/Presence environment?",null,null,null,null,"What is the current monthly cost per user for your IM/Presence environment?"]
["Basic","How many central or headquarters locations does your organization have?",null,null,null,null,"How many central or headquarters locations does your organization have?"]
["Basic","How many branch office locations does you organization have?",null,null,null,null,"How many branch office locations does you organization have?"]
["Basic","What percent of total users are at branch office locations?",null,null,null,null,"What percent of total users are at branch office locations?"]
["Basic","What percent of total users are teleworkers?",null,null,null,null,"What percent of total users are teleworkers?"]
["Basic","How many locations have a PBX or key system (branch office PBX)?",null,null,null,null,"How many locations have a PBX or key system (branch office PBX)?"]
["Basic","Will you deploy Lync Server using SIP Trunking?",null,null,null,null,"Will you deploy Lync Server using SIP Trunking?"]
["Basic","What phone options will you provide to users?",null,null,null,null,"What phone options will you provide to users?"]
["Basic","IP-enabled phones (e.g. Tanjay)",null,null,null,null,"IP-enabled phones (e.g. Tanjay)"]
["Basic","USB handset (e.g. Catalina)",null,null,null,null,"USB handset (e.g. Catalina)"]
["Basic","USB Headset (e.g. GN Netcom)",null,null,null,null,"USB Headset (e.g. GN Netcom)"]
["Basic","Benefit Information - Decreasing Costs",null,null,null,null,"Benefit Information - Decreasing Costs"]
["Basic","Reduce Travel Cost for Meetings and Training",null,null,null,null,"Reduce Travel Cost for Meetings and Training"]
["Basic","What % of your employees travel for meetings or training?",null,null,null,null,"What % of your employees travel for meetings or training?"]
["Basic","How many trips per year do your employees take on average?",null,null,null,null,"How many trips per year do your employees take on average?"]
["Basic","What is the average cost per trip?",null,null,null,null,"What is the average cost per trip?"]
["Basic","What are your total annual travel costs?",null,null,null,null,"What are your total annual travel costs?"]
["Basic","What % of trips could be avoided with a UC Conferencing solution?",null,null,null,null,"What % of trips could be avoided with a UC Conferencing solution?"]
["Basic","Cut Audio/Video/Web Conferencing Costs",null,null,null,null,"Cut Audio/Video/Web Conferencing Costs"]
["Basic","Reduce Audio Conferencing Cost",null,null,null,null,"Reduce Audio Conferencing Cost"]
["Basic","How many audio conferencing minutes do you pay for annually?",null,null,null,null,"How many audio conferencing minutes do you pay for annually?"]
["Basic","What is the cost per minute paid to your service provider?",null,null,null,null,"What is the cost per minute paid to your service provider?"]
["Basic","What is the current total annual cost for audio conferencing services (including service provider costs)?",null,null,null,null,"What is the current total annual cost for audio conferencing services (including service provider costs)?"]
["Basic","What % of audio conferencing can be replaced with OCS VoIP or the OCS conferencing bridge?",null,null,null,null,"What % of audio conferencing can be replaced with OCS VoIP or the OCS conferencing bridge?"]
["Basic","What rate will you pay for PSTN toll free access numbers?",null,null,null,null,"What rate will you pay for PSTN toll free access numbers?"]
["Basic","Reduce Video Conferencing Cost",null,null,null,null,"Reduce Video Conferencing Cost"]
["Basic","What is the current total annual cost for video conferencing services (including service provider costs)?",null,null,null,null,"What is the current total annual cost for video conferencing services (including service provider costs)?"]
["Basic","What % of video conferences can be replaced with OCS VoIP and  OCS Web conferencing or Live Meeting?",null,null,null,null,"What % of video conferences can be replaced with OCS VoIP and  OCS Web conferencing or Live Meeting?"]
["Basic","Reduce Web conferencing costs",null,null,null,null,"Reduce Web conferencing costs"]
["Basic","What is the current total annual cost for Web conferencing services (including service provider costs)?",null,null,null,null,"What is the current total annual cost for Web conferencing services (including service provider costs)?"]
["Basic","What % of Web conferences can be replaced with OCS VoIP and  OCS Web conferencing or Live Meeting?",null,null,null,null,"What % of Web conferences can be replaced with OCS VoIP and  OCS Web conferencing or Live Meeting?"]
["Basic","Cut Telephony Costs",null,null,null,null,"Cut Telephony Costs"]
["Basic","Reduce PBX Management costs",null,null,null,null,"Reduce PBX Management costs"]
["Basic","What is the current annual cost for PBX management?",null,null,null,null,"What is the current annual cost for PBX management?"]
["Basic","Is PBX Management outsourced? If so, when does the contract expire",null,null,null,null,"Is PBX Management outsourced? If so, when does the contract expire"]
["Basic","What is cost of annual PBX maintenance?",null,null,null,null,"What is cost of annual PBX maintenance?"]
["Basic","If you have a maintenance contract, when does it expire?",null,null,null,null,"If you have a maintenance contract, when does it expire?"]
["Basic",{"$f":"OFFSET(G130,,LanguageOffset)","v":"Reduce telephony service provider costs"},null,null,null,null,"Reduce telephony service provider costs"]
["Basic","What is total annual cost for long distance, toll charges, and trunking charges (e.g. T1, PRI)?",null,null,null,null,"What is total annual cost for long distance, toll charges, and trunking charges (e.g. T1, PRI)?"]
["Basic","What is % reduction in office telephone costs (toll charges and trunking costs)?",null,null,null,null,"What is % reduction in office telephone costs (toll charges and trunking costs)?"]
["Basic","What is the total annual cost of telephony charges for mobile employees (e.g. calling card, cell phone)?",null,null,null,null,"What is the total annual cost of telephony charges for mobile employees (e.g. calling card, cell phone)?"]
["Basic","What is % of mobile calls that can be replaced using Microsoft soft client?",null,null,null,null,"What is % of mobile calls that can be replaced using Microsoft soft client?"]
["Basic","Savings from office moves",null,null,null,null,"Savings from office moves"]
["Basic","What was the cost per move prior to implementing solution?",null,null,null,null,"What was the cost per move prior to implementing solution?"]
["Basic","How many people move offices annually?",null,null,null,null,"How many people move offices annually?"]
["Basic","What is the cost per move with OCS VoIP?",null,null,null,null,"What is the cost per move with OCS VoIP?"]
["Basic","Lower Real-Estate Costs",null,null,null,null,"Lower Real-Estate Costs"]
["Basic","What is your current sq. ft/sq. m per employee?",null,null,null,null,"What is your current sq. ft/sq. m per employee?"]
["Basic","What % of employees could go mobile with alternative work strategies (i.e. hot-desking or telework)",null,null,null,null,"What % of employees could go mobile with alternative work strategies (i.e. hot-desking or telework)"]
["Basic","What is the average annual facilities cost per sq. ft./sq. m?",null,null,null,null,"What is the average annual facilities cost per sq. ft./sq. m?"]
["Basic","Reduce Messaging and Voice Mail Costs",null,null,null,null,"Reduce Messaging and Voice Mail Costs"]
["Basic","Reduce the cost of messaging administration and support",null,null,null,null,"Reduce the cost of messaging administration and support"]
["Basic","What is the current annual cost of messaging help desk support?",null,null,null,null,"What is the current annual cost of messaging help desk support?"]
["Basic","What is the current annual cost of messaging administration?",null,null,null,null,"What is the current annual cost of messaging administration?"]
["Basic","Reduce the cost of third party products",null,null,null,null,"Reduce the cost of third party products"]
["Basic","What is the annual cost of third party products that can be retired?",null,null,null,null,"What is the annual cost of third party products that can be retired?"]
["Basic","Mobile e-mail hardware and software",null,null,null,null,"Mobile e-mail hardware and software"]
["Basic","Archiving",null,null,null,null,"Archiving"]
["Basic","High Availability/Clustering",null,null,null,null,"High Availability/Clustering"]
["Basic","Anti-virus/Anti-SPAM",null,null,null,null,"Anti-virus/Anti-SPAM"]
["Basic","Backup",null,null,null,null,"Backup"]
["Basic","Reporting and Monitoring",null,null,null,null,"Reporting and Monitoring"]
["Basic","Compliance",null,null,null,null,"Compliance"]
["Basic","Other",null,null,null,null,"Other"]
["Basic","Reduce the cost of backups",null,null,null,null,"Reduce the cost of backups"]
["Basic","Current annual cost of backups?",null,null,null,null,"Current annual cost of backups?"]
["Basic","% of backups that can be reduced?",null,null,null,null,"% of backups that can be reduced?"]
["Basic","Reduce the Cost for Voicemail",null,null,null,null,"Reduce the Cost for Voicemail"]
["Basic","Is your voice mail system consolidated or distributed?",null,null,null,null,"Is your voice mail system consolidated or distributed?"]
["Basic","What is the current annual cost for Voice Mail management?",null,null,null,null,"What is the current annual cost for Voice Mail management?"]
["Basic","If voice mail management is outsourced, when does contract expire?",null,null,null,null,"If voice mail management is outsourced, when does contract expire?"]
["Basic","What is cost of annual voicemail maintenance?",null,null,null,null,"What is cost of annual voicemail maintenance?"]
["Basic","If you have maintenance contract, when does it expire?",null,null,null,null,"If you have maintenance contract, when does it expire?"]
["Basic","Benefit Information - Improving Business Outcomes",null,null,null,null,"Benefit Information - Improving Business Outcomes"]
["Basic","Increase End-User Productivity",null,null,null,null,"Increase End-User Productivity"]
["Basic","How many minutes per day can you save:",null,null,null,null,"How many minutes per day can you save:"]
["Basic","Improving the efficiency of messaging",null,null,null,null,"Improving the efficiency of messaging"]
["Basic","Managing e-mails with a larger mailbox?",null,null,null,null,"Managing e-mails with a larger mailbox?"]
["Basic","Using UC solutions to find people or information?",null,null,null,null,"Using UC solutions to find people or information?"]
["Basic","Turning downtime into uptime through mobile access?",null,null,null,null,"Turning downtime into uptime through mobile access?"]
["Basic","How many hours per month can you save:",null,null,null,null,"How many hours per month can you save:"]
["Basic","Avoiding travel to meetings or other locations?",null,null,null,null,"Avoiding travel to meetings or other locations?"]
["Basic","What % of time savings can be used for other productive activities?",null,null,null,null,"What % of time savings can be used for other productive activities?"]
["Basic","Reduce the cost of e-mail downtime",null,null,null,null,"Reduce the cost of e-mail downtime"]
["Basic","What is your current availability for e-mail?",null,null,null,null,"What is your current availability for e-mail?"]
["Basic","What is your expected availability after deployment?",null,null,null,null,"What is your expected availability after deployment?"]
["Basic","How much does e-mail downtime cost your organization per hour?",null,null,null,null,"How much does e-mail downtime cost your organization per hour?"]
["Basic","What % of downtime results in lost productivity or revenues?",null,null,null,null,"What % of downtime results in lost productivity or revenues?"]
["Basic","Faster Project Completion",null,null,null,null,"Faster Project Completion"]
["Basic","How many projects does your organization complete annually?",null,null,null,null,"How many projects does your organization complete annually?"]
["Basic","How much revenue is typically associated with each project?",null,null,null,null,"How much revenue is typically associated with each project?"]
["Basic","What is the reduction in project time due to improved collaboration?",null,null,null,null,"What is the reduction in project time due to improved collaboration?"]
["Basic","What % of the time savings could be applied to new projects?",null,null,null,null,"What % of the time savings could be applied to new projects?"]
["Basic","Shorten Sales Cycle Times",null,null,null,null,"Shorten Sales Cycle Times"]
["Basic","How long is the average sales cycle in days?",null,null,null,null,"How long is the average sales cycle in days?"]
["Basic","How much revenue does a typical sale generate?",null,null,null,null,"How much revenue does a typical sale generate?"]
["Basic","What is the average close rate (% of successful proposals)?",null,null,null,null,"What is the average close rate (% of successful proposals)?"]
["Basic","How many proposals are completed each year?",null,null,null,null,"How many proposals are completed each year?"]
["Basic","How much time can be saved through more effective communications?",null,null,null,null,"How much time can be saved through more effective communications?"]
["Basic","Retain and Attract Employees",null,null,null,null,"Retain and Attract Employees"]
["Basic","What is your average annual employee turnover?",null,null,null,null,"What is your average annual employee turnover?"]
["Basic",{"$f":"OFFSET(G194,,LanguageOffset)","v":"What is the average cost to replace an employee? (recruiting, training)?"},null,null,null,null,"What is the average cost to replace an employee? (recruiting, training)?"]
["Basic","How much could a more flexible work environment reduce turnover?",null,null,null,null,"How much could a more flexible work environment reduce turnover?"]
["Basic","Faster Resolution of Customer Issues",null,null,null,null,"Faster Resolution of Customer Issues"]
["Basic","How many contact center calls are received annually?",null,null,null,null,"How many contact center calls are received annually?"]
["Basic","What is the cost per contact center call?",null,null,null,null,"What is the cost per contact center call?"]
["Basic","What % of issues are solved on the first call?",null,null,null,null,"What % of issues are solved on the first call?"]
["Basic","What % of issues could be solved on the first call with UC?",null,null,null,null,"What % of issues could be solved on the first call with UC?"]
["Basic","Benefit Information - Environmental Sustainability",null,null,null,null,"Benefit Information - Environmental Sustainability"]
["Basic","Environmental cost savings",null,null,null,null,"Environmental cost savings"]
["Basic","Reduce Carbon Footprint",null,null,null,null,"Reduce Carbon Footprint"]
["Basic","How many miles/kilometers will each user avoid driving per day:",null,null,null,null,"How many miles/kilometers will each user avoid driving per day:"]
["Basic","What % of users will use UC solutions to avoid driving each day?",null,null,null,null,"What % of users will use UC solutions to avoid driving each day?"]
["Basic","How many miles/kilometers per day will be avoided per person?",null,null,null,null,"How many miles/kilometers per day will be avoided per person?"]
["Basic","How many tons/tonnes of CO2 are released per mile/km?",null,null,null,null,"How many tons/tonnes of CO2 are released per mile/km?"]
["Basic","How many miles/kilometers of air travel per month can you save:",null,null,null,null,"How many miles/kilometers of air travel per month can you save:"]
["Basic","What % of users will use UC solutions to avoid flying each month?",null,null,null,null,"What % of users will use UC solutions to avoid flying each month?"]
["Basic","How many miles/kilometers per month will be avoided per person?",null,null,null,null,"How many miles/kilometers per month will be avoided per person?"]
["Basic","How many tons/tonnes of CO2 are released per mile/km?",null,null,null,null,"How many tons/tonnes of CO2 are released per mile/km?"]
["Basic","Total tons/tonnes of CO2 saved",null,null,null,null,"Total tons/tonnes of CO2 saved"]
["Basic","Cost per ton/tonne of CO2 of carbon offsets",null,null,null,null,"Cost per ton/tonne of CO2 of carbon offsets"]
["Basic","Energy savings through server/systems consolidation",null,null,null,null,"Energy savings through server/systems consolidation"]
["Basic","Number of systems reduced due to consolidation or virtualization?",null,null,null,null,"Number of systems reduced due to consolidation or virtualization?"]
[null,0]
["Summary Results","The Unified Communications solution you have chosen includes ",null,null,null,null,"The Unified Communications solution you have chosen includes "]
["Summary Results","These capabilities require the deployment of ",null,null,null,null,"These capabilities require the deployment of "]
["Summary Results"," Live Meeting hosted Web conferencing is also included.",null,null,null,null," Live Meeting hosted Web conferencing is also included."]
["Summary Results","Cash Flow",null,null,null,null,"Cash Flow"]
["Summary Results","Financial Summary",null,null,null,null,"Financial Summary"]
["Summary Results","Costs",null,null,null,null,"Costs"]
["Summary Results","Benefits",null,null,null,null,"Benefits"]
["Summary Results","Net Cash Flow",null,null,null,null,"Net Cash Flow"]
["Summary Results","Cumulative Cash Flow",null,null,null,null,"Cumulative Cash Flow"]
["Summary Results","IRR",null,null,null,null,"IRR"]
["Summary Results","NPV",null,null,null,null,"NPV"]
["Summary Results","Payback",null,null,null,null,"Payback"]
["Summary Results","ROI",null,null,null,null,"ROI"]
["Summary Results","Discount rate",null,null,null,null,"Discount rate"]
["Summary Results","Benefits",null,null,null,null,"Benefits"]
["Summary Results","Improving Business Outcomes",null,null,null,null,"Improving Business Outcomes"]
["Summary Results","Decreasing Costs",null,null,null,null,"Decreasing Costs"]
["Summary Results","Environmental Sustainability",null,null,null,null,"Environmental Sustainability"]
["Summary Results","Additional Benefits",null,null,null,null,"Additional Benefits"]
["Summary Results","Total Potential Annual Benefits",null,null,null,null,"Total Potential Annual Benefits"]
["Summary Results","Total benefits expected over 3 years",null,null,null,null,"Total benefits expected over 3 years"]
["Summary Results","3-Year Cumulative Cash Flow",null,null,null,null,"3-Year Cumulative Cash Flow"]
["Summary Results","Expected Benefits Based on Adoption Schedule",null,null,null,null,"Expected Benefits Based on Adoption Schedule"]
["Summary Results","TCO Comparison by Workload",null,null,null,null,"TCO Comparison by Workload"]
[null,0]
["Cost Comparison","The costs below represent an annual cost of ownership. TCO is calculated as the sum of all costs incurred over three years, including all deployment costs divided by three to get an average cost per year. Go to the Update Costs tab to modify cost assumptions or provide additional details.",null,null,null,null,"The costs below represent an annual cost of ownership. TCO is calculated as the sum of all costs incurred over three years, including all deployment costs divided by three to get an average cost per year. Go to the Update Costs tab to modify cost assumptions or provide additional details."]
["Cost Comparison","TCO Comparison By Cost Category",null,null,null,null,"TCO Comparison By Cost Category"]
["Cost Comparison","TCO Comparison By Workload ",null,null,null,null,"TCO Comparison By Workload "]
["Cost Comparison","Server",null,null,null,null,"Server"]
["Cost Comparison","Storage",null,null,null,null,"Storage"]
["Cost Comparison","Other",null,null,null,null,"Other"]
["Cost Comparison","Server, CAL, Services",null,null,null,null,"Server, CAL, Services"]
["Cost Comparison","Desktop Application",null,null,null,null,"Desktop Application"]
["Cost Comparison","Administration",null,null,null,null,"Administration"]
["Cost Comparison","Support/Helpdesk",null,null,null,null,"Support/Helpdesk"]
["Cost Comparison","Datacenter",null,null,null,null,"Datacenter"]
["Cost Comparison","Network Bandwidth",null,null,null,null,"Network Bandwidth"]
["Cost Comparison","Outside Services",null,null,null,null,"Outside Services"]
["Cost Comparison","Deployment",null,null,null,null,"Deployment"]
["Cost Comparison","Training",null,null,null,null,"Training"]
["Cost Comparison","Annual Cost of Ownership",null,null,null,null,"Annual Cost of Ownership"]
["Cost Comparison",{"$f":"OFFSET(G258,,LanguageOffset)","v":"TCO Comparison"},null,null,null,null,"TCO Comparison"]
["Cost Comparison","TCO Comparison by Workload",null,null,null,null,"TCO Comparison by Workload"]
["Cost Comparison","Messaging TCO Comparison",null,null,null,null,"Messaging TCO Comparison"]
["Cost Comparison","IM/Presence TCO Comparison",null,null,null,null,"IM/Presence TCO Comparison"]
["Cost Comparison","Conferencing TCO Comparison",null,null,null,null,"Conferencing TCO Comparison"]
["Cost Comparison","Voice TCO Comparison",null,null,null,null,"Voice TCO Comparison"]
[null,0]
[null,0]
["Results","6-Year Cost Analysis",null,null,null,null,"6-Year Cost Analysis"]
["Results","This chart compares the costs of deploying an on-premise solution with the costs of a solution from Microsoft Online Services. The chart uses a six year outlook to include the cost of upgrading to the next version of the software. The chart assumes that you would upgrade your on-premise software every three years. Desktop software such as the Office Suite has been excluded.",null,null,null,null,"This chart compares the costs of deploying an on-premise solution with the costs of a solution from Microsoft Online Services. The chart uses a six year outlook to include the cost of upgrading to the next version of the software. The chart assumes that you would upgrade your on-premise software every three years. Desktop software such as the Office Suite has been excluded."]
["Results","Cost Comparison ",null,null,null,null,"Cost Comparison "]
["Results","Cumulative Costs Over 6 Years ",null,null,null,null,"Cumulative Costs Over 6 Years "]
["Results","3-Year TCO - Average Annual Cost Over 3 -Years",null,null,null,null,"3-Year TCO - Average Annual Cost Over 3 -Years"]
["Results","6-Year TCO - Average Annual Cost Over 6 Years ",null,null,null,null,"6-Year TCO - Average Annual Cost Over 6 Years "]
["Results","TCO Analysis",null,null,null,null,"TCO Analysis"]
["Results","TCO is the sum of all of the costs incurred for the software and services deployed divided by the number of years being analyzed. Both 3-year and 6-year results are shown here comparing the total cost of ownership for an on-premise solution and a hosted solution.",null,null,null,null,"TCO is the sum of all of the costs incurred for the software and services deployed divided by the number of years being analyzed. Both 3-year and 6-year results are shown here comparing the total cost of ownership for an on-premise solution and a hosted solution."]
[null,0]
[null,0]
["Messaging Deployment","Will you choose an online, on-premises, or hybrid solution?",null,null,null,null,"Will you choose an online, on-premises, or hybrid solution?"]
["Messaging Deployment","What will you use as your primary e-mail client?",null,null,null,null,"What will you use as your primary e-mail client?"]
["Messaging Deployment","What version of Exchange Server will you deploy?",null,null,null,null,"What version of Exchange Server will you deploy?"]
["Messaging Deployment","How many locations/datacenters will need mailbox servers?",null,null,null,null,"How many locations/datacenters will need mailbox servers?"]
["Messaging Deployment","How many users are supported by each location?",null,null,null,null,"How many users are supported by each location?"]
["Messaging Deployment","Exchange On-premises",null,null,null,null,"Exchange On-premises"]
["Messaging Deployment","Exchange Online",null,null,null,null,"Exchange Online"]
["Messaging Deployment","Exchange Online Deskless Worker",null,null,null,null,"Exchange Online Deskless Worker"]
["Messaging Deployment","What percentage of the users listed will receive each option?",null,null,null,null,"What percentage of the users listed will receive each option?"]
["Messaging Deployment","Compliance Options",null,null,null,null,"Compliance Options"]
["Messaging Deployment","Information Leakage Protection",null,null,null,null,"Information Leakage Protection"]
["Messaging Deployment","Forefront Security for Exchange",null,null,null,null,"Forefront Security for Exchange"]
["Messaging Deployment","Personal Archive",null,null,null,null,"Personal Archive"]
["Messaging Deployment","Forefront Online Security for Exchange",null,null,null,null,"Forefront Online Security for Exchange"]
["Messaging Deployment","Exchange Hosted Archiving",null,null,null,null,"Exchange Hosted Archiving"]
["Messaging Deployment","Exchange Hosted Continuity",null,null,null,null,"Exchange Hosted Continuity"]
["Messaging Deployment","Exchange Hosted Encryption",null,null,null,null,"Exchange Hosted Encryption"]
["Messaging Deployment","Exchange Server 2007",null,null,null,null,"Exchange Server 2007"]
["Messaging Deployment","With Exchange Server 2007 which high availability option will you choose?",null,null,null,null,"With Exchange Server 2007 which high availability option will you choose?"]
["Messaging Deployment","Do you need a geographically redundant disaster recovery system?",null,null,null,null,"Do you need a geographically redundant disaster recovery system?"]
["Messaging Deployment","How many locations will you use for copies",null,null,null,null,"How many locations will you use for copies"]
["Messaging Deployment","How many copies will you make of each mailbox server",null,null,null,null,"How many copies will you make of each mailbox server"]
["Messaging Deployment","What mailbox size in MB are you considering with Exchange Server 2007?",null,null,null,null,"What mailbox size in MB are you considering with Exchange Server 2007?"]
["Messaging Deployment","Exchange Server 2010",null,null,null,null,"Exchange Server 2010"]
["Messaging Deployment","Will you use Database Availability Groups (DAG) for high availability?",null,null,null,null,"Will you use Database Availability Groups (DAG) for high availability?"]
["Messaging Deployment","What percentage of server redundancy will you use?",null,null,null,null,"What percentage of server redundancy will you use?"]
["Messaging Deployment","How many total copies will you make of each database?",null,null,null,null,"How many total copies will you make of each database?"]
["Messaging Deployment","Will you deploy Rights Management Server to take advantage of Control Point IRM?",null,null,null,null,"Will you deploy Rights Management Server to take advantage of Control Point IRM?"]
["Messaging Deployment","What average mailbox size in MB are you planning for Exchange Server 2010?",null,null,null,null,"What average mailbox size in MB are you planning for Exchange Server 2010?"]
["Messaging Deployment","What percentage of users access e-mail remotely through:",null,null,null,null,"What percentage of users access e-mail remotely through:"]
["Messaging Deployment","Outlook Web Access",null,null,null,null,"Outlook Web Access"]
["Messaging Deployment","Outlook Anywhere",null,null,null,null,"Outlook Anywhere"]
["Messaging Deployment","ActiveSync mobile device (e.g. Windows Mobile)",null,null,null,null,"ActiveSync mobile device (e.g. Windows Mobile)"]
["Messaging Deployment","Which ActiveSync mobile OS will you use?",null,null,null,null,"Which ActiveSync mobile OS will you use?"]
["Messaging Deployment","Monthly cost per device for licenses and data plan - (excluding phone plan)",null,null,null,null,"Monthly cost per device for licenses and data plan - (excluding phone plan)"]
["Messaging Deployment","Non-ActiveSync mobile device (e.g. RIM Blackberry)",null,null,null,null,"Non-ActiveSync mobile device (e.g. RIM Blackberry)"]
["Messaging Deployment","Monthly cost per device for licenses and data plan - (excluding phone plan)",null,null,null,null,"Monthly cost per device for licenses and data plan - (excluding phone plan)"]
["Messaging Deployment","Will you require a new tape backup system?",null,null,null,null,"Will you require a new tape backup system?"]
["Messaging Deployment","What type of storage will you use?",null,null,null,null,"What type of storage will you use?"]
["Messaging Deployment","What is the maximum number of e-mail accounts you are willing to put on one mailbox server?",null,null,null,null,"What is the maximum number of e-mail accounts you are willing to put on one mailbox server?"]
["Messaging Deployment","What size personal archive will you provide in MB?",null,null,null,null,"What size personal archive will you provide in MB?"]
["Messaging Deployment","Will you use a separate storage system for archived mail?",null,null,null,null,"Will you use a separate storage system for archived mail?"]
["Messaging Deployment","How many Exchange users will receive voice mail through Unified Messaging?",null,null,null,null,"How many Exchange users will receive voice mail through Unified Messaging?"]
[null,0]
["IM Deployment","Will you choose an online, on-premises or hybrid solution?",null,null,null,null,"Will you choose an online, on-premises or hybrid solution?"]
["IM Deployment","What version of OCS software will you deploy?",null,null,null,null,"What version of OCS software will you deploy?"]
["IM Deployment",{"$f":"OFFSET(G322,,LanguageOffset)","v":"How many locations/datacenters will need OCS servers?"},null,null,null,null,"How many locations/datacenters will need OCS servers?"]
["IM Deployment","How many users are supported by each location?",null,null,null,null,"How many users are supported by each location?"]
["IM Deployment","OCS On-premises",null,null,null,null,"OCS On-premises"]
["IM Deployment","Office Communication Online",null,null,null,null,"Office Communication Online"]
["IM Deployment","What percentage of users will receive these options?",null,null,null,null,"What percentage of users will receive these options?"]
["IM Deployment","Logging/Archiving",null,null,null,null,"Logging/Archiving"]
["IM Deployment","Remote and Mobile Access",null,null,null,null,"Remote and Mobile Access"]
["IM Deployment","Group Chat",null,null,null,null,"Group Chat"]
["IM Deployment","Public IM Access",null,null,null,null,"Public IM Access"]
["IM Deployment","Forefront",null,null,null,null,"Forefront"]
["IM Deployment","What percentage of users access IM remotely through:",null,null,null,null,"What percentage of users access IM remotely through:"]
["IM Deployment","Web Access",null,null,null,null,"Web Access"]
["IM Deployment","Communicator Mobile 3.0",null,null,null,null,"Communicator Mobile 3.0"]
["IM Deployment","Other mobile devices",null,null,null,null,"Other mobile devices"]
["IM Deployment","What type of storage will you use?",null,null,null,null,"What type of storage will you use?"]
[null,0]
[null,0]
["Conferencing Deployment","Are you interested in an on-premises Web conferencing or the Live Meeting hosted service?",null,null,null,null,"Are you interested in an on-premises Web conferencing or the Live Meeting hosted service?"]
["Conferencing Deployment","How many users will receive Live Meeting accounts?",null,null,null,null,"How many users will receive Live Meeting accounts?"]
["Conferencing Deployment","How many users will receive Live Meeting Professional accounts?",null,null,null,null,"How many users will receive Live Meeting Professional accounts?"]
["Conferencing Deployment","How many Polycom CX-5000 video conferencing devices will you deploy?",null,null,null,null,"How many Polycom CX-5000 video conferencing devices will you deploy?"]
["Conferencing Deployment","What percentage of users will receive these options?",null,null,null,null,"What percentage of users will receive these options?"]
["Conferencing Deployment","VOIP Audio/Video Conferencing",null,null,null,null,"VOIP Audio/Video Conferencing"]
["Conferencing Deployment","On-premise Web Conferencing",null,null,null,null,"On-premise Web Conferencing"]
["Conferencing Deployment","Logging/Archiving",null,null,null,null,"Logging/Archiving"]
["Conferencing Deployment","How will you deploy on-premise conferencing among your office locations?",null,null,null,null,"How will you deploy on-premise conferencing among your office locations?"]
["Conferencing Deployment","How many central or headquarters locations will receive conferencing?",null,null,null,null,"How many central or headquarters locations will receive conferencing?"]
["Conferencing Deployment","What percentage of conferencing users are at central locations?",null,null,null,null,"What percentage of conferencing users are at central locations?"]
["Conferencing Deployment","How many remote locations will receive conferencing?",null,null,null,null,"How many remote locations will receive conferencing?"]
["Conferencing Deployment","What percentage of conferencing users are at remote locations?",null,null,null,null,"What percentage of conferencing users are at remote locations?"]
[null,0]
[null,0]
["Voice Deployment","How will you deploy OCS Enterprise Voice to your OCS on-premise users",null,null,null,null,"How will you deploy OCS Enterprise Voice to your OCS on-premise users"]
["Voice Deployment","How many users will receive enterprise voice?",null,null,null,null,"How many users will receive enterprise voice?"]
["Voice Deployment","What percentage of voice users will connect through a PBX for voice calls?",null,null,null,null,"What percentage of voice users will connect through a PBX for voice calls?"]
["Voice Deployment","What percentage of voice users will receive Call Data Recording (CDR)?",null,null,null,null,"What percentage of voice users will receive Call Data Recording (CDR)?"]
["Voice Deployment","How will you deploy enterprise voice among your office locations",null,null,null,null,"How will you deploy enterprise voice among your office locations"]
["Voice Deployment","How many central or headquarters locations will receive voice?",null,null,null,null,"How many central or headquarters locations will receive voice?"]
["Voice Deployment","What percentage of voice users are at central locations?",null,null,null,null,"What percentage of voice users are at central locations?"]
["Voice Deployment","How many remote locations will receive voice?",null,null,null,null,"How many remote locations will receive voice?"]
["Voice Deployment","What percentage of voice users are at remote locations?",null,null,null,null,"What percentage of voice users are at remote locations?"]
["Voice Deployment","# of exit points to the PSTN",null,null,null,null,"# of exit points to the PSTN"]
["Voice Deployment","# of standard digital gateways",null,null,null,null,"# of standard digital gateways"]
["Voice Deployment","# of mediation servers",null,null,null,null,"# of mediation servers"]
["Voice Deployment","# of analog gateways",null,null,null,null,"# of analog gateways"]
["Voice Deployment","# of Survivable Branch Appliances",null,null,null,null,"# of Survivable Branch Appliances"]
["Voice Deployment","What phone options will you provide to voice users",null,null,null,null,"What phone options will you provide to voice users"]
["Voice Deployment","IP-enabled phones (e.g. Tanjay)",null,null,null,null,"IP-enabled phones (e.g. Tanjay)"]
["Voice Deployment","USB Handset (e.g. Catalina)",null,null,null,null,"USB Handset (e.g. Catalina)"]
["Voice Deployment","USB Headset (e.g. GN Netcom)",null,null,null,null,"USB Headset (e.g. GN Netcom)"]
["Voice Deployment","How many of these remote locations have redundant networking connections?",null,null,null,null,"How many of these remote locations have redundant networking connections?"]
[null,0]
["UC Costs","Click on Details to modify the default assumptions",null,null,null,null,"Click on Details to modify the default assumptions"]
["UC Costs","Server Hardware",null,null,null,null,"Server Hardware"]
["UC Costs","Network Hardware",null,null,null,null,"Network Hardware"]
["UC Costs","Network Bandwidth",null,null,null,null,"Network Bandwidth"]
["UC Costs","Software and Services",null,null,null,null,"Software and Services"]
["UC Costs","Operations and Support",null,null,null,null,"Operations and Support"]
["UC Costs","Migration/Deployment",null,null,null,null,"Migration/Deployment"]
["UC Costs","Server Hardware",null,null,null,null,"Server Hardware"]
["UC Costs","Phone Devices",null,null,null,null,"Phone Devices"]
["UC Costs","Network Hardware",null,null,null,null,"Network Hardware"]
["UC Costs","Network Bandwidth",null,null,null,null,"Network Bandwidth"]
["UC Costs","Software and Services",null,null,null,null,"Software and Services"]
["UC Costs",{"$f":"OFFSET(G386,,LanguageOffset)","v":"Operations and Support"},null,null,null,null,"Operations and Support"]
["UC Costs","Migration/Deployment",null,null,null,null,"Migration/Deployment"]
["UC Costs","Total Cost",null,null,null,null,"Total Cost"]
[null,0]
[null,0]
["Exchange Migration Costs","Exchange Migration/Deployment Costs",null,null,null,null,"Exchange Migration/Deployment Costs"]
["Exchange Migration Costs","Software version",null,null,null,null,"Software version"]
["Exchange Migration Costs","New Exchange Users",null,null,null,null,"New Exchange Users"]
["Exchange Migration Costs","How much time will you spend on the following:",null,null,null,null,"How much time will you spend on the following:"]
["Exchange Migration Costs","Architecture Design, Deployment, and Testing",null,null,null,null,"Architecture Design, Deployment, and Testing"]
["Exchange Migration Costs","Planning , design, and preparation for deployment?",null,null,null,null,"Planning , design, and preparation for deployment?"]
["Exchange Migration Costs","Pilot programs and testing?",null,null,null,null,"Pilot programs and testing?"]
["Exchange Migration Costs","Integration and customization?",null,null,null,null,"Integration and customization?"]
["Exchange Migration Costs","Implementing mobile access?",null,null,null,null,"Implementing mobile access?"]
["Exchange Migration Costs","Deploying the software for each server role?",null,null,null,null,"Deploying the software for each server role?"]
["Exchange Migration Costs","Deploying each physical server?",null,null,null,null,"Deploying each physical server?"]
["Exchange Migration Costs","Deploying new tape backup systems?",null,null,null,null,"Deploying new tape backup systems?"]
["Exchange Migration Costs","User and Data Migration",null,null,null,null,"User and Data Migration"]
["Exchange Migration Costs","Planning and preparation for migration?",null,null,null,null,"Planning and preparation for migration?"]
["Exchange Migration Costs","Setting up user accounts?",null,null,null,null,"Setting up user accounts?"]
["Exchange Migration Costs","Migrating the data in each mailbox (assumes 1GB/hour)?",null,null,null,null,"Migrating the data in each mailbox (assumes 1GB/hour)?"]
["Exchange Migration Costs","Migrating storage and backup systems?",null,null,null,null,"Migrating storage and backup systems?"]
["Exchange Migration Costs","Estimate any additional costs required for deployment or migration",null,null,null,null,"Estimate any additional costs required for deployment or migration"]
["Exchange Migration Costs","Unified Messaging",null,null,null,null,"Unified Messaging"]
["Exchange Migration Costs","How much time will you spend on planning for a UM deployment?",null,null,null,null,"How much time will you spend on planning for a UM deployment?"]
["Exchange Migration Costs","How long does it take to deploy each gateway?",null,null,null,null,"How long does it take to deploy each gateway?"]
["Exchange Migration Costs","Estimate any additional costs required for the UM deployment",null,null,null,null,"Estimate any additional costs required for the UM deployment"]
["Exchange Migration Costs","Training",null,null,null,null,"Training"]
["Exchange Migration Costs","End-User Training Cost",null,null,null,null,"End-User Training Cost"]
["Exchange Migration Costs","IT Training Cost",null,null,null,null,"IT Training Cost"]
["Exchange Migration Costs","Internal Deployment vs. Professional Services",null,null,null,null,"Internal Deployment vs. Professional Services"]
["Exchange Migration Costs","What percentage of the planning and deployment effort will be handled internally?",null,null,null,null,"What percentage of the planning and deployment effort will be handled internally?"]
["Exchange Migration Costs","What is your cost for professional services?",null,null,null,null,"What is your cost for professional services?"]
["Exchange Migration Costs","Total Migration effort in hours",null,null,null,null,"Total Migration effort in hours"]
["Exchange Migration Costs","Cost for internal IT effort",null,null,null,null,"Cost for internal IT effort"]
["Exchange Migration Costs","Cost for professional services",null,null,null,null,"Cost for professional services"]
["Exchange Migration Costs","Cost for training",null,null,null,null,"Cost for training"]
["Exchange Migration Costs","Total cost for Exchange migration",null,null,null,null,"Total cost for Exchange migration"]
[null,0]
[null,0]
["Exchange Operations Costs","Exchange Operations Costs",null,null,null,null,"Exchange Operations Costs"]
["Exchange Operations Costs","Software Version",null,null,null,null,"Software Version"]
["Exchange Operations Costs","Exchange Users",null,null,null,null,"Exchange Users"]
["Exchange Operations Costs","# of messaging administrators (Full-time equivalent)",null,null,null,null,"# of messaging administrators (Full-time equivalent)"]
["Exchange Operations Costs","Annual fully burdened cost per administrator ",null,null,null,null,"Annual fully burdened cost per administrator "]
["Exchange Operations Costs","Administration cost",null,null,null,null,"Administration cost"]
["Exchange Operations Costs","Help desk cost - internal or externally managed",null,null,null,null,"Help desk cost - internal or externally managed"]
["Exchange Operations Costs","Datacenter costs (utilities, space)",null,null,null,null,"Datacenter costs (utilities, space)"]
["Exchange Operations Costs","Cost of maintaining tape backups",null,null,null,null,"Cost of maintaining tape backups"]
["Exchange Operations Costs","Managed Services or consulting costs",null,null,null,null,"Managed Services or consulting costs"]
["Exchange Operations Costs","Total annual cost for operations",null,null,null,null,"Total annual cost for operations"]
[null,0]
[null,0]
["Exchange Software Cost","License Name",null,null,null,null,"License Name"]
["Exchange Software Cost","Additional Costs or Reductions",null,null,null,null,"Additional Costs or Reductions"]
["Exchange Software Cost","Services",null,null,null,null,"Services"]
["Exchange Software Cost","Forefront Protection for Exchange",null,null,null,null,"Forefront Protection for Exchange"]
["Exchange Software Cost","Forefront Online Security for Exchange",null,null,null,null,"Forefront Online Security for Exchange"]
["Exchange Software Cost","Exchange Hosted Archiving",null,null,null,null,"Exchange Hosted Archiving"]
["Exchange Software Cost","Exchange Hosted Continuity",null,null,null,null,"Exchange Hosted Continuity"]
["Exchange Software Cost","Exchange Hosted Encryption",null,null,null,null,"Exchange Hosted Encryption"]
["Exchange Software Cost","Exchange Online Deskless Worker",null,null,null,null,"Exchange Online Deskless Worker"]
["Exchange Software Cost","Exchange Online",null,null,null,null,"Exchange Online"]
["Exchange Software Cost","Mobile devices",null,null,null,null,"Mobile devices"]
["Exchange Software Cost",{"$f":"OFFSET(G450,,LanguageOffset)","v":"Other"},null,null,null,null,"Other"]
["Exchange Software Cost","New Software Licenses Required",null,null,null,null,"New Software Licenses Required"]
["Exchange Software Cost","Deployment Schedule",null,null,null,null,"Deployment Schedule"]
["Exchange Software Cost","Cost for ",null,null,null,null,"Cost for "]
["Exchange Software Cost"," Agreement",null,null,null,null," Agreement"]
["Exchange Software Cost","Estimated Cost",null,null,null,null,"Estimated Cost"]
[null,0]
[null,0]
["Exchange Hardware","Server Locations",null,null,null,null,"Server Locations"]
["Exchange Hardware","Mailboxes",null,null,null,null,"Mailboxes"]
["Exchange Hardware","Exchange 2007 Servers",null,null,null,null,"Exchange 2007 Servers"]
["Exchange Hardware","Mailbox Servers",null,null,null,null,"Mailbox Servers"]
["Exchange Hardware","Hub Transport Servers",null,null,null,null,"Hub Transport Servers"]
["Exchange Hardware","Client Access Servers",null,null,null,null,"Client Access Servers"]
["Exchange Hardware","Edge Transport Servers",null,null,null,null,"Edge Transport Servers"]
["Exchange Hardware","Global Catalog Servers",null,null,null,null,"Global Catalog Servers"]
["Exchange Hardware","Exchange 2007 Storage",null,null,null,null,"Exchange 2007 Storage"]
["Exchange Hardware","Storage Type",null,null,null,null,"Storage Type"]
["Exchange Hardware","RAID",null,null,null,null,"RAID"]
["Exchange Hardware","Log Database",null,null,null,null,"Log Database"]
["Exchange Hardware","Spindle Speed",null,null,null,null,"Spindle Speed"]
["Exchange Hardware","Cost per GB",null,null,null,null,"Cost per GB"]
["Exchange Hardware","Total storage",null,null,null,null,"Total storage"]
["Exchange Hardware","Total cost",null,null,null,null,"Total cost"]
["Exchange Hardware","Exchange 2007 Tape Backup",null,null,null,null,"Exchange 2007 Tape Backup"]
["Exchange Hardware","Required backup rate",null,null,null,null,"Required backup rate"]
["Exchange Hardware","# of tape systems",null,null,null,null,"# of tape systems"]
["Exchange Hardware","System cost",null,null,null,null,"System cost"]
["Exchange Hardware","Exchange 2010 Servers",null,null,null,null,"Exchange 2010 Servers"]
["Exchange Hardware","Exchange 2010 Storage",null,null,null,null,"Exchange 2010 Storage"]
["Exchange Hardware","Exchange 2010 Tape Backup",null,null,null,null,"Exchange 2010 Tape Backup"]
["Exchange Hardware","Exchange Hardware Requirements",null,null,null,null,"Exchange Hardware Requirements"]
["Exchange Hardware","Unified Messaging Servers",null,null,null,null,"Unified Messaging Servers"]
["Exchange Hardware","Gateways",null,null,null,null,"Gateways"]
["Exchange Hardware","Storage in TB",null,null,null,null,"Storage in TB"]
["Exchange Hardware","Tape Backup Systems",null,null,null,null,"Tape Backup Systems"]
["Exchange Hardware",{"$f":"OFFSET(G486,,LanguageOffset)","v":"Exchange 2010 Archive Storage"},null,null,null,null,"Exchange 2010 Archive Storage"]
[null,0]
["UM Hardware","Unified Messaging Hardware",null,null,null,null,"Unified Messaging Hardware"]
["UM Hardware","Unified Messaging Users",null,null,null,null,"Unified Messaging Users"]
["UM Hardware","Number of PBX locations - from Voice Deployment Tab",null,null,null,null,"Number of PBX locations - from Voice Deployment Tab"]
["UM Hardware","Gateway Cost",null,null,null,null,"Gateway Cost"]
["UM Hardware","Unified Messaging Server Cost",null,null,null,null,"Unified Messaging Server Cost"]
["UM Hardware","Number of Gateways Required",null,null,null,null,"Number of Gateways Required"]
["UM Hardware","Number of Unified Messaging Servers Required",null,null,null,null,"Number of Unified Messaging Servers Required"]
[null,0]
[null,0]
["OCS Migration Costs","OCS Migration/Deployment Costs",null,null,null,null,"OCS Migration/Deployment Costs"]
["OCS Migration Costs","Software version",null,null,null,null,"Software version"]
["OCS Migration Costs","New OCS Users",null,null,null,null,"New OCS Users"]
["OCS Migration Costs","How much time will you spend on the following:",null,null,null,null,"How much time will you spend on the following:"]
["OCS Migration Costs","Architecture Design, Deployment, and Testing",null,null,null,null,"Architecture Design, Deployment, and Testing"]
["OCS Migration Costs","Planning , design, and preparation for deployment?",null,null,null,null,"Planning , design, and preparation for deployment?"]
["OCS Migration Costs","Pilot programs and testing?",null,null,null,null,"Pilot programs and testing?"]
["OCS Migration Costs","Setting up your PKI infrastructure for OCS?",null,null,null,null,"Setting up your PKI infrastructure for OCS?"]
["OCS Migration Costs","Migrate existing servers?",null,null,null,null,"Migrate existing servers?"]
["OCS Migration Costs","Build each new server?",null,null,null,null,"Build each new server?"]
["OCS Migration Costs","Install and configure each new physical server?",null,null,null,null,"Install and configure each new physical server?"]
["OCS Migration Costs","Deploying and configuring each load balancer?",null,null,null,null,"Deploying and configuring each load balancer?"]
["OCS Migration Costs","Deploying and configuring each gateway or BOA?",null,null,null,null,"Deploying and configuring each gateway or BOA?"]
["OCS Migration Costs","Upgrading networking?",null,null,null,null,"Upgrading networking?"]
["OCS Migration Costs","Decommission PBXs",null,null,null,null,"Decommission PBXs"]
["OCS Migration Costs","Network hardware improvements",null,null,null,null,"Network hardware improvements"]
["OCS Migration Costs","User Migration",null,null,null,null,"User Migration"]
["OCS Migration Costs",{"$f":"OFFSET(G514,,LanguageOffset)","v":"Planning and preparation for migration?"},null,null,null,null,"Planning and preparation for migration?"]
["OCS Migration Costs","Setting up user accounts/transition to advanced gateways?",null,null,null,null,"Setting up user accounts/transition to advanced gateways?"]
["OCS Migration Costs","Estimate any additional costs required for the deployment or migration",null,null,null,null,"Estimate any additional costs required for the deployment or migration"]
["OCS Migration Costs","Training",null,null,null,null,"Training"]
["OCS Migration Costs","End-User Training Cost",null,null,null,null,"End-User Training Cost"]
["OCS Migration Costs","IT Training Cost",null,null,null,null,"IT Training Cost"]
["OCS Migration Costs","Internal Deployment vs. Professional Services",null,null,null,null,"Internal Deployment vs. Professional Services"]
["OCS Migration Costs","What percentage of the planning and deployment effort will be handled internally?",null,null,null,null,"What percentage of the planning and deployment effort will be handled internally?"]
["OCS Migration Costs","What is your cost for professional services?",null,null,null,null,"What is your cost for professional services?"]
["OCS Migration Costs","Migration effort in hours",null,null,null,null,"Migration effort in hours"]
["OCS Migration Costs","Cost for IT effort",null,null,null,null,"Cost for IT effort"]
["OCS Migration Costs","Cost for consultants",null,null,null,null,"Cost for consultants"]
["OCS Migration Costs","Cost for training",null,null,null,null,"Cost for training"]
["OCS Migration Costs","Total cost for OCS deployment/migration",null,null,null,null,"Total cost for OCS deployment/migration"]
["OCS Migration Costs","Total cost for network hardware improvements",null,null,null,null,"Total cost for network hardware improvements"]
[null,0]
[null,0]
["OCS Operations Costs","OCS Operations Costs",null,null,null,null,"OCS Operations Costs"]
["OCS Operations Costs","Software Version",null,null,null,null,"Software Version"]
["OCS Operations Costs","OCS Users",null,null,null,null,"OCS Users"]
["OCS Operations Costs","# of OCS administrators (Full-time equivalent)",null,null,null,null,"# of OCS administrators (Full-time equivalent)"]
["OCS Operations Costs","Annual fully burdened cost per administrator ",null,null,null,null,"Annual fully burdened cost per administrator "]
["OCS Operations Costs","Administration cost for OCS",null,null,null,null,"Administration cost for OCS"]
["OCS Operations Costs","Administration cost for PBX",null,null,null,null,"Administration cost for PBX"]
["OCS Operations Costs","Help desk cost - internal or externally managed",null,null,null,null,"Help desk cost - internal or externally managed"]
["OCS Operations Costs","Datacenter costs (utilities, space)",null,null,null,null,"Datacenter costs (utilities, space)"]
["OCS Operations Costs","Managed Services or consulting costs",null,null,null,null,"Managed Services or consulting costs"]
["OCS Operations Costs","Total annual cost for operations",null,null,null,null,"Total annual cost for operations"]
[null,0]
[null,0]
["OCS Software","Live Meeting Professional ",null,null,null,null,"Live Meeting Professional "]
["OCS Software","Live Meeting Standard",null,null,null,null,"Live Meeting Standard"]
["OCS Software","Office Communications Online",null,null,null,null,"Office Communications Online"]
["OCS Software","Forefront for OCS",null,null,null,null,"Forefront for OCS"]
["OCS Software","Public IM Access",null,null,null,null,"Public IM Access"]
["OCS Software","Audio Conferencing Service",null,null,null,null,"Audio Conferencing Service"]
["OCS Software","Video Conferencing Service",null,null,null,null,"Video Conferencing Service"]
["OCS Software","Web Conferencing Service",null,null,null,null,"Web Conferencing Service"]
["OCS Software","Telephony Charges",null,null,null,null,"Telephony Charges"]
["OCS Software","UM/Voicemail",null,null,null,null,"UM/Voicemail"]
["OCS Software","Other",null,null,null,null,"Other"]
[null,0]
[null,0]
["OCS Networking","Networking Cost - For a better estimate use the Bandwidth Modeling Tool enter the results below",null,null,null,null,"Networking Cost - For a better estimate use the Bandwidth Modeling Tool enter the results below"]
["OCS Networking","Software version",null,null,null,null,"Software version"]
["OCS Networking","Enterprise Voice Users",null,null,null,null,"Enterprise Voice Users"]
["OCS Networking","Audio/Video Conferencing Users",null,null,null,null,"Audio/Video Conferencing Users"]
["OCS Networking","Web Conferencing Users",null,null,null,null,"Web Conferencing Users"]
["OCS Networking","Internal Bandwidth",null,null,null,null,"Internal Bandwidth"]
["OCS Networking","Bandwidth per voice channel",null,null,null,null,"Bandwidth per voice channel"]
["OCS Networking","Call concentration - % of concurrent voice callers",null,null,null,null,"Call concentration - % of concurrent voice callers"]
["OCS Networking","% of calls to other OCS Voice users",null,null,null,null,"% of calls to other OCS Voice users"]
["OCS Networking","% of calls to other OCS Voice users at the same site",null,null,null,null,"% of calls to other OCS Voice users at the same site"]
["OCS Networking","Voice bandwidth required",null,null,null,null,"Voice bandwidth required"]
["OCS Networking","Percent of voice users at branch offices",null,null,null,null,"Percent of voice users at branch offices"]
["OCS Networking","Voice bandwidth required at branches",null,null,null,null,"Voice bandwidth required at branches"]
["OCS Networking","Voice bandwidth required at headquarters",null,null,null,null,"Voice bandwidth required at headquarters"]
["OCS Networking","Bandwidth per video channel",null,null,null,null,"Bandwidth per video channel"]
["OCS Networking","Video concentration - % of concurrent video users",null,null,null,null,"Video concentration - % of concurrent video users"]
["OCS Networking","Bandwidth per audio channel",null,null,null,null,"Bandwidth per audio channel"]
["OCS Networking","Audio concentration - % of concurrent audio conferencing users",null,null,null,null,"Audio concentration - % of concurrent audio conferencing users"]
["OCS Networking","Bandwidth per Web conference channel",null,null,null,null,"Bandwidth per Web conference channel"]
["OCS Networking","Web concentration - % of concurrent Web conferencing users",null,null,null,null,"Web concentration - % of concurrent Web conferencing users"]
["OCS Networking","% of conferences with users at the same site",null,null,null,null,"% of conferences with users at the same site"]
["OCS Networking",{"$f":"OFFSET(G578,,LanguageOffset)","v":"Conferencing bandwidth required"},null,null,null,null,"Conferencing bandwidth required"]
["OCS Networking","Audio/Video users at branch offices",null,null,null,null,"Audio/Video users at branch offices"]
["OCS Networking","Web conferencing users at branch offices",null,null,null,null,"Web conferencing users at branch offices"]
["OCS Networking","Conferencing bandwidth required at branches",null,null,null,null,"Conferencing bandwidth required at branches"]
["OCS Networking","Conferencing bandwidth required at headquarters",null,null,null,null,"Conferencing bandwidth required at headquarters"]
["OCS Networking","Total bandwidth required at branches",null,null,null,null,"Total bandwidth required at branches"]
["OCS Networking","Total bandwidth required at headquarters",null,null,null,null,"Total bandwidth required at headquarters"]
["OCS Networking","Average cost per Mbps per month for branches",null,null,null,null,"Average cost per Mbps per month for branches"]
["OCS Networking","Cost per year for branches",null,null,null,null,"Cost per year for branches"]
["OCS Networking","Average cost per Mbps per month for headquarters",null,null,null,null,"Average cost per Mbps per month for headquarters"]
["OCS Networking","Cost per year for headquarters",null,null,null,null,"Cost per year for headquarters"]
["OCS Networking","Total annual cost for internal bandwidth",null,null,null,null,"Total annual cost for internal bandwidth"]
[null,0]
[null,0]
["OCS Hardware","Type of deployment",null,null,null,null,"Type of deployment"]
["OCS Hardware","Type of Edge deployment",null,null,null,null,"Type of Edge deployment"]
["OCS Hardware","Servers",null,null,null,null,"Servers"]
["OCS Hardware","Standard",null,null,null,null,"Standard"]
["OCS Hardware","Enterprise Consolidated",null,null,null,null,"Enterprise Consolidated"]
["OCS Hardware","Enterprise Expanded",null,null,null,null,"Enterprise Expanded"]
["OCS Hardware","Front End",null,null,null,null,"Front End"]
["OCS Hardware","Web conferencing",null,null,null,null,"Web conferencing"]
["OCS Hardware","A/V Conferencing",null,null,null,null,"A/V Conferencing"]
["OCS Hardware","Other",null,null,null,null,"Other"]
["OCS Hardware","Back-end SQL Server",null,null,null,null,"Back-end SQL Server"]
["OCS Hardware","Back-end SQL Server Cluster",null,null,null,null,"Back-end SQL Server Cluster"]
["OCS Hardware","Edge",null,null,null,null,"Edge"]
["OCS Hardware","Edge Distributed",null,null,null,null,"Edge Distributed"]
["OCS Hardware","Access",null,null,null,null,"Access"]
["OCS Hardware","Web conferencing",null,null,null,null,"Web conferencing"]
["OCS Hardware","A/V Conferencing",null,null,null,null,"A/V Conferencing"]
["OCS Hardware","ISA (Reverse Proxy)",null,null,null,null,"ISA (Reverse Proxy)"]
["OCS Hardware","Web Access Server",null,null,null,null,"Web Access Server"]
["OCS Hardware","IM Archiving",null,null,null,null,"IM Archiving"]
["OCS Hardware","Director",null,null,null,null,"Director"]
["OCS Hardware","Group Chat",null,null,null,null,"Group Chat"]
["OCS Hardware","e911",null,null,null,null,"e911"]
["OCS Hardware","Monitoring Server (QoE/CDR)",null,null,null,null,"Monitoring Server (QoE/CDR)"]
["OCS Hardware","Load Balancers",null,null,null,null,"Load Balancers"]
["OCS Hardware","Storage",null,null,null,null,"Storage"]
["OCS Hardware","Cost per GB",null,null,null,null,"Cost per GB"]
["OCS Hardware","Required Storage",null,null,null,null,"Required Storage"]
["OCS Hardware","Total storage cost",null,null,null,null,"Total storage cost"]
["OCS Hardware","Lync Server Hardware Requirements",null,null,null,null,"Lync Server Hardware Requirements"]
["OCS Hardware","Servers",null,null,null,null,"Servers"]
["OCS Hardware","Storage (GB)",null,null,null,null,"Storage (GB)"]
["OCS Hardware","Gateways",null,null,null,null,"Gateways"]
["OCS Hardware","Load Balancers",null,null,null,null,"Load Balancers"]
["OCS Hardware","Phone Hardware",null,null,null,null,"Phone Hardware"]
["OCS Hardware","Polycom CX-5000",null,null,null,null,"Polycom CX-5000"]
["OCS Hardware","Survivable Branch Appliance",null,null,null,null,"Survivable Branch Appliance"]
[null,0]
[null,0]
["OCS Voice","Voice Hardware",null,null,null,null,"Voice Hardware"]
["OCS Voice","Software version",null,null,null,null,"Software version"]
["OCS Voice","Enterprise Voice Users",null,null,null,null,"Enterprise Voice Users"]
["OCS Voice","Cost per standard digital  gateway",null,null,null,null,"Cost per standard digital  gateway"]
["OCS Voice","Cost per hybrid digital gateway",null,null,null,null,"Cost per hybrid digital gateway"]
["OCS Voice","Cost per analog gateway",null,null,null,null,"Cost per analog gateway"]
["OCS Voice","Cost for each Survivable Branch Appliance",null,null,null,null,"Cost for each Survivable Branch Appliance"]
["OCS Voice","Cost per mediation server",null,null,null,null,"Cost per mediation server"]
["OCS Voice","Cost for each Polycom CX-5000 device",null,null,null,null,"Cost for each Polycom CX-5000 device"]
["OCS Voice","Average cost per IP-phone",null,null,null,null,"Average cost per IP-phone"]
["OCS Voice","Average cost per USB handset",null,null,null,null,"Average cost per USB handset"]
["OCS Voice",{"$f":"OFFSET(G642,,LanguageOffset)","v":"Average cost per USB headset"},null,null,null,null,"Average cost per USB headset"]
["OCS Voice","Number of standard digital voice gateways to deploy",null,null,null,null,"Number of standard digital voice gateways to deploy"]
["OCS Voice","Number of hybrid digital voice gateways to deploy",null,null,null,null,"Number of hybrid digital voice gateways to deploy"]
["OCS Voice","Number of analog gateways to deploy",null,null,null,null,"Number of analog gateways to deploy"]
["OCS Voice","Total cost for gateways",null,null,null,null,"Total cost for gateways"]
["OCS Voice","Number of Survivable Branch Appliances to deploy",null,null,null,null,"Number of Survivable Branch Appliances to deploy"]
["OCS Voice","Total cost for Survivable Branch Appliances",null,null,null,null,"Total cost for Survivable Branch Appliances"]
["OCS Voice","Number of mediation servers to deploy",null,null,null,null,"Number of mediation servers to deploy"]
["OCS Voice","Total cost for mediation servers",null,null,null,null,"Total cost for mediation servers"]
["OCS Voice","Number of Polycom CX-5000 devices to deploy",null,null,null,null,"Number of Polycom CX-5000 devices to deploy"]
["OCS Voice","Total cost for Polycom CX-5000 devices",null,null,null,null,"Total cost for Polycom CX-5000 devices"]
["OCS Voice","Number of IP-enabled phones required",null,null,null,null,"Number of IP-enabled phones required"]
["OCS Voice","Number of USB headsets required",null,null,null,null,"Number of USB headsets required"]
["OCS Voice","Number of USB handsets required",null,null,null,null,"Number of USB handsets required"]
["OCS Voice","Total cost for phone hardware",null,null,null,null,"Total cost for phone hardware"]
[null,0]
[null,0]
["Benefits","Total Potential Annual Benefit",null,null,null,null,"Total Potential Annual Benefit"]
["Benefits","Expected Benefit Based on Deployment Schedule and Adoption Rate",null,null,null,null,"Expected Benefit Based on Deployment Schedule and Adoption Rate"]
["Benefits","Potential Cost Savings",null,null,null,null,"Potential Cost Savings"]
["Benefits","Time saved per day per user",null,null,null,null,"Time saved per day per user"]
["Benefits","Time saved per month per user",null,null,null,null,"Time saved per month per user"]
["Benefits","Expected Benefit Based on Deployment Schedule",null,null,null,null,"Expected Benefit Based on Deployment Schedule"]
[null,0]
[null,0]
["Buttons","You have selected an option that makes the comparison to a hosted solution invalid. These selections include: \n     • Enterprise Voice - option not offered as a hosted service - please uncheck Voice on the Start tab\n     • Voice mail/Unified Messaging - option not offered as a hosted service - please uncheck Voice mail on the Start tab\n     • Hybrid Messaging deployment - please select Hosted or On-premise on the Messaging tab under Advanced\n     • Hybrid IM/Presence deployment - please select Hosted or On-premise on the IM/Presence tab under Advanced",null,null,null,null,"You have selected an option that makes the comparison to a hosted solution invalid. These selections include: \n     • Enterprise Voice - option not offered as a hosted service - please uncheck Voice on the Start tab\n     • Voice mail/Unified Messaging - option not offered as a hosted service - please uncheck Voice mail on the Start tab\n     • Hybrid Messaging deployment - please select Hosted or On-premise on the Messaging tab under Advanced\n     • Hybrid IM/Presence deployment - please select Hosted or On-premise on the IM/Presence tab under Advanced"]
["Buttons","Please complete the fields labeled Required",null,null,null,null,"Please complete the fields labeled Required"]
["Buttons","Please complete the questions on this sheet and select at least one workload.",null,null,null,null,"Please complete the questions on this sheet and select at least one workload."]
["Buttons","That is not the correct password. If you have forgotten the password you can find it on the Web page where you downloaded the tool.",null,null,null,null,"That is not the correct password. If you have forgotten the password you can find it on the Web page where you downloaded the tool."]
["Buttons","Please enter the password for the Verify Licensing page.",null,null,null,null,"Please enter the password for the Verify Licensing page."]
[null,0]
[null,0]
["General Information","General Discovery Questions",null,null,null,null,"General Discovery Questions"]
["General Information","Deployment Discovery ",null,null,null,null,"Deployment Discovery "]
["General Information","What abilities do you lack today that a unified communications (UC) deployment will enable?",null,null,null,null,"What abilities do you lack today that a unified communications (UC) deployment will enable?"]
["General Information","What areas of the business do you see  benefiting most  from UC?",null,null,null,null,"What areas of the business do you see  benefiting most  from UC?"]
["General Information","Are there any corporate initiatives you are trying to align with by deploying UC?",null,null,null,null,"Are there any corporate initiatives you are trying to align with by deploying UC?"]
["General Information","Are there any new processes you hope to implement as a result of this deployment?",null,null,null,null,"Are there any new processes you hope to implement as a result of this deployment?"]
["General Information","What is the standard for your industry regarding communications? How have your competitors deployed UC?",null,null,null,null,"What is the standard for your industry regarding communications? How have your competitors deployed UC?"]
["General Information","Business Discovery",null,null,null,null,"Business Discovery"]
["General Information","When do you expect to see a return on your investment?",null,null,null,null,"When do you expect to see a return on your investment?"]
["General Information","How does your organization train end users on new technology to ensure highest adoption rates?",null,null,null,null,"How does your organization train end users on new technology to ensure highest adoption rates?"]
["General Information","Describe your corporate culture with respect to communication styles?",null,null,null,null,"Describe your corporate culture with respect to communication styles?"]
["General Information","How do you currently communicate with partners and customers? In what areas would you like to see this improve?",null,null,null,null,"How do you currently communicate with partners and customers? In what areas would you like to see this improve?"]
["General Information","Are you experiencing pressure to divest real estate assets and develop a mobile worker environment? How are you handling this?",null,null,null,null,"Are you experiencing pressure to divest real estate assets and develop a mobile worker environment? How are you handling this?"]
["General Information","In what areas of your business are you experiencing communications delay? ",null,null,null,null,"In what areas of your business are you experiencing communications delay? "]
["General Information","How are you dealing with downtime and the high costs of travel?",null,null,null,null,"How are you dealing with downtime and the high costs of travel?"]
["General Information","Technical Discovery",null,null,null,null,"Technical Discovery"]
["General Information","What vendors are you evaluating and why?",null,null,null,null,"What vendors are you evaluating and why?"]
["General Information","What is the administrative process to add new users to the messaging, telephony, or conferencing system?",null,null,null,null,"What is the administrative process to add new users to the messaging, telephony, or conferencing system?"]
["General Information","Could you provide a high-level view of your existing communications environment?",null,null,null,null,"Could you provide a high-level view of your existing communications environment?"]
["General Information","Could you provide a high-level view of your strategy and roadmap for UC over the next 18 months?",null,null,null,null,"Could you provide a high-level view of your strategy and roadmap for UC over the next 18 months?"]
["General Information","How do your communication systems facilitate extending capabilities to remote users?  Any areas where you see this needs improvement?",null,null,null,null,"How do your communication systems facilitate extending capabilities to remote users?  Any areas where you see this needs improvement?"]
["General Information","What is the cost to your organization for ongoing specialized training for communications systems?",null,null,null,null,"What is the cost to your organization for ongoing specialized training for communications systems?"]
["General Information","How many clients do you support for conferencing, voice, IM? What effect has that had on users and on the support staff?",null,null,null,null,"How many clients do you support for conferencing, voice, IM? What effect has that had on users and on the support staff?"]
["General Information","User Experience Discovery",null,null,null,null,"User Experience Discovery"]
["General Information","What quality of  experience does your communications system provide your customers?",null,null,null,null,"What quality of  experience does your communications system provide your customers?"]
["General Information","Explain how different modes of communication (for example, IM, voice mail, e-mail) are used to exchange messages and documents in your organization.  Any areas you see that require improvement? ",null,null,null,null,"Explain how different modes of communication (for example, IM, voice mail, e-mail) are used to exchange messages and documents in your organization.  Any areas you see that require improvement? "]
["General Information","Walk me through the communications you use in your daily workflow.",null,null,null,null,"Walk me through the communications you use in your daily workflow."]
["General Information","Do any areas of your business share subject matter experts across regions? How do you reach and collaborate with them today?",null,null,null,null,"Do any areas of your business share subject matter experts across regions? How do you reach and collaborate with them today?"]
["General Information","Have you polled your end users to understand what the communications challenges are? What do you see as the major communications challenges facing users today?",null,null,null,null,"Have you polled your end users to understand what the communications challenges are? What do you see as the major communications challenges facing users today?"]
["General Information","Could you quantify the financial impact any of these communications challenges are having on your business today?",null,null,null,null,"Could you quantify the financial impact any of these communications challenges are having on your business today?"]
[null,0]
[null,0]
["Update Costs",{"$f":"OFFSET(G706,,LanguageOffset)","v":"Exchange Server Costs"},null,null,null,null,"Exchange Server Costs"]
["Update Costs","Exchange Hardware Cost",null,null,null,null,"Exchange Hardware Cost"]
["Update Costs","The following hardware cost data set is for one server location. If you have multiple server locations, then you will need to enter the hardware information into the tool.",null,null,null,null,"The following hardware cost data set is for one server location. If you have multiple server locations, then you will need to enter the hardware information into the tool."]
["Update Costs","Servers",null,null,null,null,"Servers"]
["Update Costs","Storage",null,null,null,null,"Storage"]
["Update Costs","Tape Backup",null,null,null,null,"Tape Backup"]
["Update Costs","Exchange Unified Messaging Cost",null,null,null,null,"Exchange Unified Messaging Cost"]
["Update Costs","Exchange Software Cost",null,null,null,null,"Exchange Software Cost"]
["Update Costs","Cost per year",null,null,null,null,"Cost per year"]
["Update Costs","Exchange Operations Cost",null,null,null,null,"Exchange Operations Cost"]
["Update Costs","Exchange Migration Cost",null,null,null,null,"Exchange Migration Cost"]
["Update Costs","Lync Server Costs",null,null,null,null,"Lync Server Costs"]
["Update Costs","Lync Server Hardware Cost",null,null,null,null,"Lync Server Hardware Cost"]
["Update Costs","Lync Server Voice Cost",null,null,null,null,"Lync Server Voice Cost"]
["Update Costs","Lync Server Software Cost",null,null,null,null,"Lync Server Software Cost"]
["Update Costs","Lync Server Operations Cost",null,null,null,null,"Lync Server Operations Cost"]
["Update Costs","Lync Server Migration Cost",null,null,null,null,"Lync Server Migration Cost"]
["Update Costs","Lync Server Networking Cost",null,null,null,null,"Lync Server Networking Cost"]
["Update Costs","Selected Architecture",null,null,null,null,"Selected Architecture"]
[null,0]
[null,0]
["Summary Results","Improving Business Outcomes",null,null,null,null,"Improving Business Outcomes"]
["Summary Results","Faster Project Completion",null,null,null,null,"Faster Project Completion"]
["Summary Results","Shorten Sales Cycle Times",null,null,null,null,"Shorten Sales Cycle Times"]
["Summary Results","Retain and Attract Employees",null,null,null,null,"Retain and Attract Employees"]
["Summary Results","Faster Resolution of Customer Issues",null,null,null,null,"Faster Resolution of Customer Issues"]
["Summary Results","Increase End-User Productivity",null,null,null,null,"Increase End-User Productivity"]
["Summary Results","Decreasing Costs",null,null,null,null,"Decreasing Costs"]
["Summary Results","Reduce Travel Cost for Meetings and Training",null,null,null,null,"Reduce Travel Cost for Meetings and Training"]
["Summary Results","Cut Audio/Video/Web Conferencing Costs",null,null,null,null,"Cut Audio/Video/Web Conferencing Costs"]
["Summary Results","Cut Telephony Costs",null,null,null,null,"Cut Telephony Costs"]
["Summary Results","Lower Real-Estate and Facility Costs ",null,null,null,null,"Lower Real-Estate and Facility Costs "]
["Summary Results","Reduce Cost for Voice mail",null,null,null,null,"Reduce Cost for Voice mail"]
["Summary Results","Reduce Messaging Costs",null,null,null,null,"Reduce Messaging Costs"]
["Summary Results","Environmental Sustainability",null,null,null,null,"Environmental Sustainability"]
["Summary Results","Reduce Carbon Footprint",null,null,null,null,"Reduce Carbon Footprint"]
["Summary Results","Potential Benefit",null,null,null,null,"Potential Benefit"]
["Summary Results","TCO Comparison by Workload",null,null,null,null,"TCO Comparison by Workload"]
["International","International Settings",null,null,null,null,"International Settings"]
["International","Currency for the analysis",null,null,null,null,"Currency for the analysis"]
["International","Currency symbol",null,null,null,null,"Currency symbol"]
["International","Exchange Rate - amount of selected currency equal to 1 US$.",null,null,null,null,"Exchange Rate - amount of selected currency equal to 1 US$."]
["International","Thousands Separator",null,null,null,null,"Thousands Separator"]
["International","Decimal Symbol",null,null,null,null,"Decimal Symbol"]
["International","New Rate",null,null,null,null,"New Rate"]
["International","What are the average number of days worked per year?",null,null,null,null,"What are the average number of days worked per year?"]
["International","Do you want to use Metric system or English units?",null,null,null,null,"Do you want to use Metric system or English units?"]
["International","Example of number format",null,null,null,null,"Example of number format"]
[null,0]
["Benefit Calcs","Future cost of help desk support",null,null,null,null,"Future cost of help desk support"]
["Benefit Calcs","Future administration cost",null,null,null,null,"Future administration cost"]

{"sheet":"Licensing Tables","index":19,"n_rows":18,"n_cols":5,"rows_kept":18,"cut":false,"hidden":true,"merged":[]}
[null,null,"VL Rate"]
[null,"Rate",{"$f":"IFERROR(VLOOKUP(International!BT5,C6:E18,3,FALSE),Rate)","v":1}]
[]
[null,null,null,null,"VL"]
[null,null,null,null,"FX Rate"]
[null,{"$f":"'Country information'!B13","v":"Australia"},{"$f":"'Country information'!A13","v":"dollarA$"},1,1.4471153846153844]
[null,{"$f":"'Country information'!B38","v":"Canada"},{"$f":"'Country information'!A38","v":"dollarCan$"},2,1.3365384615384615]
[null,{"$f":"'Country information'!B60","v":"Denmark"},{"$f":"'Country information'!A61","v":"francDF"},3,8.0192307692307683]
[null,"Euro",{"$f":"'Country information'!A6","v":"euro€"},4,1.0769230769230769]
[null,{"$f":"'Country information'!B215","v":"Taiwan"},{"$f":"'Country information'!A215","v":"new dollarNT$"},5,34.39903846153846]
[null,{"$f":"'Country information'!B162","v":"New Zealand"},{"$f":"'Country information'!A162","v":"dollarNZ$"},6,1.7259615384615383]
[null,{"$f":"'Country information'!B168","v":"Norway"},{"$f":"'Country information'!A168","v":"kroneNKr"},7,8.2788461538461533]
[null,{"$f":"'Country information'!B232","v":"United Kingdom"},{"$f":"'Country information'!A232","v":"pound£"},8,0.72115384615384615]
[null,{"$f":"'Country information'!B211","v":"Sweden"},{"$f":"'Country information'!A211","v":"kronorSEK"},9,10.480769230769232]
[null,{"$f":"'Country information'!B212","v":"Switzerland"},{"$f":"'Country information'!A212","v":"francCHF"},10,1.6778846153846154]
[null,{"$f":"'Country information'!B123","v":"Korea, South"},{"$f":"'Country information'!A124","v":"dinarKD"},11,1075.4807692307693]
[null,{"$f":"'Country information'!B114","v":"Japan"},{"$f":"'Country information'!A115","v":"pound£"},12,119.23076923076923]
[null,{"$f":"'Country information'!B44","v":"China"},{"$f":"'Country information'!A44","v":"yuan renminbi¥"},13,8.2980769230769234]

{"sheet":"ImportInfo","index":20,"n_rows":189,"n_cols":5,"rows_kept":189,"cut":false,"hidden":true,"merged":[]}
["AFGHANISTAN - AFGHANI",44.5,"AFGHANISTAN ",{"$f":"(TRIM(PROPER(C1)))","v":"Afghanistan"},{"$f":"B1","v":44.5}]
["ALBANIA - LEK",106.36,"ALBANIA ",{"$f":"(TRIM(PROPER(C2)))","v":"Albania"},{"$f":"B2","v":106.36}]
["ALGERIA - DINAR",73.150000000000006,"ALGERIA ","Algeria",73.150000000000006]
["ANGOLA - KWANZA",90,"ANGOLA ","Angola",90]
["ANTIGUA - BARBUDA - E. CARIBBEAN DOLLAR",2.7,"ANTIGUA ","Antigua",2.7]
["ARGENTINA-PESO",3.98,"ARGENTINA","Argentina",3.98]
["ARMENIA - DRAM",360,"ARMENIA ","Armenia",360]
["AUSTRALIA - DOLLAR",1.04,"AUSTRALIA ","Australia",1.04]
["AUSTRIA - EURO",0.77,"AUSTRIA ","Austria",0.77]
["AZERBAIJAN - MANAT",0.82,"AZERBAIJAN ","Azerbaijan",0.82]
["BAHAMAS - DOLLAR",1,"BAHAMAS ","Bahamas",1]
["BAHRAIN - DINAR",0.38,"BAHRAIN ","Bahrain",0.38]
["BANGLADESH - TAKA",69,"BANGLADESH ","Bangladesh",69]
["BARBADOS - DOLLAR",2.02,"BARBADOS ","Barbados",2.02]
["BELARUS - RUBLE",3010,"BELARUS ","Belarus",3010]
["BELGIUM-EURO",0.77,"BELGIUM","Belgium",0.77]
["BELIZE - DOLLAR",2,"BELIZE ","Belize",2]
["BENIN - CFA FRANC",503.3,"BENIN ","Benin",503.3]
["BERMUDA - DOLLAR",1,"BERMUDA ","Bermuda",1]
["BOLIVIA - BOLIVIANO",6.96,"BOLIVIA ","Bolivia",6.96]
["BOSNIA-HERCEGOVINA MARKA",1.5,"BOSNIA","Bosnia",1.5]
["BOTSWANA - PULA",6.75,"BOTSWANA ","Botswana",6.75]
["BRAZIL - REAL",1.72,"BRAZIL ","Brazil",1.72]
["BRUNEI - DOLLAR",1.32,"BRUNEI ","Brunei",1.32]
["BULGARIA - LEV",1.5,"BULGARIA ","Bulgaria",1.5]
["BURKINA FASO - CFA FRANC",503.3,"BURKINA FASO ","Burkina Faso",503.3]
["BURMA - KYAT",450,"BURMA ","Burma",450]
["BURUNDI - FRANC",1243,"BURUNDI ","Burundi",1243]
["CAMBODIA (KHMER) - RIEL",4239,"CAMBODIA (KHMER) ","Cambodia (Khmer)",4239]
["CAMEROON - CFA FRANC",503.3,"CAMEROON ","Cameroon",503.3]
["CANADA - DOLLAR",1.02,"CANADA ","Canada",1.02]
["CAPE VERDE - ESCUDO",81.67,"CAPE VERDE ","Cape Verde",81.67]
["CAYMAN ISLANDS - DOLLAR",0.82,"CAYMAN ISLANDS ","Cayman Islands",0.82]
["CENTRAL AFRICAN REPUBLIC - CFA FRANC",503.3,"CENTRAL AFRICAN REPUBLIC ","Central African Republic",503.3]
["CHAD - CFA FRANC",503.3,"CHAD ","Chad",503.3]
["CHILE - PESO",486.7,"CHILE ","Chile",486.7]
["CHINA - RENMINBI",6.67,"CHINA ","China",6.67]
["COLOMBIA - PESO",1920,"COLOMBIA ","Colombia",1920]
["COMOROS - FRANC",361.35,"COMOROS ","Comoros",361.35]
["CONGO - CFA FRANC",503.3,"CONGO ","Congo",503.3]
["COSTA RICA - COLON",501.95,"COSTA RICA ","Costa Rica",501.95]
["COTE D'IVOIRE - CFA FRANC",503.3,"COTE D'IVOIRE ","Cote D'Ivoire",503.3]
["CROATIA - KUNA",5.59,"CROATIA ","Croatia",5.59]
["CUBA-PESO",0.93,"CUBA","Cuba",0.93]
["CYPRUS-EURO",0.77,"CYPRUS","Cyprus",0.77]
["CZECH - KORUNA",18.64,"CZECH ","Czech",18.64]
["DEM REP OF CONGO-CONGOLESE FRANC",900,"DEM REP OF CONGO","Dem Rep Of Congo",900]
["DENMARK - KRONE",5.72,"DENMARK ","Denmark",5.72]
["DJIBOUTI - FRANC",177,"DJIBOUTI ","Djibouti",177]
["DOMINICAN REPUBLIC - PESO",37.049999999999997,"DOMINICAN REPUBLIC ","Dominican Republic",37.049999999999997]
["EAST TIMOR-DILI",1,"EAST TIMOR","East Timor",1]
["ECAUDOR-DOLARES",1,"ECAUDOR","Ecaudor",1]
["EGYPT - POUND",5.79,"EGYPT ","Egypt",5.79]
["EL SALVADOR-DOLARES",1,"EL SALVADOR","El Salvador",1]
["EQUATORIAL GUINEA - CFA FRANC",503.3,"EQUATORIAL GUINEA ","Equatorial Guinea",503.3]
["ERITREA - NAKFA",15,"ERITREA ","Eritrea",15]
["ESTONIA - KROON",12,"ESTONIA ","Estonia",12]
["ETHIOPIA - BIRR",16.489999999999998,"ETHIOPIA ","Ethiopia",16.489999999999998]
["EURO ZONE - EURO",0.77,"EURO ZONE ","Euro Zone",0.77]
["FIJI - DOLLAR",1.82,"FIJI ","Fiji",1.82]
["FINLAND-EURO",0.77,"FINLAND","Finland",0.77]
["FRANCE-EURO",0.77,"FRANCE","France",0.77]
["GABON - CFA FRANC",503.3,"GABON ","Gabon",503.3]
["GAMBIA - DALASI",28,"GAMBIA ","Gambia",28]
["GEORGIA-LARI",1.76,"GEORGIA","Georgia",1.76]
["GERMANY FRG-EURO",0.77,"GERMANY FRG",{"$f":"(TRIM(PROPER(C66)))","v":"Germany Frg"},{"$f":"B66","v":0.77}]
["GHANA - CEDI",1.45,"GHANA ","Ghana",1.45]
["GREECE-EURO",0.77,"GREECE","Greece",0.77]
["GRENADA - EAST CARIBBEAN DOLLAR",2.7,"GRENADA ","Grenada",2.7]
["GUATEMALA-QUENTZEL",8,"GUATEMALA","Guatemala",8]
["GUINEA - FRANC",6078,"GUINEA ","Guinea",6078]
["GUINEA BISSAU - CFA FRANC",503.3,"GUINEA BISSAU ","Guinea Bissau",503.3]
["GUYANA - DOLLAR",201,"GUYANA ","Guyana",201]
["HAITI - GOURDE",38.5,"HAITI ","Haiti",38.5]
["HONDURAS - LEMPIRA",18.899999999999999,"HONDURAS ","Honduras",18.899999999999999]
["HONG KONG - DOLLAR",7.77,"HONG KONG ","Hong Kong",7.77]
["HUNGARY - FORINT",217.12,"HUNGARY ","Hungary",217.12]
["ICELAND - KRONA",117.07,"ICELAND ","Iceland",117.07]
["INDIA - RUPEE",45.7,"INDIA ","India",45.7]
["INDONESIA - RUPIAH",8900,"INDONESIA ","Indonesia",8900]
["IRAN - RIAL",8229,"IRAN ","Iran",8229]
["IRAQ - DINAR",1166.5,"IRAQ ","Iraq",1166.5]
["IRELAND-EURO",0.77,"IRELAND","Ireland",0.77]
["ISRAEL-SHEKEL",3.68,"ISRAEL","Israel",3.68]
["ITALY-EURO",0.77,"ITALY","Italy",0.77]
["JAMAICA - DOLLAR",85.8,"JAMAICA ","Jamaica",85.8]
["JAPAN - YEN",83.83,"JAPAN ","Japan",83.83]
["JORDAN - DINAR",0.71,"JORDAN ","Jordan",0.71]
["KAZAKHSTAN - TENGE",147.5,"KAZAKHSTAN ","Kazakhstan",147.5]
["KENYA - SHILLING",80.900000000000006,"KENYA ","Kenya",80.900000000000006]
["KOREA - WON",1160.1500000000001,"KOREA ","Korea",1160.1500000000001]
["KUWAIT - DINAR",0.28000000000000003,"KUWAIT ","Kuwait",0.28000000000000003]
["KYRGYZSTAN - SOM",46.8,"KYRGYZSTAN ","Kyrgyzstan",46.8]
["LAOS - KIP",8031,"LAOS ","Laos",8031]
["LATVIA - LATS",0.54,"LATVIA ","Latvia",0.54]
["LEBANON - POUND",1500,"LEBANON ","Lebanon",1500]
["LESOTHO - SOUTH AFRICAN RAND",7.07,"LESOTHO ","Lesotho",7.07]
["LIBERIA - U.S. DOLLAR",49,"LIBERIA ","Liberia",49]
["LIBYA-DINAR",1.25,"LIBYA","Libya",1.25]
["LITHUANIA - LITAS",2.65,"LITHUANIA ","Lithuania",2.65]
["LUXEMBOURG-EURO",0.77,"LUXEMBOURG","Luxembourg",0.77]
["MACAO - MOP",8,"MACAO ","Macao",8]
["MACEDONIA FYROM - DENAR",45.8,"MACEDONIA FYROM ","Macedonia Fyrom",45.8]
["MADAGASCAR-ARIA",2010.61,"MADAGASCAR","Madagascar",2010.61]
["MALAWI - KWACHA",151,"MALAWI ","Malawi",151]
["MALAYSIA - RINGGIT",3.17,"MALAYSIA ","Malaysia",3.17]
["MALI - CFA FRANC",503.3,"MALI ","Mali",503.3]
["MALTA-EURO",0.77,"MALTA","Malta",0.77]
["MARSHALLS ISLANDS - DOLLAR",1,"MARSHALLS ISLANDS ","Marshalls Islands",1]
["MARTINIQUE-EURO",0.77,"MARTINIQUE","Martinique",0.77]
["MAURITANIA - OUGUIYA",290,"MAURITANIA ","Mauritania",290]
["MAURITIUS - RUPEE",30.3,"MAURITIUS ","Mauritius",30.3]
["MEXICO - NEW PESO",12.5,"MEXICO ","Mexico",12.5]
["MICRONESIA - DOLLAR",1,"MICRONESIA ","Micronesia",1]
["MOLDOVA - LEU",12.17,"MOLDOVA ","Moldova",12.17]
["MONGOLIA - TUGRIK",1262.45,"MONGOLIA ","Mongolia",1262.45]
["MONTENEGRO-EURO",0.77,"MONTENEGRO","Montenegro",0.77]
["MOROCCO - DIRHAM",8.5,"MOROCCO ","Morocco",8.5]
["MOZAMBIQUE - METICAL",35.71,"MOZAMBIQUE ","Mozambique",35.71]
["NAMIBIA-DOLLAR",7.07,"NAMIBIA","Namibia",7.07]
["NEPAL - RUPEE",72.95,"NEPAL ","Nepal",72.95]
["NETHERLANDS-EURO",0.77,"NETHERLANDS","Netherlands",0.77]
["NETHERLANDS ANTILLES - GUILDER",1.78,"NETHERLANDS ANTILLES ","Netherlands Antilles",1.78]
["NEW ZEALAND - DOLLAR",1.34,"NEW ZEALAND ","New Zealand",1.34]
["NICARAGUA - CORDOBA",21.79,"NICARAGUA ","Nicaragua",21.79]
["NIGER - CFA FRANC",503.3,"NIGER ","Niger",503.3]
["NIGERIA - NAIRA",150.6,"NIGERIA ","Nigeria",150.6]
["NORWAY - KRONE",6.2,"NORWAY ","Norway",6.2]
["OMAN - RIAL",0.39,"OMAN ","Oman",0.39]
["PAKISTAN - RUPEE",85.7,"PAKISTAN ",{"$f":"(TRIM(PROPER(C130)))","v":"Pakistan"},{"$f":"B130","v":85.7}]
["PALAU-DOLLAR",1,"PALAU","Palau",1]
["PANAMA - BALBOA",1,"PANAMA ","Panama",1]
["PAPUA NEW GUINEA - KINA",2.48,"PAPUA NEW GUINEA ","Papua New Guinea",2.48]
["PARAGUAY - GUARANI",4700,"PARAGUAY ","Paraguay",4700]
["PHILIPPINES - PESO",44.1,"PHILIPPINES ","Philippines",44.1]
["POLAND - ZLOTY",3.11,"POLAND ","Poland",3.11]
["PORTUGAL-EURO",0.77,"PORTUGAL","Portugal",0.77]
["QATAR - RIYAL",3.64,"QATAR ","Qatar",3.64]
["ROMANIA - LEU",3.29,"ROMANIA ","Romania",3.29]
["RUSSIA-RUBLE",31.4,"RUSSIA","Russia",31.4]
["RWANDA - FRANC",592.02,"RWANDA ","Rwanda",592.02]
["SAO TOME & PRINCIPE - DOBRAS",18526.1191,"SAO TOME & PRINCIPE ","Sao Tome & Principe",18526.1191]
["SAUDI ARABIA - RIYAL",3.75,"SAUDI ARABIA ","Saudi Arabia",3.75]
["SENEGAL - CFA FRANC",503.3,"SENEGAL ","Senegal",503.3]
["SERBIA-DINAR",0.77,"SERBIA","Serbia",0.77]
["SEYCHELLES - RUPEE",12.1,"SEYCHELLES ","Seychelles",12.1]
["SIERRA LEONE - LEONE",4146,"SIERRA LEONE ","Sierra Leone",4146]
["SINGAPORE - DOLLAR",1.32,"SINGAPORE ","Singapore",1.32]
["SLOVAK-EURO",0.77,"SLOVAK","Slovak",0.77]
["SLOVENIA-EURO",0.77,"SLOVENIA","Slovenia",0.77]
["SOLOMON ISLANDS - DOLLAR",7.4,"SOLOMON ISLANDS ","Solomon Islands",7.4]
["SOUTH AFRICA - RAND",7.07,"SOUTH AFRICA ","South Africa",7.07]
["SPAIN-EURO",0.77,"SPAIN","Spain",0.77]
["SRI LANKA - RUPEE",111.35,"SRI LANKA ","Sri Lanka",111.35]
["ST LUCIA - EC DOLLAR",2.7,"ST LUCIA ","St Lucia",2.7]
["SUDAN-POUND",2.37,"SUDAN","Sudan",2.37]
["SURINAME - GUILDER",2.8,"SURINAME ","Suriname",2.8]
["SWAZILAND - LILANGENI",7.07,"SWAZILAND ","Swaziland",7.07]
["SWEDEN - KRONA",7.04,"SWEDEN ","Sweden",7.04]
["SWITZERLAND - FRANC",1,"SWITZERLAND ","Switzerland",1]
["SYRIA - POUND",46.45,"SYRIA ","Syria",46.45]
["TAIWAN - DOLLAR",30.5,"TAIWAN ","Taiwan",30.5]
["TAJIKISTAN-SOMONI",4.4000000000000004,"TAJIKISTAN","Tajikistan",4.4000000000000004]
["TANZANIA - SHILLING",1483,"TANZANIA ","Tanzania",1483]
["THAILAND - BAHT",30.18,"THAILAND ","Thailand",30.18]
["TOGO - CFA FRANC",503.3,"TOGO ","Togo",503.3]
["TONGA - PA'ANGA",1.77,"TONGA ","Tonga",1.77]
["TRINIDAD & TOBAGO - DOLLAR",6.32,"TRINIDAD & TOBAGO ","Trinidad & Tobago",6.32]
["TUNISIA - DINAR",1.45,"TUNISIA ","Tunisia",1.45]
["TURKEY-LIRA",1.51,"TURKEY","Turkey",1.51]
["TURKMENISTAN - MANAT",2.84,"TURKMENISTAN ","Turkmenistan",2.84]
["UGANDA - SHILLING",2313,"UGANDA ","Uganda",2313]
["UKRAINE - HRYVNIA",7.89,"UKRAINE ","Ukraine",7.89]
["UNITED ARAB EMIRATES - DIRHAM",3.67,"UNITED ARAB EMIRATES ","United Arab Emirates",3.67]
["UNITED KINGDOM - POUND STERLING",0.64,"UNITED KINGDOM ","United Kingdom",0.64]
["URUGUAY - NEW PESO",19.899999999999999,"URUGUAY ","Uruguay",19.899999999999999]
["UZBEKISTAN - SOM",1645,"UZBEKISTAN ","Uzbekistan",1645]
["VANUATU - VATU",92.59,"VANUATU ","Vanuatu",92.59]
["VENZEULA - NEW BOLIVAR",2.6,"VENeZueLA ","Venezuela",2.6]
["VIETNAM - DONG",19500,"VIETNAM ","Vietnam",19500]
["WESTERN SAMOA - TALA",2.23,"WESTERN SAMOA ","Western Samoa",2.23]
["YEMEN - RIAL",214,"YEMEN ","Yemen",214]
["YUGOSLAVIA - DINAR",0.77,"YUGOSLAVIA ","Yugoslavia",0.77]
["ZAMBIA-KWACHA",4925,"ZAMBIA","Zambia",4925]
["ZIMBABWE - DOLLAR",1,"ZIMBABWE ","Zimbabwe",1]
[null,null,null,"",0]
[null,null,null,"",0]
[null,null,null,{"$f":"(TRIM(PROPER(C188)))","v":""},{"$f":"B188","v":0}]
[null,null,null,{"$f":"(TRIM(PROPER(C189)))","v":""},{"$f":"B189","v":0}]

{"sheet":"Country information","index":21,"n_rows":250,"n_cols":53,"rows_kept":250,"cut":false,"hidden":true,"merged":[]}
["CurrencyCode","Country","Currency","Symbol","Exchange Rate","Date updated","IT Salary in Local Currency","In Dollar terms","% of US Wage","Default Burden Rate","Hardware Multiplier","cost/kW","Power Multiplier","Localized name","http://fx.sauder.ubc.ca/currency_table.html",null,null,null,null,null,"English","Brazilian","Simplified Chinese","Traditional Chinese","Dutch","French","German","Italian","Japanese","Korean","Polish","Portuguese","Russian","Spanish","Swedish",null,null,null,"English","Brazilian","Simplified Chinese","Traditional Chinese","Dutch","French","German","Italian","Japanese","Korean","Polish","Portuguese","Russian","Spanish","Swedish"]
[{"$f":"C2&D2","v":"afghani؋"},"Afghanistan",{"$f":"OFFSET(AM2,,LanguageOffset)","v":"afghani"},"؋",{"$f":"VLOOKUP(B2,ImportInfo!$D$1:$E$188,2,FALSE)","v":44.5},"2011-02-18T09:44:38",900000,{"$f":"G2/E2","v":20224.719101123595},{"$f":"H2/$G$233","v":0.3582576497462242},0,1,0.15,1.4999999999999998,{"$f":"OFFSET(U2,,LanguageOffset)","v":"Afghanistan"},"Afghanistan",null,null,null,null,null,"Afghanistan","Afeganistão","阿富汗","阿富汗","Afghanistan","Afghanistan","Afghanistan","Afghanistan","アフガニスタン","아프가니스탄","Afganistan","Afeganistão","Афганистан","Afganistán","Afghanistan",null,null,null,"afghani","afghani","阿富汗尼","阿富汗尼","afghani","afghani","Afghani","Afghani","アフガニー","아프가니","afgani","afghani","афгани","afgani","afghani"]
[{"$f":"C3&D3","v":"lekLek"},"Albania","lek","Lek",{"$f":"VLOOKUP(B3,ImportInfo!$D$1:$E$188,2,FALSE)","v":106.36},"2011-02-18T09:44:38",6027975,{"$f":"G3/E3","v":56675.206844678454},{"$f":"H3/$G$233","v":1.0039361388177503},0,1,0.15,1.4999999999999998,"Albania","Albania",null,null,null,null,null,"Albania","Albânia","阿尔巴尼亚","阿爾巴尼亞","Albanië","Albanie","Albanien","Albania","アルバニア","알바니아","Albania","Albânia","Албания","Albania","Albanien",null,null,null,"lek","lek","列克","列克","lek","lek","Lek","Lek","レク","레크","lek","lek","лек","lek","lek"]
["dinarDA","Algeria","dinar","DA",{"$f":"VLOOKUP(B4,ImportInfo!$D$1:$E$188,2,FALSE)","v":73.150000000000006},"2011-02-18T09:44:38",2710833,37058.550922761446,0.65644962929802575,0,1,0.15,1.4999999999999998,"Algeria","Algeria",null,null,null,null,null,"Algeria","Argélia","阿尔及利亚","阿爾及利亞","Algerije","Algérie","Algerien","Algeria","アルジェリア","알제리","Algieria","Argélia","Алжир","Argelia","Algeriet",null,null,null,"dinar","dinar","第纳尔","第納爾","dinar","dinar","Dinar","Dinaro","ディナール","디나르","dinar","dinar","динар","dinar","dinar"]
["dollarUS$","American Samoa","dollar",{"$f":"D233","v":"US$"},1,"2009-11-11T14:08:34",46041.198501872663,46041.198501872663,0.81556690524635822,0.2,1,0.15,1.4999999999999998,"American Samoa","American Samoa",null,null,null,null,null,"American Samoa","Samoa Americana","美属萨摩亚","美屬薩摩亞","Amerikaans-Samoa","Samoa américaines","Amerikanisch-Samoa","Samoa Americane","米領サモア","미국령 사모아","Samoa Amerykańskie","Samoa Americana","Американское Самоа","Samoa Americana","Amerikanska Samoa",null,null,null,{"$f":"AM233","v":"dollar"},"dólar","津巴布韦元","美元",{"$f":"AQ233","v":"dollar"},"dollar","Dollar","Dollaro","ドル","달러","dolar","dólar","доллар","dólar","dollar"]
["euro€","Andorra","euro",{"$f":"D14","v":"€"},0.77,"2011-02-18T09:44:43",25244,32784.415584415583,0.5807382350701572,0.6,1,0.15,1.4999999999999998,"Andorra","Andorra",null,null,null,null,null,"Andorra","Andorra","安道尔","安道爾","Andorra","Andorre","Andorra","Andorra","アンドラ","안도라","Andora","Andorra","Андорра","Andorra","Andorra",null,null,null,{"$f":"AM14","v":"euro"},"euro","欧元","歐元",{"$f":"AQ14","v":"euro"},"euro","Euro","Euro","ユーロ","유로","euro","euro","евро","euro","euro"]
["kwanzaKz","Angola","kwanza","Kz",{"$f":"VLOOKUP(B7,ImportInfo!$D$1:$E$188,2,FALSE)","v":90},"2011-02-18T09:44:38",1089193,12102.144444444444,0.21437557693026843,0,1,0.15,1.4999999999999998,"Angola","Angola",null,null,null,null,null,"Angola","Angola","安哥拉","安哥拉","Angola","Angola","Angola","Angola","アンゴラ","앙골라","Angola","Angola","Ангола","Angola","Angola",null,null,null,"kwanza","kwanza","宽扎","寬扎","kwanza","kwanza","Kwanza","Kwanza","クワンザ","콴자","kwanza","kwanza","кванза","kwanza","kwanza"]
["dollarEC$","Anguilla","dollar","EC$",2.7,"2011-02-18T09:44:43",122930,45529.629629629628,0.80650505074362089,0.2,1,0.15,1.4999999999999998,"Anguilla","Anguilla",null,null,null,null,null,"Anguilla","Anguila","安圭拉","安圭拉","Anguilla","Anguilla","Anguilla","Anguilla","アンギラ","앵귈라","Anguilla","Anguila","Ангилья","Anguila","Anguilla",null,null,null,"dollar","dólar","津巴布韦元","美元","dollar","dollar","Dollar","Dollaro","ドル","달러","dolar","dólar","доллар","dólar","dollar"]
["dollarEC$","Antigua and Barbuda","dollar","EC$",2.7,"2011-02-18T09:44:43",122930,45529.629629629628,0.80650505074362089,0.2,1,0.15,1.4999999999999998,"Antigua and Barbuda","Antigua and Barbuda",null,null,null,null,null,"Antigua and Barbuda","Antígua e Barbuda","安提瓜和巴布达","安地卡及巴布達","Antigua en Barbuda","Antigua-et-Barbuda","Antigua und Barbuda","Antigua e Barbuda","アンティグア・バーブーダ","앤티가 바부다","Antigua i Barbuda","Antígua e Barbuda","Антигуа и Барбуда","Antigua y Barbuda","Antigua och Barbuda",null,null,null,"dollar","dólar","津巴布韦元","美元","dollar","dollar","Dollar","Dollaro","ドル","달러","dolar","dólar","доллар","dólar","dollar"]
["peso$AR","Argentina","peso","$AR",{"$f":"VLOOKUP(B10,ImportInfo!$D$1:$E$188,2,FALSE)","v":3.98},"2011-02-18T09:44:38",80799,20301.256281407037,0.35961341791237023,0.5,1,0.15,1.4999999999999998,"Argentina","Argentina",null,null,null,null,null,"Argentina","Argentina","阿根廷","阿根廷","Argentinië","Argentine","Argentinien","Argentina","アルゼンチン","아르헨티나","Argentyna","Argentina","Аргентина","Argentina","Argentina",null,null,null,"peso","peso","比索","披索","peso","peso","Peso","Peso","ペソ","페소","peso","peso","песо","peso","peso"]
["dramAMD","Armenia","dram","AMD",{"$f":"VLOOKUP(B11,ImportInfo!$D$1:$E$188,2,FALSE)","v":360},"2011-02-18T09:44:38",18608589,51690.525000000001,0.91563823003206213,0.2,1,0.15,1.4999999999999998,"Armenia","Armenia",null,null,null,null,null,"Armenia","Armênia","亚美尼亚","亞美尼亞","Armenië","Arménie","Armenien","Armenia","アルメニア","아르메니아","Armenia","Arménia","Армения","Armenia","Armenien",null,null,null,"dram","dram","德拉姆","銖連","dram","dram","Dram","Dram","ドラム","드람","dram","dram","драм","dram","dram"]
["guilderAfl.","Aruba","guilder","Afl.",1.79,"2007-11-27",82407.729554094622,46037.837739717666,0.81550737320811417,0.1,1,0.15,1.4999999999999998,"Aruba","Aruba",null,null,null,null,null,"Aruba","Aruba","阿鲁巴","阿路巴","Aruba","Aruba","Aruba","Aruba","アルバ","아루바","Aruba","Aruba","Аруба","Aruba","Aruba",null,null,null,"guilder","florim","盾","盾","guilder","florin","Gulden","Fiorino","ギルダー","길더","gulden","florim","гульден","florín","gulden"]
["dollarA$","Australia","dollar","A$",{"$f":"VLOOKUP(B13,ImportInfo!$D$1:$E$188,2,FALSE)","v":1.04},"2011-02-18T09:44:38",57630,55413.461538461539,0.98158577114522771,0.6,1,9.8000000000000004E-2,0.98,"Australia","Australia",null,null,null,null,null,"Australia","Austrália","澳大利亚","澳大利亞","Australië","Australie","Australien","Australia","オーストラリア","오스트레일리아","Australia","Austrália","Австралия","Australia","Australien",null,null,null,"dollar","dólar","津巴布韦元","澳幣","dollar","dollar","Dollar","Dollaro","ドル","달러","dolar","dólar","доллар","dólar","dollar"]
["euro€","Austria","euro","€",{"$f":"VLOOKUP(B14,ImportInfo!$D$1:$E$188,2,FALSE)","v":0.77},"2011-02-18T09:44:38",26418,34309.090909090912,0.60774610577101151,0.75,1,0.23,2.2999999999999998,"Austria","Austria",null,null,null,null,null,"Austria","Áustria","奥地利","奧地利","Oostenrijk","Autriche","Österreich","Austria","オーストリア","오스트리아","Austria","Áustria","Австрия","Austria","Österrike",null,null,null,"euro","euro","欧元","歐元","euro","euro","Euro","Euro","ユーロ","유로","euro","euro","евро","euro","euro"]
["manatAZN","Azerbaijan","manat","AZN",{"$f":"VLOOKUP(B15,ImportInfo!$D$1:$E$188,2,FALSE)","v":0.82},"2011-02-18T09:44:38",3020.0249600000002,3682.9572682926832,6.5239354299907584E-2,0,1,0.15,1.4999999999999998,"Azerbaijan","Azerbaijan",null,null,null,null,null,"Azerbaijan","Azerbaijão","阿塞拜疆","亞塞拜然","Azerbeidzjan","Azerbaïdjan","Aserbaidschan","Azerbaigian","アゼルバイジャン","아제르바이잔","Azerbejdżan","Azerbaijão","Азербайджан","Azerbaiyán","Azerbajdzjan",null,null,null,"manat","manat","马纳特","蒙納特","manat","manat","Manat","Manat","マナト","마나트","manat","manat","манат","manat","manat"]
["dollarB$","Bahamas","dollar","B$",{"$f":"VLOOKUP(B16,ImportInfo!$D$1:$E$188,2,FALSE)","v":1},"2011-02-18T09:44:38",66543,66543,1.1787327511381149,0.2,1,0.15,1.4999999999999998,"Bahamas","Bahamas",null,null,null,null,null,"Bahamas","Bahamas","巴哈马","巴哈馬","Bahama's","Bahamas","Bahamas","Bahamas","バハマ","바하마","Bahamy","Baamas","Багамы","Bahamas","Bahamas",null,null,null,"dollar","dólar","津巴布韦元","巴哈馬幣","dollar","dollar","Dollar","Dollaro","ドル","달러","dolar","dólar","доллар","dólar","dollar"]
["dinarBD","Bahrain","dinar","BD",{"$f":"VLOOKUP(B17,ImportInfo!$D$1:$E$188,2,FALSE)","v":0.38},"2011-02-18T09:44:38",28155,74092.105263157893,1.3124564728740349,0.2,1,0.15,1.4999999999999998,"Bahrain","Bahrain",null,null,null,null,null,"Bahrain","Barein","巴林","巴林","Bahrein","Bahreïn","Bahrain","Bahrein","バーレーン","바레인","Bahrajn","Barém","Бахрейн","Bahréin","Bahrain",null,null,null,"dinar","dinar","第纳尔","第納爾","dinar","dinar","Dinar","Dinaro","ディナール","디나르","dinar","dinar","динар","dinar","dinar"]
["takaTk","Bangladesh","taka","Tk",{"$f":"VLOOKUP(B18,ImportInfo!$D$1:$E$188,2,FALSE)","v":69},"2011-02-18T09:44:38",1784785,25866.44927536232,0.45819441438652186,0,1,0.15,1.4999999999999998,"Bangladesh","Bangladesh",null,null,null,null,null,"Bangladesh","Bangladesh","孟加拉国","孟加拉","Bangladesh","Bangladesh","Bangladesh","Bangladesh","バングラデシュ","방글라데시","Bangladesz","Bangladeche","Бангладеш","Bangladesh","Bangladesh",null,null,null,"taka","taca","塔卡","塔卡","taka","taka","Taka","Taka","タカ","타카","taka","taka","така","taka","taka"]
["dollarBds$","Barbados","dollar","Bds$",{"$f":"VLOOKUP(B19,ImportInfo!$D$1:$E$188,2,FALSE)","v":2.02},"2011-02-18T09:44:38",97143,48090.594059405943,0.85186959168522391,0,1,0.15,1.4999999999999998,"Barbados","Barbados",null,null,null,null,null,"Barbados","Barbados","巴巴多斯","巴貝多","Barbados","Barbade","Barbados","Barbados","バルバドス","바베이도스","Barbados","Barbados","Барбадос","Barbados","Barbados",null,null,null,"dollar","dólar","津巴布韦元","巴貝多幣","dollar","dollar","Dollar","Dollaro","ドル","달러","dolar","dólar","доллар","dólar","dollar"]
["rubleBYR","Belarus","ruble","BYR",{"$f":"VLOOKUP(B20,ImportInfo!$D$1:$E$188,2,FALSE)","v":3010},"2011-02-18T09:44:38",65585560,21789.222591362126,0.38597103061594823,0,1,0.15,1.4999999999999998,"Belarus","Belarus",null,null,null,null,null,"Belarus","Bielo-Rússia","白俄罗斯","白俄羅斯","Wit-Rusland","Biélorussie","Weißrussland","Belarus","ベラルーシ","벨로루시","Białoruś","Bielorrússia","Беларусь","Belarús","Vitryssland",null,null,null,"ruble","rublo","卢布","盧布","ruble","rouble","Rubel","Rublo","ルーブル","루블","rubel","rublo","рубль","rublo","rubel"]
["euro€","Belgium","euro","€",{"$f":"VLOOKUP(B21,ImportInfo!$D$1:$E$188,2,FALSE)","v":0.77},"2011-02-18T09:44:38",27088,35179.220779220777,0.62315945617098789,0.75,1,0.22,2.1999999999999997,"Belgium","Belgium",null,null,null,null,null,"Belgium","Bélgica","比利时","比利時","België","Belgique","Belgien","Belgio","ベルギー","벨기에","Belgia","Bélgica","Бельгия","Bélgica","Belgien",null,null,null,"euro","euro","欧元","歐元","euro","euro","Euro","Euro","ユーロ","유로","euro","euro","евро","euro","euro"]
["dollarBZ$","Belize","dollar","BZ$",{"$f":"VLOOKUP(B22,ImportInfo!$D$1:$E$188,2,FALSE)","v":2},"2011-02-18T09:44:39",75881,37940.5,0.67207234336527732,0.2,1,0.15,1.4999999999999998,"Belize","Belize",null,null,null,null,null,"Belize","Belize","伯利兹","貝里斯","Belize","Bélize","Belize","Belize","ベリーズ","벨리즈","Belize","Belize","Белиз","Belice","Belize",null,null,null,"dollar","dólar","津巴布韦元","貝里斯幣","dollar","dollar","Dollar","Dollaro","ドル","달러","dolar","dólar","доллар","dólar","dollar"]
["francCFAF","Benin","franc","CFAF",{"$f":"VLOOKUP(B23,ImportInfo!$D$1:$E$188,2,FALSE)","v":503.3},"2011-02-18T09:44:39",26104258,51866.199086032189,0.91875009452167622,0.2,1,0.15,1.4999999999999998,"Benin","Benin",null,null,null,null,null,"Benin","Benin","贝宁","貝南","Benin","Bénin","Benin","Benin","ベナン","베냉","Benin","Benim","Бенин","Benín","Benin",null,null,null,"franc","franco","法郎","法郎","franc","franc CFP","Franc","Franco","フラン","프랑","frank","franco","франк","franco","franc"]
["dollarBd$","Bermuda","dollar","Bd$",{"$f":"VLOOKUP(B24,ImportInfo!$D$1:$E$188,2,FALSE)","v":1},"2011-02-18T09:44:39",92408,92408,1.6369014932775938,0.2,1,0.15,1.4999999999999998,"Bermuda","Bermuda",null,null,null,null,null,"Bermuda","Bermuda","百慕大","百慕達","Bermuda","Bermudes","Bermuda","Bermuda","バミューダ諸島","버뮤다","Bermudy","Bermudas","Бермуды","Bermudas","Bermuda",null,null,null,"dollar","dólar","津巴布韦元","百慕達幣","dollar","dollar","Dollar","Dollaro","ドル","달러","dolar","dólar","доллар","dólar","dollar"]
["ngultrumNu","Bhutan","ngultrum","Nu",39.78,"2007-11-27",1438810,36169.1804927099,0.64069545449683629,0,1,0.15,1.4999999999999998,"Bhutan","Bhutan",null,null,null,null,null,"Bhutan","Butão","不丹","不丹","Bhutan","Bhoutan","Bhutan","Bhutan","ブータン","부탄","Bhutan","Butão","Бутан","Bután","Bhutan",null,null,null,"ngultrum","ngultrum","努尔特鲁姆","努爾特魯姆","ngultrum","ngultrum","Ngultrum","Ngultrum","ニュルタム","앵귈트럼","ngultrum","ngultrum","нгултрум","ngultrum","ngultrum"]
["boliviano$b","Bolivia","boliviano","$b",{"$f":"VLOOKUP(B26,ImportInfo!$D$1:$E$188,2,FALSE)","v":6.96},"2011-02-18T09:44:39",251016,36065.517241379312,0.63885917916460266,0,1,0.15,1.4999999999999998,"Bolivia","Bolivia",null,null,null,null,null,"Bolivia","Bolívia","玻利维亚","玻利維亞","Bolivia","Bolivie","Bolivien","Bolivia","ボリビア","볼리비아","Boliwia","Bolívia","Боливия","Bolivia","Bolivia",null,null,null,"boliviano","boliviano","玻利维亚诺","玻利維亞幣","boliviano","boliviano","Boliviano","Boliviano","ボリビアーノ","볼리비아노","boliwiano","boliviano","боливиано","boliviano","boliviano"]
["convertible markaKM","Bosnia-Herzegovina","convertible marka","KM",1.31612,"2007-11-27",70000,53186.639516153547,0.94214017884175416,0,1,0.15,1.4999999999999998,"Bosnia-Herzegovina","Bosnia-Herzegovina",null,null,null,null,null,"Bosnia-Herzegovina","Bósnia e Herzegovina","波斯尼亚和黑塞哥维那","波士尼亞赫塞哥維納","Bosnië en Herzegovina","Bosnie-Herzégovine","Bosnien und Herzegovina","Bosnia ed Erzegovina","ボスニア・ヘルツェゴビナ","보스니아 헤르체고비나","Bośnia-Hercegowina","Bósnia-Herzegovina","Босния и Герцеговина","Bosnia-Herzegovina","Bosnien och Herzegovina",null,null,null,"convertible marka","marco conversível","可兑换马卡","可兌換的馬克","convertible marka","mark convertible","Mark","Marco convertibile","コンヴェルティビルナ マルカ","가변 마르카","marka wymienialna","marco conversível","конвертируемая марка","marka convertible","konvertibla mark"]
["pulaP","Botswana","pula","P",{"$f":"VLOOKUP(B28,ImportInfo!$D$1:$E$188,2,FALSE)","v":6.75},"2011-02-18T09:44:39",370161,54838.666666666664,0.97140394074126557,0,1,0.15,1.4999999999999998,"Botswana","Botswana",null,null,null,null,null,"Botswana","Botsuana","博茨瓦纳","波札那","Botswana","Botswana","Botswana","Botswana","ボツワナ","보츠와나","Botswana","Botsuana","Ботсвана","Botsuana","Botswana",null,null,null,"pula","pula","普拉","普拉","pula","pula","Pula","Pula","プラ","퓰라","pula","pula","пула","pula","pula"]
["realR$","Brazil","real","R$",{"$f":"VLOOKUP(B29,ImportInfo!$D$1:$E$188,2,FALSE)","v":1.72},"2011-02-18T09:44:39",97965,56956.395348837214,1.0089170699313981,0,1,0.17100000000000001,1.71,"Brazil","Brazil",null,null,null,null,null,"Brazil","Brasil","巴西","巴西","Brazilië","Brésil","Brasilien","Brasile","ブラジル","브라질","Brazylia","Brasil","Бразилия","Brasil","Brasilien",null,null,null,"real","real","雷亚尔","里爾","real","real","Real","Real","レアル","레알","real","real","реал","real","real"]
["dollarUS$","British Indian Ocean Territory","dollar",{"$f":"D$233","v":"US$"},1,"2009-11-11T14:08:34",60000,60000,1.0628310275804651,0.4,1,0.15,1.4999999999999998,"British Indian Ocean Territory","British Indian Ocean Territory",null,null,null,null,null,"British Indian Ocean Territory","Território Britânico do Oceano Índico","不列颠印度洋属土","英屬印度洋地區","Brits Territorium in de Indische Oceaan","Territoires britanniques de l'Océan Indien","Britisches Territorium im Indischen Ozean","Territorio britannico dell'Oceano Indiano","英領インド洋地域","영국령 인도양 식민지","Brytyjskie Terytorium Oceanu Indyjskiego","Território Britânico do Oceano Índico","Британская территория в Индийском океане","Territorio Británico del Océano Índico","Brittiska territoriet i Indiska oceanen",null,null,null,{"$f":"AM$233","v":"dollar"},"dólar","津巴布韦元","美元",{"$f":"AQ$233","v":"dollar"},"dollar","Dollar","Dollaro","ドル","달러","dolar","dólar","доллар","dólar","dollar"]
["dollarUS$","British Virgin Islands","dollar",{"$f":"D$233","v":"US$"},1,"2009-11-11T14:08:34",60000,60000,1.0628310275804651,0.4,1,0.15,1.4999999999999998,"British Virgin Islands","British Virgin Islands",null,null,null,null,null,"British Virgin Islands","Ilhas Virgens Britânicas","英属维尔京群岛","英屬維爾京群島","Britse Maagdeneilanden","Vierges britanniques (îles)","Britische Jungferninseln","Isole Vergini britanniche","英領バージン諸島","영국령 버진 아일랜드","Brytyjskie Wyspy Dziewicze","Ilhas Virgens Britânicas","Британские Виргинские острова","Islas Vírgenes Británicas","Brittiska Jungfruöarna",null,null,null,{"$f":"AM$233","v":"dollar"},"dólar","津巴布韦元","美元",{"$f":"AQ$233","v":"dollar"},"dollar","Dollar","Dollaro","ドル","달러","dolar","dólar","доллар","dólar","dollar"]
["ringgitB$","Brunei","ringgit","B$",{"$f":"VLOOKUP(B32,ImportInfo!$D$1:$E$188,2,FALSE)","v":1.32},"2011-02-18T09:44:39",107062,81107.57575757576,1.4367274681164113,0.3,1,0.15,1.4999999999999998,"Brunei","Brunei",null,null,null,null,null,"Brunei","Brunei","文莱","汶萊","Brunei","Brunei","Brunei","Brunei","ブルネイ","브루나이","Brunei","Brunei","Бруней","Brunéi","Brunei",null,null,null,"ringgit","ringgit","林吉特","汶萊幣","ringgit","ringgit","Ringgit","Ringgit","リンギ","링기트","ringgit","ringgit","ринггит","ringgit","ringgit"]
["new levлв","Bulgaria","new lev","лв",{"$f":"VLOOKUP(B33,ImportInfo!$D$1:$E$188,2,FALSE)","v":1.5},"2011-02-18T09:44:39",77677,51784.666666666664,0.91730584143741989,0.2,1,0.11,1.0999999999999999,"Bulgaria","Bulgaria",null,null,null,null,null,"Bulgaria","Bulgária","保加利亚","保加利亞","Bulgarije","Bulgarie","Bulgarien","Bulgaria","ブルガリア","불가리아","Bułgaria","Bulgária","Болгария","Bulgaria","Bulgarien",null,null,null,"new lev","novo lev","新列弗","新列弗","new lev","nouveau lev","Neuer Lew","Lev (nuovo)","新レフ","뉴 레프","nowa lewa","novo lev","новый лев","nuevo lev","nya lev"]
["francCFAF","Burkina Faso","franc","CFAF",{"$f":"VLOOKUP(B34,ImportInfo!$D$1:$E$188,2,FALSE)","v":503.3},"2011-02-18T09:44:39",25491732,50649.179415855353,0.89719199007768147,0,1,0.15,1.4999999999999998,"Burkina Faso","Burkina Faso",null,null,null,null,null,"Burkina Faso","Burkina Fasso","布基纳法索","布吉納法索","Burkina Faso","Burkina Faso","Burkina Faso","Burkina Faso","ブルキナファソ","부르키나파소","Burkina Faso","Burquina Faso","Буркина-Фасо","Burkina Faso","Burkina Faso",null,null,null,"franc","franco","法郎","法郎","franc","franc CFP","Franc","Franco","フラン","프랑","frank","franco","франк","franco","franc"]
["francFBu","Burundi","franc","FBu",{"$f":"VLOOKUP(B35,ImportInfo!$D$1:$E$188,2,FALSE)","v":1243},"2011-02-18T09:44:39",28480746,22912.909090909092,0.40587584523247822,0,1,0.15,1.4999999999999998,"Burundi","Burundi",null,null,null,null,null,"Burundi","Burundi","布隆迪","蒲隆地","Burundi","Burundi","Burundi","Burundi","ブルンジ","부룬디","Burundi","Burundi","Бурунди","Burundi","Burundi",null,null,null,"franc","franco","法郎","法郎","franc","franc CFP","Franc","Franco","フラン","프랑","frank","franco","франк","franco","franc"]
["new rielCR","Cambodia","new riel","CR",3975.4,"2007-11-27",117212494,29484.452885244253,0.52228318929453266,0,1,0.15,1.4999999999999998,"Cambodia","Cambodia",null,null,null,null,null,"Cambodia","Camboja","柬埔寨","柬埔寨","Cambodja","Cambodge","Kambodscha","Cambogia","カンボジア","캄보디아","Kambodża","Camboja","Камбоджа","Camboya","Kambodja",null,null,null,"new riel","novo riel","新瑞尔","新瑞爾","new riel","nouveau riel","Neuer Riel","Nuovo Riel","新リエル","뉴 리엘","nowy riel","novo riel","новый риель","nuevo riel","nya riel"]
["francCFAF","Cameroon","franc","CFAF",{"$f":"VLOOKUP(B37,ImportInfo!$D$1:$E$188,2,FALSE)","v":503.3},"2011-02-18T09:44:39",28036891,55706.121597456782,0.98676990766578887,0,1,0.15,1.4999999999999998,"Cameroon","Cameroon",null,null,null,null,null,"Cameroon","Camarões","喀麦隆","喀麥隆","Kameroen","Cameroun","Kamerun","Camerun","カメルーン","카메룬","Kamerun","Camarões","Камерун","Camerún","Kamerun",null,null,null,"franc","franco","法郎","法郎","franc","franc CFP","Franc","Franco","フラン","프랑","frank","franco","франк","franco","franc"]
["dollarCan$","Canada","dollar","Can$",{"$f":"VLOOKUP(B38,ImportInfo!$D$1:$E$188,2,FALSE)","v":1.02},"2011-02-18T09:44:39",48990,48029.411764705881,0.85078581766612726,0.75,1,7.8E-2,0.77999999999999992,"Canada","Canada",null,null,null,null,null,"Canada","Canadá","加拿大","加拿大","Canada","Canada","Kanada","Canada","カナダ","캐나다","Kanada","Canadá","Канада","Canadá","Kanada",null,null,null,"dollar","dólar","津巴布韦元","加幣","dollar","dollar","Dollar","Dollaro","ドル","달러","dolar","dólar","доллар","dólar","dollar"]
["escudoC.V.Esc.","Cape Verde Island","escudo","C.V.Esc.",74.31,"2007-11-27",4454185,59940.586731260933,1.0617785898227008,0.2,1,0.15,1.4999999999999998,"Cape Verde Island","Cape Verde Island",null,null,null,null,null,"Cape Verde Island","Ilha Cabo Verde","佛得角","維德角群島","Kaapverdië","Cap-Vert (îles du)","Kapverdische Inseln","Capo Verde","カーボベルデ諸島","카보베르데 제도","Republika Zielonego Przylądka","Ilha de Cabo Verde","Республика Кабо-Верде","Islas Cabo Verde","Kap Verde",null,null,null,"escudo","escudo","埃斯库多","埃斯庫多","escudo","escudo","Escudo","Escudo","エスクード","에스쿠도","escudo","escudo","эскудо","escudo","escudo"]
["dollarCI$","Cayman Islands","dollar","CI$",{"$f":"VLOOKUP(B40,ImportInfo!$D$1:$E$188,2,FALSE)","v":0.82},"2011-02-18T09:44:39",77521,94537.804878048788,1.6746285383956352,0.2,1,0.15,1.4999999999999998,"Cayman Islands","Cayman Islands",null,null,null,null,null,"Cayman Islands","Ilhas Cayman","开曼群岛","開曼群島","Kaaimaneilanden","Cayman (îles)","Kaimaninseln","Isole Cayman","ケイマン諸島","케이맨 제도","Kajmany","Ilhas Caimão","Каймановы острова","Islas Caimán","Caymanöarna",null,null,null,"dollar","dólar","津巴布韦元","開曼群島幣","dollar","dollar","Dollar","Dollaro","ドル","달러","dolar","dólar","доллар","dólar","dollar"]
["francCFAF","Central African Republic","franc","CFAF",{"$f":"VLOOKUP(B41,ImportInfo!$D$1:$E$188,2,FALSE)","v":503.3},"2011-02-18T09:44:39",26010142,51679.201271607388,0.91543764320066934,0,1,0.15,1.4999999999999998,"Central African Republic","Central African Republic",null,null,null,null,null,"Central African Republic","República Centro-Africana","中非共和国","中非共和國","Centraal-Afrikaanse Republiek","République centrafricaine","Zentralafrikanische Republik","Repubblica Centrafricana","中央アフリカ共和国","중앙 아프리카 공화국","Republika Środkowoafrykańska","República Centro-Africana","Центральноафриканская Республика","República Centroafricana","Centralafrikanska republiken",null,null,null,"franc","franco","法郎","法郎","franc","franc CFP","Franc","Franco","フラン","프랑","frank","franco","франк","franco","franc"]
["francCFAF","Chad","franc","CFAF",{"$f":"VLOOKUP(B42,ImportInfo!$D$1:$E$188,2,FALSE)","v":503.3},"2011-02-18T09:44:39",25432655,50531.800119213192,0.89511275076990049,0,1,0.15,1.4999999999999998,"Chad","Chad",null,null,null,null,null,"Chad","Chade","乍得","查德","Tsjaad","Tchad","Tschad","Ciad","チャド","차드","Czad","Chade","Чад","Chad","Tchad",null,null,null,"franc","franco","法郎","法郎","franc","franc CFP","Franc","Franco","フラン","프랑","frank","franco","франк","franco","franc"]
["pesoCh$","Chile","peso","Ch$",{"$f":"VLOOKUP(B43,ImportInfo!$D$1:$E$188,2,FALSE)","v":486.7},"2011-02-18T09:44:39",39405526,80964.713375796186,1.434196825249255,0.3,1,0.19500000000000001,1.95,"Chile","Chile",null,null,null,null,null,"Chile","Chile","智利","智利","Chili","Chili","Chile","Cile","チリ","칠레","Chile","Chile","Чили","Chile","Chile",null,null,null,"peso","peso","比索","比索","peso","peso","Peso","Peso","ペソ","페소","peso","peso","песо","peso","peso"]
["yuan renminbi¥","China","yuan renminbi","¥",{"$f":"VLOOKUP(B44,ImportInfo!$D$1:$E$188,2,FALSE)","v":6.67},"2011-02-18T09:44:39",274732,41189.205397301346,0.7296194249606105,0,1,0.15,1.4999999999999998,"China","China",null,null,null,null,null,"China","China","中国","中國","China","Chine","China","Cina","中国","중국","Chiny","China","Китай","China","Kina",null,null,null,"yuan renminbi","yuan renminbi","人民币","元，人民幣","yuan renminbi","yuan renminbi","Yuan Renminbi","Yuan Renminbi","人民元","위안","yuan (renminbi)","yuan renminbi","юань жэньминьби","yuan renminbi","yuan renminbi"]
["dollarA$","Christmas Island","dollar","A$",1.04,"2011-02-18T09:44:43",56527,54352.884615384617,0.96279887012886145,0.4,1,0.15,1.4999999999999998,"Christmas Island","Christmas Island",null,null,null,null,null,"Christmas Island","Ilha Christmas","圣诞岛","聖誕島","Christmaseiland","Christmas (île)","Weihnachtsinsel","Christmas, Isola","クリスマス島","크리스마스 섬","Wyspa Bożego Narodzenia","Ilha do Natal","Остров Рождества","Isla Christmas","Julön",null,null,null,"dollar","dólar","津巴布韦元","澳幣","dollar","dollar","Dollar","Dollaro","ドル","달러","dolar","dólar","доллар","dólar","dollar"]
["dollarA$","Cocos (Keeling) Islands","dollar","A$",1.04,"2011-02-18T09:44:43",50000,48076.923076923078,0.85162742594588559,0.4,1,0.15,1.4999999999999998,"Cocos (Keeling) Islands","Cocos (Keeling) Islands",null,null,null,null,null,"Cocos (Keeling) Islands","Ilhas Cocos (Keeling)","科科斯群岛","可可斯群島","Cocoseilanden","Cocos (îles)/Keeling (îles)","Kokosinseln (Keelinginseln)","Isole Cocos (Keeling)","ココス諸島","코코스 제도","Wyspy Kokosowe (Keelinga)","Ilhas dos Cocos (Keeling)","Кокосовые острова","Islas Cocos","Kokosöarna",null,null,null,"dollar","dólar","津巴布韦元","澳幣","dollar","dollar","Dollar","Dollaro","ドル","달러","dolar","dólar","доллар","dólar","dollar"]
["pesoCol$","Colombia","peso","Col$",{"$f":"VLOOKUP(B47,ImportInfo!$D$1:$E$188,2,FALSE)","v":1920},"2011-02-18T09:44:39",66332037,34547.935937499999,0.61197697088728675,0,1,0.13500000000000001,1.35,"Colombia","Colombia",null,null,null,null,null,"Colombia","Colômbia","哥伦比亚","哥倫比亞","Colombia","Colombie","Kolumbien","Colombia","コロンビア","콜롬비아","Kolumbia","Colômbia","Колумбия","Colombia","Colombia",null,null,null,"peso","peso","比索","比索","peso","peso","Peso","Peso","ペソ","페소","peso","peso","песо","peso","peso"]
["francKMF","Comoros","franc","KMF",{"$f":"VLOOKUP(B48,ImportInfo!$D$1:$E$188,2,FALSE)","v":361.35},"2011-02-18T09:44:39",17148809,47457.61450117614,0.84065708644671033,0,1,0.15,1.4999999999999998,"Comoros","Comoros",null,null,null,null,null,"Comoros","Ilhas Comores","科摩罗","葛摩","Comoren","Comores","Komoren","Comore","コモロ","코모로","Komory","Comores","Коморы","Comoras","Komorerna",null,null,null,"franc","franco","法郎","法郎","franc","franc CFP","Franc","Franco","フラン","프랑","frank","franco","франк","franco","franc"]
["francCFAF","Congo","franc","CFAF",{"$f":"VLOOKUP(B49,ImportInfo!$D$1:$E$188,2,FALSE)","v":503.3},"2011-02-18T09:44:39",26257881,52171.430558315122,0.92415691917728238,0,1,0.15,1.4999999999999998,"Congo","Congo",null,null,null,null,null,"Congo","Congo","刚果共和国","剛果","Congo","Congo","Kongo","Congo","コンゴ共和国","콩고","Kongo","Congo","Конго","Congo","Kongo",null,null,null,"franc","franco","法郎","法郎","franc","franc CFP","Franc","Franco","フラン","프랑","frank","franco","франк","franco","franc"]
["francCDF","Congo, Dem. Rep.","franc","CDF",560,"2007-11-27",11356100,20278.75,0.35921474500912265,0,1,0.15,1.4999999999999998,"Congo, Dem. Rep.","Congo, Dem. Rep.",null,null,null,null,null,"Congo, Dem. Rep.","Congo, República Democrática","刚果民主共和国","剛果民主 共和國","Congo, Dem. Rep.","Congo, Dem. Rep.","Congo, Dem. Rep.","Congo, Dem. Rep.","コンゴ民主共和国","콩고 민주 공화국","Demokratyczna Republika Konga","Congo, República Democrática do","Демократическая республика Конго","Congo, República Democrática del República Dominicana","Kongo, dem. rep.",null,null,null,"franc","franco","法郎","剛果法郎","franc","franc CFP","Franc","Franco","フラン","프랑","frank","franco","франк","franco","franc"]
["dollarNZ$","Cook Islands","dollar","NZ$",1.34,"2011-02-18T09:44:43",102726,76661.19402985074,1.3579649271048613,0.3,1,0.15,1.4999999999999998,"Cook Islands","Cook Islands",null,null,null,null,null,"Cook Islands","Ilhas Cook","库可群岛","柯克群島","Cookeilanden","Cook (îles)","Cookinseln","Isole Cook","クック諸島","쿡 제도","Wyspy Cooka","Ilhas Cook","Острова Кука","Islas Cook","Cooköarna",null,null,null,"dollar","dólar","津巴布韦元","紐西蘭幣","dollar","dollar","Dollar","Dollaro","ドル","달러","dolar","dólar","доллар","dólar","dollar"]
["colon₡","Costa Rica","colon","₡",{"$f":"VLOOKUP(B52,ImportInfo!$D$1:$E$188,2,FALSE)","v":501.95},"2011-02-18T09:44:40",11576728,23063.508317561511,0.40854353741274174,0.2,1,9.7000000000000003E-2,0.97,"Costa Rica","Costa Rica",null,null,null,null,null,"Costa Rica","Costa Rica","哥斯达黎加","哥斯大黎加","Costa Rica","Costa Rica","Costa Rica","Costa Rica","コスタリカ","코스타리카","Kostaryka","Costa Rica","Коста-Рика","Costa Rica","Costa Rica",null,null,null,"colon","colón","科郎","科郎","colon","colon","Colon","Colon","コロン","콜론","colon","colón","колон","colón","colon"]
["francCFAF","Côte d'Ivoire","franc","CFAF",503.3,"2011-02-18T09:44:43",25026596,49725.006954102922,0.88082133729124978,0,1,0.15,1.4999999999999998,"Côte d'Ivoire","Côte d'Ivoire",null,null,null,null,null,"Côte d'Ivoire","Costa do Marfim","科特迪瓦","象牙海岸","Ivoorkust","Côte d'Ivoire","Côte d'Ivoire","Costa d'Avorio","コートジボワール","코트디부아르","Wybrzeże Kości Słoniowej","Côte d'Ivoire","Кот-д'Ивуар","Costa de Marfil","Elfenbenskusten",null,null,null,"franc","franco","法郎","法郎","franc","franc CFP","Franc","Franco","フラン","프랑","frank","franco","франк","franco","franc"]
["kunakn","Croatia","kuna","kn",{"$f":"VLOOKUP(B54,ImportInfo!$D$1:$E$188,2,FALSE)","v":5.59},"2011-02-18T09:44:40",280915,50253.130590339897,0.890176440407771,0,1,0.1,1,"Croatia","Croatia",null,null,null,null,null,"Croatia","Croácia","克罗地亚","克羅埃西亞","Kroatië","Croatie","Kroatien","Croazia","クロアチア","크로아티아","Chorwacja","Croácia","Хорватия","Croacia","Kroatien",null,null,null,"kuna","kuna","库纳","庫納","kuna","kuna","Kuna","Kuna","クーナ","쿠나","kuna","kuna","куна","kuna","kuna"]
["convertible pesoCuc$","Cuba (external)","convertible peso","Cuc$",0.92589999999999995,"2007-11-27",12622.476410730806,13632.656237963934,0.24148683396744078,0,1,0.15,1.4999999999999998,"Cuba (external)","Cuba (external)",null,null,null,null,null,"Cuba (external)","Cuba (externo)","古巴（外部）","古巴 (外)","Cuba (extern)","Cuba (externe)","Kuba (extern)","Cuba (esterno)","キューバ (国外)","쿠바(외부)","Kuba (terytoria zewnętrzne)","Cuba (externo)","Куба (внешняя)","Cuba (externo)","Kuba (externt)",null,null,null,"convertible peso","peso conversível","可兑换比索","可兌換的古巴比索","convertible peso","peso convertible","Konvertibler Peso","Peso convertibile","兌換ペソ","가변 페소","peso wymienialne","peso conversível","конвертируемое песо","peso convertible","konvertibla peso"]
["peso₱","Cuba (internal)","peso","₱",26.49708532061473,"2007-11-27",361550,13644.897000000001,0.24170366499566012,0,1,0.15,1.4999999999999998,"Cuba (internal)","Cuba (internal)",null,null,null,null,null,"Cuba (internal)","Cuba (interno)","古巴（内部）","古巴 (內)","Cuba (intern)","Cuba (interne)","Kuba (intern)","Cuba (interno)","キューバ (国内)","쿠바(내부)","Kuba (terytoria wewnętrzne)","Cuba (interno)","Куба (внутренняя)","Cuba (interno)","Kuba (internt)",null,null,null,"peso","peso","比索","古巴比索","peso","peso","Peso","Peso","ペソ","페소","peso","peso","песо","peso","peso"]
["poundC£C","Cyprus","poundC","£C",{"$f":"VLOOKUP(B57,ImportInfo!$D$1:$E$188,2,FALSE)","v":0.77},"2011-02-18T09:44:40",22847,29671.428571428572,0.52559524863919671,0.2,1,0.22,2.1999999999999997,"Cyprus","Cyprus",null,null,null,null,null,"Cyprus","Chipre","塞浦路斯","賽普勒斯","Cyprus","Chypre","Zypern","Cipro","キプロス","키프로스","Cypr","Chipre","Кипр","Chipre ","Cypern",null,null,null,"poundC","poundC","镑","賽普勒斯鎊","poundC","livre chypriote","Zypern-Pfund","Sterlina cipriota","キプロス ポンド","키프로스 파운드","funt cypryjski","libra cipriota","кипрский фунт","libraC","pund"]
["new liraYTL","Cyprus (Northern)","new lira","YTL",1.3449899125756557,"2006-04-10",39760,29561.56,0.5236490531946929,0.2,1,0.22,2.1999999999999997,"Cyprus (Northern)","Cyprus (Northern)",null,null,null,null,null,"Cyprus (Northern)","Chipre (Norte)","塞浦路斯（北部）","賽普勒斯 (北)","Noord-Cyprus","Chypre (Nord)","Zypern (Nord)","Cipro (Nord)","キプロス (北部)","키프로스(북)","Cypr (północny)","Chipre (Norte)","Кипр (северный)","Chipre (Norte)","Nordcypern",null,null,null,"new lira","nova lira","新里拉","新里拉","new lira","nouvelle lire","Neue Lira","Nuova Lira","新リラ","뉴 리라","nowy lir","nova lira","новая лира","nueva lira","nya lira"]
["korunaKč","Czech","koruna","Kč",17,"2011-02-25T09:42:16",335259,19721.117647058825,0.34933692889764628,0.4,1,0.19,1.9,"Czech","Czech",null,null,null,null,null,"Czech","Tcheco","捷克","捷克","Tsjechië","République tchèque","Tschechisch","Repubblica Ceca","チェコ語","체코","Czechy","Checo","Чешский","República Checa","Tjeckien",null,null,null,"koruna","coroa","克朗","斯洛伐克克郎","koruna","couronne slovaque","Krone","Corona","コルナ","코루나","korona","Coroa","крона","corona","koruna"]
["kronerDkr","Denmark","kroner","Dkr",{"$f":"VLOOKUP(B60,ImportInfo!$D$1:$E$188,2,FALSE)","v":5.72},"2011-02-18T09:44:40",238799,41748.076923076922,0.73951919159436919,0.75,1,0.32,3.1999999999999997,"Denmark","Denmark",null,null,null,null,null,"Denmark","Dinamarca","丹麦","丹麥","Denemarken","Danemark","Dänemark","Danimarca","デンマーク","덴마크","Dania","Dinamarca","Дания","Dinamarca","Danmark",null,null,null,"kroner","coroa","克埃","丹麥克郎","kroner","couronne danoise","Krone","Corona","クローネ","크로나","korona","coroa","крона","corona","kronor"]
["francDF","Djibouti","franc","DF",{"$f":"VLOOKUP(B61,ImportInfo!$D$1:$E$188,2,FALSE)","v":177},"2011-02-18T09:44:40",5932198,33515.242937853109,0.59368400152078915,0,1,0.15,1.4999999999999998,"Djibouti","Djibouti",null,null,null,null,null,"Djibouti","Djibuti","吉布提","吉布地","Djibouti","Djibouti","Dschibuti","Gibuti","ジブチ","지부티","Dżibuti","Jibuti","Джибути","Yibuti","Djibouti",null,null,null,"franc","franco","法郎","吉布地法郎","franc","franc CFP","Franc","Franco","フラン","프랑","frank","franco","франк","franco","franc"]
["dollarEC$","Dominica","dollar","EC$",2.7,"2011-02-18T09:44:43",104991,38885.555555555555,0.68881291615247298,0,1,0.15,1.4999999999999998,"Dominica","Dominica",null,null,null,null,null,"Dominica","Dominica","多米尼克","多米尼克","Dominica","Dominique","Dominica","Dominica","ドミニカ","도미니카","Dominika","Domínica","Доминика","Dominica","Dominica",null,null,null,"dollar","dólar","津巴布韦元","東加勒比幣","dollar","dollar","Dollar","Dollaro","ドル","달러","dolar","dólar","доллар","dólar","dollar"]
["pesoRD$","Dominican Rep.","peso","RD$",33.483499999999999,"2007-11-27",668500,19965.05741633939,0.35365804149184971,0,1,0.15,1.4999999999999998,"Dominican Rep.","Dominican Rep.",null,null,null,null,null,"Dominican Rep.","República Dominicana","多米尼加共和国","多明尼加","Dominicaanse Rep.","République dominicaine","Dominikanische Republik","Repubblica Dominicana","ドミニカ共和国","도미니카 공화국","Dominikana","República Dominicana","Доминиканская Республика","República Dominicana","Dominikanska republiken",null,null,null,"peso","peso","比索","多明尼加比索","peso","peso","Peso","Peso","ペソ","페소","peso","peso","песо","peso","peso"]
["kroneNKr","Dronning Maud Land","krone","NKr",6.2,"2011-02-18T09:44:43",290135.39651837526,46796.031696512138,0.82893790757820029,0.75,1,0.15,1.4999999999999998,"Dronning Maud Land","Dronning Maud Land",null,null,null,null,null,"Dronning Maud Land","Dronning Maud Land","毛德皇后地","毛德皇后地","Koningin Maud Land","Terre de la Reine Maud","Königin-Maud-Land","Terra della regina Maud","ドローニング・モード・ランド","드로닝 모드 랜드","Ziemia Królowej Maud","Dronning Maud Land","Земля Королевы Мод","Territorio de la Reina Maud ","Drottning Mauds land",null,null,null,"krone","coroa","克朗","克郎","krone","couronne norvégienne","Krone","Corona","クローネ","크로네","korona","coroa","крона","corona","kronor"]
["dollarUS$","East Timor","dollar","US$",{"$f":"VLOOKUP(B65,ImportInfo!$D$1:$E$188,2,FALSE)","v":1},"2011-02-18T09:44:40",42000,42000,0.74398171930632562,0,1,0.15,1.4999999999999998,"East Timor","East Timor",null,null,null,null,null,"East Timor","Timor Leste","东帝汶","東帝汶","Oost-Timor","Timor-Oriental","Osttimor","Timor Est","東ティモール","동티모르","Timor Wschodni","Timor Leste","Восточный Тимор","Timor Oriental","Östtimor",null,null,null,"dollar","dólar","津巴布韦元","美元","dollar","dollar","Dollar","Dollaro","ドル","달러","dolar","dólar","доллар","dólar","dollar"]
["dollarUS$","Ecuador",{"$f":"OFFSET(AM66,,LanguageOffset)","v":"dollar"},"US$",1,"2009-11-11T14:08:34",40410,40410,0.71581669707544326,0.2,1,9.4E-2,0.94,{"$f":"OFFSET(U66,,LanguageOffset)","v":"Ecuador"},"Ecuador",null,null,null,null,null,"Ecuador","Equador","厄瓜多尔","厄瓜多","Ecuador","Équateur","Ecuador","Ecuador","エクアドル","에콰도르","Ekwador","Equador","Эквадор","Ecuador","Ecuador",null,null,null,"dollar","dólar","津巴布韦元","美元","dollar","dollar","Dollar","Dollaro","ドル","달러","dolar","dólar","доллар","dólar","dollar"]
[{"$f":"C67&D67","v":"poundE£E"},"Egypt","poundE","£E",{"$f":"VLOOKUP(B67,ImportInfo!$D$1:$E$188,2,FALSE)","v":5.79},"2011-02-18T09:44:40",156775,{"$f":"G67/E67","v":27076.856649395508},{"$f":"H67/$G$233","v":0.47963538960543295},0.2,1,0.15,1.4999999999999998,"Egypt","Egypt",null,null,null,null,null,"Egypt","Egito","埃及","埃及","Egypte","Égypte","Ägypten","Egitto","エジプト","이집트","Egipt","Egipto","Египет","Egipto","Egypten",null,null,null,"poundE","poundE","镑","埃及鎊","poundE","livre égyptienne","Ägyptisches Pfund","Lira egiziana","エジプト ポンド","이집트 파운드","funt egipski","libra egípcia","египетский фунт","libraE","pund"]
["dollarUS$","El Salvador","dollar","US$",{"$f":"VLOOKUP(B68,ImportInfo!$D$1:$E$188,2,FALSE)","v":1},"2011-02-18T09:44:40",33868,33868,0.59993268736825323,0.2,1,0.14199999999999999,1.4199999999999997,"El Salvador","El Salvador",null,null,null,null,null,"El Salvador","El Salvador","萨尔瓦多","薩爾瓦多","El Salvador","Salvador","El Salvador","El Salvador","エルサルバドル","엘살바도르","Salwador","El Salvador","Эль-Сальвадор","El Salvador","El Salvador",null,null,null,"dollar","dólar","津巴布韦元","美元","dollar","dollar","Dollar","Dollaro","ドル","달러","dolar","dólar","доллар","dólar","dollar"]
["francCFAF","Equatorial Guinea","franc","CFAF",{"$f":"VLOOKUP(B69,ImportInfo!$D$1:$E$188,2,FALSE)","v":503.3},"2011-02-18T09:44:40",27066568,53778.199880786808,0.95261899067873823,0,1,0.15,1.4999999999999998,"Equatorial Guinea","Equatorial Guinea",null,null,null,null,null,"Equatorial Guinea","Guiné Equatorial","赤道几内亚","赤道幾內亞","Equatoriaal-Guinea","Guinée équatoriale","Äquatorialguinea","Guinea Equatoriale","赤道ギニア","적도 기니","Gwinea Równikowa","Guiné Equatorial","Экваториальная Гвинея","Guinea Ecuatorial","Ekvatorialguinea",null,null,null,"franc","franco","法郎","法郎","franc","franc CFP","Franc","Franco","フラン","프랑","frank","franco","франк","franco","franc"]
["nakfaNfa","Eritrea","nakfa","Nfa",{"$f":"VLOOKUP(B70,ImportInfo!$D$1:$E$188,2,FALSE)","v":15},"2011-02-18T09:44:40",394652,26310.133333333335,0.46605376744076193,0,1,0.15,1.4999999999999998,"Eritrea","Eritrea",null,null,null,null,null,"Eritrea","Eritreia","厄立特里亚","厄利垂亞","Eritrea","Érythrée","Eritrea","Eritrea","エリトリア","에리트레아","Erytrea","Eritreia","Эритрея","Eritrea","Eritrea",null,null,null,"nakfa","nakfa","纳克法","納可法","nakfa","nakfa","Nakfa","Nakfa","ナクファ","나크파","nakfa","nakfa","накфа","nakfa","nakfa"]
["kroonKR","Estonia","kroon","KR",{"$f":"VLOOKUP(B71,ImportInfo!$D$1:$E$188,2,FALSE)","v":12},"2011-02-18T09:44:40",130043,10836.916666666666,0.19196352127728669,0,1,0.12,1.2,"Estonia","Estonia",null,null,null,null,null,"Estonia","Estônia","爱沙尼亚","愛沙尼亞","Estland","Estonie","Estland","Estonia","エストニア","에스토니아","Estonia","Estónia","Эстония","Estonia","Estland",null,null,null,"kroon","coroa estoniana","克鲁恩","愛沙尼亞克郎","kroon","couronne estonienne","Krone","Corona","クローン","크룬","korona","coroa","крона","corona","kroon"]
["birrBr","Ethiopia","birr","Br",{"$f":"VLOOKUP(B72,ImportInfo!$D$1:$E$188,2,FALSE)","v":16.489999999999998},"2011-02-18T09:44:40",316731,19207.45906610067,0.34023805760722492,0,1,0.15,1.4999999999999998,"Ethiopia","Ethiopia",null,null,null,null,null,"Ethiopia","Etiópia","埃塞俄比亚","衣索比亞","Ethiopië","Éthiopie","Äthiopien","Etiopia","エチオピア","에티오피아","Etiopia","Etiópia","Эфиопия","Etiopía","Etiopien",null,null,null,"birr","birr","比尔","比爾","birr","birr éthiopien","Birr","Birr","ブル","비르","birr","birr","быр","birr","birr"]
["kronerDkr","Faeroe Islands (Føroyar)","kroner","Dkr",5.72,"2011-02-18T09:44:43",250000,43706.293706293705,0.77420675085989599,0.6,1,0.15,1.4999999999999998,"Faeroe Islands (Føroyar)","Faeroe Islands (Føroyar)",null,null,null,null,null,"Faeroe Islands (Føroyar)","Ilhas Faroés (Føroyar)","法罗群岛","法羅群島","Faeröer","Féroé (îles)","Färöer (Føroyar)","Isole Faroe (Føroyar)","フェロー諸島","페로스 제도(페로어)","Wyspy Owcze (Føroyar)","Ilhas Feroé (Føroyar)","Фарерские острова","Islas Feroe","Färöarna",null,null,null,"kroner","coroa","克埃","丹麥克郎","kroner","couronne danoise","Krone","Corona","クローネ","크로나","korona","coroa","крона","corona","kronor"]
["pound£","Falkland Islands","pound","£",0.64,"2011-02-18T09:44:43",41000,64062.5,1.1347935450728925,0.5,1,0.15,1.4999999999999998,"Falkland Islands","Falkland Islands",null,null,null,null,null,"Falkland Islands","Ilhas Falkland","马尔维纳斯群岛","福克蘭群島","Falklandeilanden","Falkland (îles)","Falklandinseln","Isole Falkland","フォークランド諸島","포클랜드 제도","Falklandy","Ilhas Falkland","Фолклендские острова","Islas Malvinas (Falkland Islands)","Falklandsöarna",null,null,null,"pound","libra","英镑","福克蘭群島鎊","pound","livre sterling","Pfund","Sterlina","ポンド","파운드","funt","libra","фунт","libra","pund"]
["dollarF$","Fiji","dollar","F$",{"$f":"VLOOKUP(B75,ImportInfo!$D$1:$E$188,2,FALSE)","v":1.82},"2011-02-18T09:44:40",76640,42109.890109890111,0.74592829627991619,0.2,1,0.15,1.4999999999999998,"Fiji","Fiji",null,null,null,null,null,"Fiji","Fiji","斐济","斐濟","Fiji","Fidji","Fidschi","Fiji","フィジー","피지","Fidżi","Fiji","Фиджи","Fiyi","Fiji",null,null,null,"dollar","dólar","津巴布韦元","斐濟幣","dollar","dollar","Dollar","Dollaro","ドル","달러","dolar","dólar","доллар","dólar","dollar"]
["euro€","Finland","euro","€",{"$f":"VLOOKUP(B76,ImportInfo!$D$1:$E$188,2,FALSE)","v":0.77},"2011-02-18T09:44:40",43015,55863.63636363636,0.98956010067908451,0.75,1,0.17,1.7,"Finland","Finland",null,null,null,null,null,"Finland","Finlândia","芬兰","芬蘭","Finland","Finlande","Finnland","Finlandia","フィンランド","핀란드","Finlandia","Finlândia","Финляндия","Finlandia","Finland",null,null,null,"euro","euro","欧元","歐元","euro","euro","Euro","Euro","ユーロ","유로","euro","euro","евро","euro","euro"]
["euro€","France","euro","€",{"$f":"VLOOKUP(B77,ImportInfo!$D$1:$E$188,2,FALSE)","v":0.77},"2011-02-18T09:44:40",35127,45619.480519480516,0.80809665597010816,0.8,1,0.16,1.5999999999999999,"France","France",null,null,null,null,null,"France","França","法国","法國","Frankrijk","France","Frankreich","Francia","フランス","프랑스","Francja","França","Франция","Francia","Frankrike",null,null,null,"euro","euro","欧元","歐元","euro","euro","Euro","Euro","ユーロ","유로","euro","euro","евро","euro","euro"]
["euro€","French Guiana","euro","€",0.77,"2011-02-18T09:44:43",25000,32467.532467532466,0.57512501492449408,0.2,1,0.15,1.4999999999999998,"French Guiana","French Guiana",null,null,null,null,null,"French Guiana","Guiana Francesa","法属圭亚那","法屬圭亞那","Frans-Guyana","Guyane française","Französisch Guayana","Guayana Francese","フランス領ギアナ","프랑스령 기아나","Gujana Francuska","Guiana Francesa","Французская Гвиана","Guayana Francesa","Franska Guyana",null,null,null,"euro","euro","欧元","歐元","euro","euro","Euro","Euro","ユーロ","유로","euro","euro","евро","euro","euro"]
["euro€","French Polynesia","euro","€",0.73299999999999998,"2007-11-27",35000,47748.97680763984,0.84581823477299412,0.2,1,0.15,1.4999999999999998,"French Polynesia","French Polynesia",null,null,null,null,null,"French Polynesia","Polinésia Francesa","法属波利尼西亚","法屬玻里尼西亞","Frans-Polynesië","Polynésie française","Französisch-Polynesien","Polinesia Francese","フランス領ポリネシア","프랑스령 폴리네시아","Polinezja Francuska","Polinésia Francesa","Французская Полинезия","Polinesia Francesa","Franska Polynesien",null,null,null,"euro","euro","欧元","歐元","euro","euro","Euro","Euro","ユーロ","유로","euro","euro","евро","euro","euro"]
["francCFAF","Gabon","franc","CFAF",{"$f":"VLOOKUP(B80,ImportInfo!$D$1:$E$188,2,FALSE)","v":503.3},"2011-02-18T09:44:40",38198242,75895.57321676932,1.3444028345131227,0,1,0.15,1.4999999999999998,"Gabon","Gabon",null,null,null,null,null,"Gabon","Gabão","加蓬","加彭","Gabon","Gabon","Gabun","Gabon","ガボン","가봉","Gabon","Gabão","Габон","Gabón","Gabon",null,null,null,"franc","franco","法郎","法郎","franc","franc CFP","Franc","Franco","フラン","프랑","frank","franco","франк","franco","franc"]
["dalasiD","Gambia","dalasi","D",{"$f":"VLOOKUP(B81,ImportInfo!$D$1:$E$188,2,FALSE)","v":28},"2011-02-18T09:44:40",639396,22835.571428571428,0.404505897446928,0,1,0.15,1.4999999999999998,"Gambia","Gambia",null,null,null,null,null,"Gambia","Gâmbia","冈比亚","甘比亞","Gambia","Gambie","Gambia","Gambia","ガンビア","감비아","Gambia","Gâmbia","Гамбия","Gambia","Gambia",null,null,null,"dalasi","dalasi","达拉","達拉西","dalasi","dalasi","Dalasi","Dalasi","ダラシ","달라시","dalasi","dalasi","даласи","dalasi","dalasi"]
["new shekelNIS","Gaza","new shekel","NIS",3.8614000000000002,"2007-11-27",45000,11653.804319676801,0.20643374700506265,0,1,0.15,1.4999999999999998,"Gaza","Gaza",null,null,null,null,null,"Gaza","Gaza","加沙","加薩","Gaza","Gaza","Gaza","Gaza","ガザ","가자","Gaza","Gaza","Газа","Gaza","Gaza",null,null,null,"new shekel","novo shekel","新谢克尔","新克爾","new shekel","nouveau shekel israélien","Neuer Schekel","Nuovo sheqel","新シェケル","뉴 셰켈","nowy szekel","novo shekel","новый шекель","nuevo siclo","nya shekel"]
["lariGEL","Georgia","lari","GEL",{"$f":"VLOOKUP(B83,ImportInfo!$D$1:$E$188,2,FALSE)","v":1.76},"2011-02-18T09:44:40",70299,39942.61363636364,0.70753748492309776,0,1,0.15,1.4999999999999998,"Georgia","Georgia",null,null,null,null,null,"Georgia","Geórgia","格鲁吉亚","喬治亞","Georgië","Géorgie","Georgien","Georgia","グルジア","그루지야","Gruzja","Geórgia","Грузия","Georgia","Georgien",null,null,null,"lari","lari","拉里","拉里","lari","lari","Lari","Lari","ラリ","라리","lari","lari","лари","lari","lari"]
["euro€","Germany","euro","€",0.77,"2011-02-18T09:44:43",42266,54890.909090909088,0.97232935523194675,0.75,1,0.28000000000000003,2.8000000000000003,"Germany","Germany",null,null,null,null,null,"Germany","Alemanha","德国","德國","Duitsland","Allemagne","Deutschland","Germania","ドイツ","독일","Niemcy","Alemanha","Германия","Alemania","Tyskland",null,null,null,"euro","euro","欧元","歐元","euro","euro","Euro","Euro","ユーロ","유로","euro","euro","евро","euro","euro"]
["new cedi¢","Ghana","new cedi","¢",{"$f":"VLOOKUP(B85,ImportInfo!$D$1:$E$188,2,FALSE)","v":1.45},"2011-02-18T09:44:40",45303,31243.448275862069,0.55344177060319322,0,1,0.15,1.4999999999999998,"Ghana","Ghana",null,null,null,null,null,"Ghana","Gana","加纳","迦納","Ghana","Ghana","Ghana","Ghana","ガーナ","가나","Ghana","Gana","Гана","Ghana","Ghana",null,null,null,"new cedi","novo cedi","新塞迪","新塞地","new cedi","nouveau cedi","New Cedi","Nuovo cedi","新セディ","뉴 세디","nowe cedi","novo cedi","новый седи","nuevo cedi","nya cedi"]
["pound£","Gibraltar","pound","£",0.64,"2011-02-18T09:44:43",41090,64203.125,1.1372845552937842,0.5,1,0.15,1.4999999999999998,"Gibraltar","Gibraltar",null,null,null,null,null,"Gibraltar","Gibraltar","直布罗陀","直布羅陀","Gibraltar","Gibraltar","Gibraltar","Gibilterra","ジブラルタル","지브롤터","Gibraltar","Gibraltar","Гибралтар","Gibraltar","Gibraltar",null,null,null,"pound","libra","英镑","直布羅陀鎊","pound","livre sterling","Pfund","Sterlina","ポンド","파운드","funt","libra","фунт","libra","pund"]
["pound£","Great Britain","pound","£",0.64,"2011-02-18T09:44:43",27472,42925,0.76036703098152447,0.5,1,0.17,1.7,"Great Britain","Great Britain",null,null,null,null,null,"Great Britain","Grã-Bretanha","英国","大不列顛群島","Groot-Brittannië","Grande-Bretagne","Großbritannien","Gran Bretagna","グレートブリテン島","영국","Wielka Brytania","Grã-Bretanha","Великобритания","Gran Bretaña","Storbritannien",null,null,null,"pound","libra","英镑","英鎊","pound","livre sterling","Pfund","Sterlina","ポンド","파운드","funt","libra","фунт","libra","pund"]
["euro€","Greece","euro","€",{"$f":"VLOOKUP(B88,ImportInfo!$D$1:$E$188,2,FALSE)","v":0.77},"2011-02-18T09:44:40",16682,21664.935064935064,0.38376941995881642,0.5,1,0.14000000000000001,1.4000000000000001,"Greece","Greece",null,null,null,null,null,"Greece","Grécia","希腊","希臘","Griekenland","Grèce","Griechenland","Grecia","ギリシャ","그리스","Grecja","Grécia","Греция","Grecia","Grekland",null,null,null,"euro","euro","欧元","歐元","euro","euro","Euro","Euro","ユーロ","유로","euro","euro","евро","euro","euro"]
["kronerDkr","Greenland","kroner","Dkr",5.72,"2011-02-18T09:44:43",300000,52447.552447552451,0.92904810103187518,0.6,1,0.15,1.4999999999999998,"Greenland","Greenland",null,null,null,null,null,"Greenland","Groenlândia","格陵兰","格陵蘭","Groenland","Groenland","Grönland","Groenlandia","グリーンランド","그린란드","Grenlandia","Gronelândia","Гренландия","Groenlandia","Grönland",null,null,null,"kroner","coroa","克埃","丹麥克郎","kroner","couronne danoise","Krone","Corona","クローネ","크로나","korona","coroa","крона","corona","kronor"]
["dollarEC$","Grenada","dollar","EC$",{"$f":"VLOOKUP(B90,ImportInfo!$D$1:$E$188,2,FALSE)","v":2.7},"2011-02-18T09:44:40",98755,36575.925925925927,0.64790048227598052,0.3,1,0.15,1.4999999999999998,"Grenada","Grenada",null,null,null,null,null,"Grenada","Granada","格林纳达","格瑞那達","Grenada","Grenade","Grenada","Grenada","グレナダ","그레나다","Grenada","Granada","Гренада","Granada","Grenada",null,null,null,"dollar","dólar","津巴布韦元","東加勒比幣","dollar","dollar","Dollar","Dollaro","ドル","달러","dolar","dólar","доллар","dólar","dollar"]
["euro€","Guadeloupe","euro","€",0.77,"2011-02-18T09:44:43",35000,45454.545454545456,0.80517502089429183,0.3,1,0.15,1.4999999999999998,"Guadeloupe","Guadeloupe",null,null,null,null,null,"Guadeloupe","Guadalupe","瓜德罗普","哥德普洛","Guadeloupe","Guadeloupe","Guadeloupe","Guadalupa","グアドループ","과들루프","Gwadelupa","Guadalupe","Гваделупа","Guadalupe","Guadeloupe",null,null,null,"euro","euro","欧元","歐元","euro","euro","Euro","Euro","ユーロ","유로","euro","euro","евро","euro","euro"]
["dollarUS$","Guam","dollar","US$",1,"2009-11-11T14:08:34",60000,60000,1.0628310275804651,0.4,1,0.15,1.4999999999999998,"Guam","Guam",null,null,null,null,null,"Guam","Guam","关岛","關島","Guam","Guam","Guam","Guam","グアム","괌","Guam","Guam","Гуам","Guam","Guam",null,null,null,"dollar","dólar","津巴布韦元","美元","dollar","dollar","Dollar","Dollaro","ドル","달러","dolar","dólar","доллар","dólar","dollar"]
["quetzalQ","Guatemala","quetzal","Q",{"$f":"VLOOKUP(B93,ImportInfo!$D$1:$E$188,2,FALSE)","v":8},"2011-02-18T09:44:40",298699,37337.375,0.66138867730678619,0.2,1,0.15,1.4999999999999998,"Guatemala","Guatemala",null,null,null,null,null,"Guatemala","Guatemala","危地马拉","瓜地馬拉","Guatemala","Guatemala","Guatemala","Guatemala","グアテマラ","과테말라","Gwatemala","Guatemala","Гватемала","Guatemala","Guatemala",null,null,null,"quetzal","quetzal","格查尔","格查爾","quetzal","quetzal","Quetzal","Quetzal","ケツァル","케찰","quetzal","quetzal","кетсаль","quetzal","quetzal"]
["pound£","Guernsey","pound","£",0.64,"2011-02-18T09:44:43",41090,64203.125,1.1372845552937842,0.5,1,0.15,1.4999999999999998,"Guernsey","Guernsey",null,null,null,null,null,"Guernsey","Guernsey","根西","格恩西島","Guernsey","Guernesey","Guernsey","Guernsey","ガーンジー島","건지","Guernsey","Guernsey","Гернси","Guernsey","Guernsey",null,null,null,"pound","libra","英镑","英鎊","pound","livre sterling","Pfund","Sterlina","ポンド","파운드","funt","libra","фунт","libra","pund"]
["francGNF","Guinea","franc","GNF",{"$f":"VLOOKUP(B95,ImportInfo!$D$1:$E$188,2,FALSE)","v":6078},"2011-02-18T09:44:40",70598326,11615.38762750905,0.20575323946484775,0,1,0.15,1.4999999999999998,"Guinea","Guinea",null,null,null,null,null,"Guinea","Guiné","几内亚","幾內亞","Guinee","Guinée","Guinea","Guinea","ギニア","기니","Gwinea","Guiné","Гвинея","Guinea","Guinea",null,null,null,"franc","franco","法郎","幾內亞法郎","franc","franc CFP","Franc","Franco","フラン","프랑","frank","franco","франк","franco","franc"]
["francCFAF","Guinea-Bissau","franc","CFAF",503.3,"2011-02-18T09:44:43",25438488,50543.389628452212,0.89531804560346151,0,1,0.15,1.4999999999999998,"Guinea-Bissau","Guinea-Bissau",null,null,null,null,null,"Guinea-Bissau","Guiné-Bissau","几内亚比绍","幾內亞比索","Guinee-Bissau","Guinée-Bissau","Guinea-Bissau","Guinea-Bissau","ギニアビサウ","기니비사우","Gwinea Bissau","Guiné-Bissau","Гвинея-Бисау","Guinea-Bissau","Guinea-Bissau",null,null,null,"franc","franco","法郎","法郎","franc","franc CFP","Franc","Franco","フラン","프랑","frank","franco","франк","franco","franc"]
["dollarG$","Guyana","dollar","G$",{"$f":"VLOOKUP(B97,ImportInfo!$D$1:$E$188,2,FALSE)","v":201},"2011-02-18T09:44:40",6410445,31892.761194029852,0.56494360253715215,0,1,0.15,1.4999999999999998,"Guyana","Guyana",null,null,null,null,null,"Guyana","Guiana","圭亚那","蓋亞納","Guyana","Guyane","Guyana","Guyana","ガイアナ","가이아나","Gujana","Guiana","Гайана","Guyana","Guyana",null,null,null,"dollar","dólar","津巴布韦元","圭亞那幣","dollar","dollar","Dollar","Dollaro","ドル","달러","dolar","dólar","доллар","dólar","dollar"]
["gourdeG","Haiti","gourde","G",{"$f":"VLOOKUP(B98,ImportInfo!$D$1:$E$188,2,FALSE)","v":38.5},"2011-02-18T09:44:40",846125,21977.272727272728,0.38930212260239011,0,1,0.13500000000000001,1.35,"Haiti","Haiti",null,null,null,null,null,"Haiti","Haiti","海地","海地","Haïti","Haïti","Haiti","Haiti","ハイチ","아이티","Haiti","Haiti","Гаити","Haití","Haiti",null,null,null,"gourde","gourde","古德","古德","gourde","gourde","Gourde","Gourde","グールド","구르드","gourde","gurde","гурд","gurda","gourde"]
["dollarA$","Heard and McDonald Islands","dollar","A$",1.04,"2011-02-18T09:44:43",66000,63461.538461538461,1.1241482022485689,0.5,1,0.15,1.4999999999999998,"Heard and McDonald Islands","Heard and McDonald Islands",null,null,null,null,null,"Heard and McDonald Islands","Ilhas Heard e McDonald","赫德和麦克唐纳群岛","赫德島及麥當勞群島","Heard en McDonaldeilanden","Heard et McDonald (îles)","Heard und McDonaldinseln","Isole Heard e McDonald","ハード・マクドナルド諸島","허드 섬 및 맥도널드 제도","Wyspy Heard i McDonald","Ilhas Heard e McDonald","Heard and McDonald Islands","Islas Heard y McDonald","Heardön och McDonaldöarna",null,null,null,"dollar","dólar","津巴布韦元","澳幣","dollar","dollar","Dollar","Dollaro","ドル","달러","dolar","dólar","доллар","dólar","dollar"]
["lempiraL","Honduras","lempira","L",{"$f":"VLOOKUP(B100,ImportInfo!$D$1:$E$188,2,FALSE)","v":18.899999999999999},"2011-02-18T09:44:40",529475,28014.550264550267,0.49624555408127591,0.2,1,0.15,1.4999999999999998,"Honduras","Honduras",null,null,null,null,null,"Honduras","Honduras","洪都拉斯","宏都拉斯","Honduras","Honduras","Honduras","Honduras","ホンジュラス","온두라스","Honduras","Honduras","Гондурас","Honduras","Honduras",null,null,null,"lempira","lempira","伦皮拉","倫皮拉","lempira","lempira","Lempira","Lempira","レンピラ","렘피라","lempira","lempira","лемпира","lempira","lempira"]
["dollarHK$","Hong Kong","dollar","HK$",{"$f":"VLOOKUP(B101,ImportInfo!$D$1:$E$188,2,FALSE)","v":7.77},"2011-02-18T09:44:41",277980,35776.061776061775,0.63373180833723231,0.5,1,0.15,1.4999999999999998,"Hong Kong","Hong Kong",null,null,null,null,null,"Hong Kong","Hong Kong","香港特别行政区","香港","Hongkong","Hong Kong","Hongkong","Hong Kong","香港","홍콩","Hongkong","Hong Kong","Гонконг","Hong Kong","Hongkong",null,null,null,"dollar","dólar","津巴布韦元","港幣","dollar","dollar","Dollar","Dollaro","ドル","달러","dolar","dólar","доллар","dólar","dollar"]
["forintFt","Hungary","forint","Ft",{"$f":"VLOOKUP(B102,ImportInfo!$D$1:$E$188,2,FALSE)","v":217.12},"2011-02-18T09:44:41",4215385,19415.000921149593,0.34391442299168501,0.2,1,0.20699999999999999,2.0699999999999998,"Hungary","Hungary",null,null,null,null,null,"Hungary","Hungria","匈牙利","匈牙利","Hongarije","Hongrie","Ungarn","Ungheria","ハンガリー","헝가리","Węgry","Hungria","Венгрия","Hungría","Ungern",null,null,null,"forint","forinto","福林","富林特","forint","forint","Forint","Fiorino","フォリント","포린트","forint","forint","форинт","forint","forint"]
["krónaIKr","Iceland","króna","IKr",{"$f":"VLOOKUP(B103,ImportInfo!$D$1:$E$188,2,FALSE)","v":117.07},"2011-02-18T09:44:41",7610474,65007.892713761001,1.1515400902301207,0.6,1,0.15,1.4999999999999998,"Iceland","Iceland",null,null,null,null,null,"Iceland","Islândia","冰岛","冰島","IJsland","Islande","Island","Islanda","アイスランド","아이슬란드","Islandia","Islândia","Исландия","Islandia","Island",null,null,null,"króna","coroa","克朗","冰島克郎","króna","couronne islandaise","Krone","Corona","クローネ","크로나","korona","coroa","крона","corona","króna"]
["rupee₨","India","rupee","₨",{"$f":"VLOOKUP(B104,ImportInfo!$D$1:$E$188,2,FALSE)","v":45.7},"2011-02-18T09:44:41",910343,19919.978118161926,0.35285951354510703,0.2,1,4.7E-2,0.47,"India","India",null,null,null,null,null,"India","Índia","印度","印度","India","Inde","Indien","India","インド","인도","Indie","Índia","Индия","India","Indien",null,null,null,"rupee","rúpia","卢比","印度盧比","rupee","roupie","Rupie","Rupia","ルピー","루피","rupia","rupia","рупия","rupia","rupie"]
["rupiahRp","Indonesia","rupiah","Rp",{"$f":"VLOOKUP(B105,ImportInfo!$D$1:$E$188,2,FALSE)","v":8900},"2011-02-18T09:44:41",380936780,42801.885393258424,0.75818619724830261,0.2,1,0.06,0.6,"Indonesia","Indonesia",null,null,null,null,null,"Indonesia","Indonésia","印度尼西亚","印尼","Indonesië","Indonésie","Indonesien","Indonesia","インドネシア","인도네시아","Indonezja","Indonésia","Индонезия","Indonesia","Indonesien",null,null,null,"rupiah","rúpia","卢比","印尼盧比","rupiah","roupie","Rupiah","Rupia","ルピア","루피아","rupia","rupia","рупия","rupia","rupiah"]
["rial﷼","Iran","rial","﷼",{"$f":"VLOOKUP(B106,ImportInfo!$D$1:$E$188,2,FALSE)","v":8229},"2011-02-18T09:44:41",155381551,18882.191153238546,0.33447631043945486,0,1,0.15,1.4999999999999998,"Iran","Iran",null,null,null,null,null,"Iran","Irã","伊朗","伊朗","Iran","Iran","Iran","Iran","イラン","이란","Iran","Irão","Иран","Irán","Iran",null,null,null,"rial","rial","里亚尔","伊朗里亞爾","rial","rial","Rial","Rial","リアル","리알","rial","rial","риал","rial","rial"]
["new dinarID","Iraq","new dinar","ID",{"$f":"VLOOKUP(B107,ImportInfo!$D$1:$E$188,2,FALSE)","v":1166.5},"2011-02-18T09:44:41",20109022,17238.767252464637,0.30536494521929103,0,1,0.15,1.4999999999999998,"Iraq","Iraq",null,null,null,null,null,"Iraq","Iraque","伊拉克","伊拉克","Irak","Irak","Irak","Iraq","イラク","이라크","Irak","Iraque","Ирак","Iraq","Irak",null,null,null,"new dinar","novo dinar","新第纳尔","新第納爾","new dinar","nouveau dinar","Neuer Dinar","Nuovo Dinaro","新ディナール","뉴 디나르","nowy dinar","novo dinar","новый динар","nuevo dinar","nya dinar"]
["euro€","Ireland","euro","€",{"$f":"VLOOKUP(B108,ImportInfo!$D$1:$E$188,2,FALSE)","v":0.77},"2011-02-18T09:44:41",34533,44848.051948051951,0.79443168561550226,0.75,1,0.22,2.1999999999999997,"Ireland","Ireland",null,null,null,null,null,"Ireland","Irlanda","爱尔兰","愛爾蘭","Ierland","Irlande","Irland","Irlanda","アイルランド","아일랜드","Irlandia","Irlanda","Ирландия","Irlanda","Irland",null,null,null,"euro","euro","欧元","歐元","euro","euro","Euro","Euro","ユーロ","유로","euro","euro","евро","euro","euro"]
["pound£","Isle of Man","pound","£",0.64,"2011-02-18T09:44:43",41000,64062.5,1.1347935450728925,0.6,1,0.15,1.4999999999999998,"Isle of Man","Isle of Man",null,null,null,null,null,"Isle of Man","Ilha de Man","马恩岛","英屬曼島","Isle of Man","Man (île de)","Isle of Man","Isola di Man","マン島","맨 섬","Wyspa Man","Ilha de Man","Остров Мэн","Isla de Man","Isle of Man",null,null,null,"pound","libra","英镑","英鎊","pound","livre sterling","Pfund","Sterlina","ポンド","파운드","funt","libra","фунт","libra","pund"]
["new shekel₪","Israel","new shekel","₪",{"$f":"VLOOKUP(B110,ImportInfo!$D$1:$E$188,2,FALSE)","v":3.68},"2011-02-18T09:44:41",167262,45451.630434782608,0.80512338467012579,0.3,1,9.8000000000000004E-2,0.98,"Israel","Israel",null,null,null,null,null,"Israel","Israel","以色列","以色列","Israël","Israël","Israel","Israele","イスラエル","이스라엘","Izrael","Israel","Израиль","Israel","Israel",null,null,null,"new shekel","novo shekel","新谢克尔","新克爾","new shekel","nouveau shekel israélien","Neuer Schekel","Nuovo sheqel","新シェケル","뉴 셰켈","nowy szekel","novo shekel","новый шекель","nuevo siclo","nya shekel"]
["euro€","Italy","euro","€",{"$f":"VLOOKUP(B111,ImportInfo!$D$1:$E$188,2,FALSE)","v":0.77},"2011-02-18T09:44:41",29067,37749.35064935065,0.66868635235241081,0.75,1,0.25,2.5,"Italy","Italy",null,null,null,null,null,"Italy","Itália","意大利","義大利","Italië","Italie","Italien","Italia","イタリア","이탈리아","Włochy","Itália","Италия","Italia","Italien",null,null,null,"euro","euro","欧元","歐元","euro","euro","Euro","Euro","ユーロ","유로","euro","euro","евро","euro","euro"]
["francCFAF","Ivory Coast","franc","CFAF",503.3,"2011-02-18T09:44:43",25000000,49672.163719451615,0.87988528013483103,0,1,0.15,1.4999999999999998,"Ivory Coast","Ivory Coast",null,null,null,null,null,"Ivory Coast","Costa do Marfim","科特迪瓦","象牙海岸","Ivoorkust","Côte d'Ivoire","Elfenbeinküste","Costa d'Avorio","コートジボワール","코트디부아르","Wybrzeże Kości Słoniowej","Costa do Marfim","Кот-д'Ивуар","Costa de Marfil","Elfenbenskusten",null,null,null,"franc","franco","法郎","法郎","franc","franc CFP","Franc","Franco","フラン","프랑","frank","franco","франк","franco","franc"]
["dollarJ$","Jamaica","dollar","J$",{"$f":"VLOOKUP(B113,ImportInfo!$D$1:$E$188,2,FALSE)","v":85.8},"2011-02-18T09:44:41",1526950,17796.620046620046,0.31524666619347147,0,1,0.15,1.4999999999999998,"Jamaica","Jamaica",null,null,null,null,null,"Jamaica","Jamaica","牙买加","牙買加","Jamaica","Jamaïque","Jamaika","Giamaica","ジャマイカ","자메이카","Jamajka","Jamaica","Ямайка","Jamaica","Jamaica",null,null,null,"dollar","dólar","津巴布韦元","牙買加幣","dollar","dollar","Dollar","Dollaro","ドル","달러","dolar","dólar","доллар","dólar","dollar"]
["yen¥","Japan","yen","¥",{"$f":"VLOOKUP(B114,ImportInfo!$D$1:$E$188,2,FALSE)","v":83.83},"2011-02-18T09:44:41",4091895,48811.821543600141,0.86464530748764712,0.5,1,0.20599999999999999,2.0599999999999996,"Japan","Japan",null,null,null,null,null,"Japan","Japão","日本","日本","Japan","Japon","Japan","Giappone","日本","일본","Japonia","Japão","Япония","Japón","Japan",null,null,null,"yen","iene","日元","日圓","yen","yen","Yen","Yen","円","엔","jen","iene","иена","yen","yen"]
["pound£","Jersey","pound","£",0.64,"2011-02-18T09:44:43",41000,64062.5,1.1347935450728925,0.6,1,0.15,1.4999999999999998,"Jersey","Jersey",null,null,null,null,null,"Jersey","Jersey","泽西","澤西島","Jersey","Jersey","Jersey","Jersey","ジャージー島","저지","Jersey","Jersey","Джерси","Jersey","Jersey",null,null,null,"pound","libra","英镑","英鎊","pound","livre sterling","Pfund","Sterlina","ポンド","파운드","funt","libra","фунт","libra","pund"]
["dollarUS$","Johnston Island","dollar","US$",1,"2009-11-11T14:08:34",60000,60000,1.0628310275804651,0.5,1,0.15,1.4999999999999998,"Johnston Island","Johnston Island",null,null,null,null,null,"Johnston Island","Atol de Johnston","约翰斯敦岛","瓊斯敦島","Johnston Atol","Johnston (atoll)","Johnston Island","Isola Johnston","ジョンストン島","존스턴 제도","Wyspa Johnston","Ilha Johnston","Атолл Джонстон","Isla Johnston","Johnstonatollen",null,null,null,"dollar","dólar","津巴布韦元","美元","dollar","dollar","Dollar","Dollaro","ドル","달러","dolar","dólar","доллар","dólar","dollar"]
["dinarJD","Jordan","dinar","JD",{"$f":"VLOOKUP(B117,ImportInfo!$D$1:$E$188,2,FALSE)","v":0.71},"2011-02-18T09:44:41",24159,34026.760563380281,0.6027449482468652,0.3,1,0.15,1.4999999999999998,"Jordan","Jordan",null,null,null,null,null,"Jordan","Jordânia","约旦","約旦","Jordanië","Jordanie","Jordanien","Giordania","ヨルダン","요르단","Jordania","Jordânia","Иордания","Jordania","Jordanien",null,null,null,"dinar","dinar","第纳尔","約旦第納爾","dinar","dinar","Dinar","Dinaro","ディナール","디나르","dinar","dinar","динар","dinar","dinar"]
["new rielCR","Kampuchea","new riel","CR",{"$f":"E36","v":3975.4},{"$f":"F36","v":"2007-11-27"},117212494,29484.452885244253,0.52228318929453266,0,1,0.15,1.4999999999999998,"Kampuchea","Kampuchea",null,null,null,null,null,"Kampuchea","Kampuchea","柬埔寨","柬埔寨","Kampuchea","Kampuchea","Kambodscha","Kampuchea","カンボジア","캄푸치아","Kambodża","Kampuchea","Камбоджа","Kampuchea","Kampuchea",null,null,null,"new riel","novo riel","新瑞尔","新瑞爾","new riel","nouveau riel","Neuer Riel","Nuovo Riel","新リエル","뉴 리엘","nowy riel","novo riel","новый риель","nuevo riel","nya riel"]
["tengeлв","Kazakhstan","tenge","лв",{"$f":"VLOOKUP(B119,ImportInfo!$D$1:$E$188,2,FALSE)","v":147.5},"2011-02-18T09:44:41",2997482,20321.911864406778,0.35997930782078508,0,1,5.1999999999999998E-2,0.51999999999999991,"Kazakhstan","Kazakhstan",null,null,null,null,null,"Kazakhstan","Casaquistão","哈萨克斯坦","哈薩克","Kazachstan","Kazakhstan","Kasachstan","Kazakistan","カザフスタン","카자흐스탄","Kazachstan","Cazaquistão","Казахстан","Kazajistán","Kazakhstan",null,null,null,"tenge","tenge","腾格","田基","tenge","tenge","Tenge","Tenge","テンゲ","텡게","tenge","tenge","тенге","tenge","tenge"]
["shillingK Sh","Kenya","shilling","K Sh",{"$f":"VLOOKUP(B120,ImportInfo!$D$1:$E$188,2,FALSE)","v":80.900000000000006},"2011-02-18T09:44:41",2545584,31465.809641532753,0.55738064658269271,0,1,0.15,1.4999999999999998,"Kenya","Kenya",null,null,null,null,null,"Kenya","Quênia","肯尼亚","肯亞","Kenia","Kenya","Kenia","Kenya","ケニア","케냐","Kenia","Quénia","Кения","Kenia","Kenya",null,null,null,"shilling","shilling","先令","肯亞先令","shilling","shilling","Schilling","Scellino","シリング","실링","szyling","xelim","шиллинг","chelín","shilling"]
["dollarA$","Kiribati","dollar","A$",1.04,"2011-02-18T09:44:43",52803,50772.115384615383,0.89936965944441183,0,1,0.15,1.4999999999999998,"Kiribati","Kiribati",null,null,null,null,null,"Kiribati","Kiribati","基里巴斯","吉里巴斯","Kiribati","Kiribati","Kiribati","Kiribati","キリバス","키리바시","Kiribati","Quiribati","Кирибати","Kiribati","Kiribati",null,null,null,"dollar","dólar","津巴布韦元","澳幣","dollar","dollar","Dollar","Dollaro","ドル","달러","dolar","dólar","доллар","dólar","dollar"]
["wonWn","Korea, North","won","Wn",142.44999999999999,"2007-11-27",2160719,15168.26254826255,0.26868833451300284,0,1,0.15,1.4999999999999998,"Korea, North","Korea, North",null,null,null,null,null,"Korea, North","Coreia do Norte","朝鲜","北韓","Noord-Korea","Corée du Nord","Nordkorea","Corea del Nord","北朝鮮","북한","Korea Północna","Coreia (Norte)","Корея, Северная","Corea del Norte","Korea, Nord",null,null,null,"won","won","圆","北韓圜","won","won","Won","Won","ウォン","원","won","won","вона","won","won"]
["wonW","Korea, South","won","W",929.68899999999996,"2007-11-27",68327493,73494.99994084044,1.3018794384858279,0.5,1,8.8999999999999996E-2,0.8899999999999999,"Korea, South","Korea, South",null,null,null,null,null,"Korea, South","Coreia do Sul","韩国","南韓","Zuid-Korea","Corée du Sud","Südkorea","Corea del Sud","韓国","남한","Korea Południowa","Coreia (Sul)","Корея, Южная","Corea del Sur","Korea, Syd",null,null,null,"won","won","圆","圜","won","won","Won","Won","ウォン","원","won","won","вона","won","won"]
["dinarKD","Kuwait","dinar","KD",{"$f":"VLOOKUP(B124,ImportInfo!$D$1:$E$188,2,FALSE)","v":0.28000000000000003},"2011-02-18T09:44:41",23838,85135.714285714275,1.5080813116347098,0.2,1,0.15,1.4999999999999998,"Kuwait","Kuwait",null,null,null,null,null,"Kuwait","Kuwait","科威特","科威特","Koeweit","Koweït","Kuwait","Kuwait","クウェート","쿠웨이트","Kuwejt","Kuwait","Кувейт","Kuwait","Kuwait",null,null,null,"dinar","dinar","第纳尔","科威特第納爾","dinar","dinar","Dinar","Dinaro","ディナール","디나르","dinar","dinar","динар","dinar","dinar"]
["somKGS","Kyrgyzstan","som","KGS",{"$f":"VLOOKUP(B125,ImportInfo!$D$1:$E$188,2,FALSE)","v":46.8},"2011-02-18T09:44:41",1620205,34619.764957264961,0.61324933940206827,0,1,0.15,1.4999999999999998,"Kyrgyzstan","Kyrgyzstan",null,null,null,null,null,"Kyrgyzstan","Quirguistão","吉尔吉斯斯坦","吉爾吉斯","Kirgizië","Kirghizistan","Kirgisistan","Kirghizistan","キルギス","키르기스스탄","Kirgistan","Quirguizistão","Киргизстан","Kirquistán","Kirgizistan",null,null,null,"som","som","苏姆","頌","som","soum","Som","Som","ソム","솜","som","som","сом","som","som"]
["new kip₭","Laos","new kip","₭",{"$f":"VLOOKUP(B126,ImportInfo!$D$1:$E$188,2,FALSE)","v":8031},"2011-02-18T09:44:41",232684371,28973.274934628316,0.51322825951903916,0,1,0.15,1.4999999999999998,"Laos","Laos",null,null,null,null,null,"Laos","Laos","老挝","寮國","Laos","Laos","Laos","Laos","ラオス","라오스","Laos","Laos","Лаос","Laos","Laos",null,null,null,"new kip","novo kip","新基普","新基普","new kip","nouveau kip","Neuer Kip","Nuovo Kip","新キープ","뉴 키프","nowy kip","novo kip","новый кип","nuevo kip","nya kip"]
["latLs","Latvia","lat","Ls",{"$f":"VLOOKUP(B127,ImportInfo!$D$1:$E$188,2,FALSE)","v":0.54},"2011-02-18T09:44:41",20628,38200,0.67666908755956279,0,1,0.14000000000000001,1.4000000000000001,"Latvia","Latvia",null,null,null,null,null,"Latvia","Letônia","拉脱维亚","拉脫維亞","Letland","Lettonie","Lettland","Lettonia","ラトビア","라트비아","Łotwa","Letónia","Латвия","Letonia","Lettland",null,null,null,"lat","lat","拉特","拉脫維亞勒斯","lat","lat","Lats","Lat","ラッツ","라트","łat","lat","лат","lat","lat"]
["poundL.L.","Lebanon","pound","L.L.",{"$f":"VLOOKUP(B128,ImportInfo!$D$1:$E$188,2,FALSE)","v":1500},"2011-02-18T09:44:41",60159908,40106.605333333333,0.71044240931984715,0,1,0.15,1.4999999999999998,"Lebanon","Lebanon",null,null,null,null,null,"Lebanon","Líbano","黎巴嫩","黎巴嫩","Libanon","Liban","Libanon","Libano","レバノン","레바논","Liban","Líbano","Ливан","Líbano","Libanon",null,null,null,"pound","libra","英镑","黎巴嫩鎊","pound","livre sterling","Pfund","Sterlina","ポンド","파운드","funt","libra","фунт","libra","pund"]
["lotiL","Lesotho","loti","L",{"$f":"VLOOKUP(B129,ImportInfo!$D$1:$E$188,2,FALSE)","v":7.07},"2011-02-18T09:44:41",376898,53309.476661951907,0.94431609767331948,0,1,0.15,1.4999999999999998,"Lesotho","Lesotho",null,null,null,null,null,"Lesotho","Lesoto","莱索托","賴索托","Lesotho","Lesotho","Lesotho","Lesotho","レソト","레소토","Lesotho","Lesoto","Лесото","Lesoto","Lesotho",null,null,null,"loti","loti","洛蒂","羅銻","loti","loti","Loti","Loti","ロティ","로티","loti","loti","лоти","loti","loti"]
["dollarUS$","Liberia",{"$f":"OFFSET(AM130,,LanguageOffset)","v":"dollar"},"US$",{"$f":"VLOOKUP(B130,ImportInfo!$D$1:$E$188,2,FALSE)","v":49},"2011-02-18T09:44:41",1038217,21188.102040816328,0.37532287107534279,0,1,0.15,1.4999999999999998,{"$f":"OFFSET(U130,,LanguageOffset)","v":"Liberia"},"Liberia",null,null,null,null,null,"Liberia","Libéria","利比里亚","賴比瑞亞","Liberia","Libéria","Liberia","Liberia","リベリア","라이베리아","Liberia","Libéria","Либерия","Liberia","Liberia",null,null,null,"dollar","dólar","津巴布韦元","賴比瑞亞幣","dollar","dollar","Dollar","Dollaro","ドル","달러","dolar","dólar","доллар","dólar","dollar"]
[{"$f":"C131&D131","v":"dinarLD"},"Libya","dinar","LD",{"$f":"VLOOKUP(B131,ImportInfo!$D$1:$E$188,2,FALSE)","v":1.25},"2011-02-18T09:44:41",30934,{"$f":"G131/E131","v":24747.200000000001},{"$f":"H131/$G$233","v":0.4383682000956548},0,1,0.15,1.4999999999999998,"Libya","Libya",null,null,null,null,null,"Libya","Líbia","利比亚","利比亞","Libië","Libye","Libyen","Libia","リビア","리비아","Libia","Líbia","Ливия","Libia","Libyen",null,null,null,"dinar","dinar","第纳尔","利比亞第納爾","dinar","dinar","Dinar","Dinaro","ディナール","디나르","dinar","dinar","динар","dinar","dinar"]
["francSwF","Liechtenstein","franc","SwF",1,"2011-02-18T09:44:44",60800,60800,1.0770021079482046,0.75,1,0.15,1.4999999999999998,"Liechtenstein","Liechtenstein",null,null,null,null,null,"Liechtenstein","Liechtenstein","列支敦士登","列支敦斯登","Liechtenstein","Liechtenstein","Liechtenstein","Liechtenstein","リヒテンシュタイン","리히텐슈타인","Liechtenstein","Listenstaine","Лихтенштейн","Liechtenstein","Liechtenstein",null,null,null,"franc","franco","法郎","瑞士法郎","franc","franc CFP","Franc","Franco","フラン","프랑","frank","franco","франк","franco","franc"]
["litaiLt","Lithuania","litai","Lt",{"$f":"VLOOKUP(B133,ImportInfo!$D$1:$E$188,2,FALSE)","v":2.65},"2011-02-18T09:44:41",80671,30441.886792452831,0.53924303035184717,0.2,1,0.12,1.2,"Lithuania","Lithuania",null,null,null,null,null,"Lithuania","Lituânia","立陶宛","立陶宛","Litouwen","Lituanie","Litauen","Lituania","リトアニア","리투아니아","Litwa","Lituânia","Литва","Lituania","Litauen",null,null,null,"litai","litai","立特","立陶宛利特斯","litai","litas","Litas","Litai","リタス","리타스","lit","lita","лит","litai","litai"]
["euro€","Luxembourg","euro","€",{"$f":"VLOOKUP(B134,ImportInfo!$D$1:$E$188,2,FALSE)","v":0.77},"2011-02-18T09:44:41",43286,56215.584415584417,0.99579445584086612,0.75,1,0.215,2.15,"Luxembourg","Luxembourg",null,null,null,null,null,"Luxembourg","Luxemburgo","卢森堡","盧森堡","Luxemburg","Luxembourg","Luxemburg","Lussemburgo","ルクセンブルグ","룩셈부르크","Luksemburg","Luxemburgo","Люксембург","Luxemburgo","Luxemburg",null,null,null,"euro","euro","欧元","歐元","euro","euro","Euro","Euro","ユーロ","유로","euro","euro","евро","euro","euro"]
["patacaP","Macao (Macau)","pataca","P",8,"2007-11-27",500000,62500,1.1071156537296512,0.2,1,0.15,1.4999999999999998,"Macao (Macau)","Macao (Macau)",null,null,null,null,null,"Macao (Macau)","Macau","澳门特别行政区","澳門","Macau","Macao ","Macao","Macao","マカオ","마카오","Makao","Macau","Макао","Macao","Macao (Macau)",null,null,null,"pataca","pataca","澳元","澳門幣","pataca","pataca","Pataca","Pataca","パタカ","파타카","pataka","pataca","патака","pataca","pataca"]
["denarден","Macedonia","denar","ден",41.462499999999999,"2007-11-27",2500000,60295.447693699127,1.0680645438453071,0,1,0.15,1.4999999999999998,"Macedonia","Macedonia",null,null,null,null,null,"Macedonia","Macedônia","马其顿","前南斯拉夫馬其頓共和國","Macedonië","Macédoine, ancienne république yougoslave de","Mazedonien","Macedonia","マケドニア","마케도니아","Macedonia","Macedónia","Македония","Macedonia","Makedonien",null,null,null,"denar","dinar","第纳尔","德納爾","denar","denar","Denar","Dinaro","デナル","데나르","denar","denar","динар","dinar","denar"]
["ariayryMGA","Madagascar","ariayry","MGA",{"$f":"VLOOKUP(B137,ImportInfo!$D$1:$E$188,2,FALSE)","v":2010.61},"2011-02-18T09:44:41",105296961,52370.654179577345,0.92768593661235621,0,1,0.15,1.4999999999999998,"Madagascar","Madagascar",null,null,null,null,null,"Madagascar","Madagascar","马达加斯加","馬達加斯加","Madagascar","Madagascar","Madagaskar","Madagascar","マダガスカル","마다가스카르","Madagaskar","Madagáscar","Мадагаскар","Madagascar","Madagaskar",null,null,null,"ariayry","ariayry","阿里亚里","阿里亞里","ariayry","ariary","Ariary","Ariayry","アリアリ","말라가시 프랑","ariary","ariary","ариари","ariayry","ariayry"]
["kwachaMK","Malawi","kwacha","MK",{"$f":"VLOOKUP(B138,ImportInfo!$D$1:$E$188,2,FALSE)","v":151},"2011-02-18T09:44:41",2260212,14968.291390728476,0.26514607533219625,0,1,0.15,1.4999999999999998,"Malawi","Malawi",null,null,null,null,null,"Malawi","Malawi","马拉维","馬拉威","Malawi","Malawi","Malawi","Malawi","マラウイ","말라위","Malawi","Malavi","Малави","Malawi","Malawi",null,null,null,"kwacha","cuacha","克瓦查","夸加","kwacha","kwacha","Kwacha","Kwacha","クワチャ","크와카","kwacha","kwacha","квача","kwacha","kwacha"]
["ringgitRM","Malaysia","ringgit","RM",{"$f":"VLOOKUP(B139,ImportInfo!$D$1:$E$188,2,FALSE)","v":3.17},"2011-02-18T09:44:41",49424,15591.167192429022,0.27617960413846954,0.2,1,0.15,1.4999999999999998,"Malaysia","Malaysia",null,null,null,null,null,"Malaysia","Malásia","马来西亚","馬來西亞","Maleisië","Malaisie","Malaysia","Malaysia","マレーシア","말레이시아","Malezja","Malásia","Малайзия","Malasia","Malaysia",null,null,null,"ringgit","ringgit","林吉特","馬來西亞林吉特","ringgit","ringgit","Ringgit","Ringgit","リンギ","링기트","ringgit","ringgit","ринггит","ringgit","ringgit"]
["rufiyaaRf","Maldives","rufiyaa","Rf",12.8,"2007-11-27",425813,33266.640625,0.58928029732697995,0.2,1,0.15,1.4999999999999998,"Maldives","Maldives",null,null,null,null,null,"Maldives","Ilhas Maldivas","马尔代夫","馬爾地夫","Maladiven","Maldives","Maldiven","Maldive","モルディブ","몰디브","Malediwy","Maldivas","Мальдивские острова","Maldivas","Maldiverna",null,null,null,"rufiyaa","rúpia","拉菲亚","盧非亞","rufiyaa","rufiyaa","Rufiyaa","Rufiyaa","ルフィア","루피야","rupia","rupia","руфия","rupia","rufiyaa"]
["francCFAF","Mali","franc","CFAF",{"$f":"VLOOKUP(B141,ImportInfo!$D$1:$E$188,2,FALSE)","v":503.3},"2011-02-18T09:44:41",24782635,49240.284124776474,0.87223502957817078,0,1,0.15,1.4999999999999998,"Mali","Mali",null,null,null,null,null,"Mali","Mali","马里","馬利","Mali","Mali","Mali","Mali","マリ","말리","Mali","Mali","Мали","Malí","Mali",null,null,null,"franc","franco","法郎","法郎","franc","franc CFP","Franc","Franco","フラン","프랑","frank","franco","франк","franco","franc"]
["liraLm","Malta","lira","Lm",{"$f":"VLOOKUP(B142,ImportInfo!$D$1:$E$188,2,FALSE)","v":0.77},"2011-02-18T09:44:41",26655,34616.883116883117,0.61319829091249567,0.5,1,0.19,1.9,"Malta","Malta",null,null,null,null,null,"Malta","Malta","马耳他","馬爾他","Malta","Malte","Malta","Malta","マルタ","몰타","Malta","Malta","Мальта","Malta","Malta",null,null,null,"lira","lira","里拉","馬爾他里拉","lira","lire","Lira","Lira","リラ","리라","lir","lira","лира","lira","euro"]
["euro€","Martinique","euro","€",{"$f":"VLOOKUP(B143,ImportInfo!$D$1:$E$188,2,FALSE)","v":0.77},"2011-02-18T09:44:41",25000,32467.532467532466,0.57512501492449408,0.5,1,0.15,1.4999999999999998,"Martinique","Martinique",null,null,null,null,null,"Martinique","Martinica","马提尼克","馬丁尼克","Martinique","Martinique","Martinique","Martinica","マルチニーク島","마르티니크","Martynika","Martinica","Мартиника","Martinica","Martinique",null,null,null,"euro","euro","欧元","歐元","euro","euro","Euro","Euro","ユーロ","유로","euro","euro","евро","euro","euro"]
["ouguiyaUM","Mauritania","ouguiya","UM",{"$f":"VLOOKUP(B144,ImportInfo!$D$1:$E$188,2,FALSE)","v":290},"2011-02-18T09:44:41",9854431,33980.796551724139,0.60193074861786156,0.2,1,0.15,1.4999999999999998,"Mauritania","Mauritania",null,null,null,null,null,"Mauritania","Mauritânia","毛里塔尼亚","茅利塔尼亞","Mauritanië","Mauritanie","Mauretanien","Mauritania","モーリタニア","모리타니","Mauretania","Mauritânia","Мавритания","Mauritania","Mauretanien",null,null,null,"ouguiya","ouguiya","乌吉亚","烏吉亞","ouguiya","ouguiya","Ouguiya","Ouguiya","ウギア","외게야","ouguiya","ouguiya","угия","ouguiya","ouguiya"]
["rupeeMau Rs","Mauritius","rupee","Mau Rs",{"$f":"VLOOKUP(B145,ImportInfo!$D$1:$E$188,2,FALSE)","v":30.3},"2011-02-18T09:44:41",1777672,58669.042904290429,1.0392546526188233,0.3,1,0.15,1.4999999999999998,"Mauritius","Mauritius",null,null,null,null,null,"Mauritius","Ilha Maurício","毛里求斯","模里西斯","Mauritius","Maurice","Mauritius","Mauritius","モーリシャス","모리셔스","Mauritius","Maurícia","Маврикий","Mauricio","Mauritius",null,null,null,"rupee","rúpia","卢比","模里西斯盧比","rupee","roupie","Rupie","Rupia","ルピー","루피","rupia","rupia","рупия","rupia","rupie"]
["pesoMex$","Mexico","peso","Mex$",{"$f":"VLOOKUP(B146,ImportInfo!$D$1:$E$188,2,FALSE)","v":12.5},"2011-02-18T09:44:41",267604,21408.32,0.37922377907285704,0.3,1,9.6000000000000002E-2,0.96,"Mexico","Mexico",null,null,null,null,null,"Mexico","México","墨西哥","墨西哥","Mexico","Mexique","Mexiko","Messico","メキシコ","멕시코","Meksyk","México","Мексика","México","Mexiko",null,null,null,"peso","peso","比索","墨西哥比索","peso","peso","Peso","Peso","ペソ","페소","peso","peso","песо","peso","peso"]
["dollarUS$","Micronesia","dollar","US$",{"$f":"VLOOKUP(B147,ImportInfo!$D$1:$E$188,2,FALSE)","v":1},"2011-02-18T09:44:41",29446,29446,0.52160204063557292,0.5,1,0.15,1.4999999999999998,"Micronesia","Micronesia",null,null,null,null,null,"Micronesia","Micronésia","密克罗尼西亚","密克羅尼西亞","Micronesië","Micronésie","Mikronesien","Micronesia","ミクロネシア","미크로네시아","Mikronezja","Micronésia","Микронезия","Micronesia","Mikronesien",null,null,null,"dollar","dólar","津巴布韦元","美元","dollar","dollar","Dollar","Dollaro","ドル","달러","dolar","dólar","доллар","dólar","dollar"]
["dollarUS$","Midway Islands","dollar","US$",1,"2009-11-11T14:08:34",50000,50000,0.88569252298372092,0.5,1,0.15,1.4999999999999998,"Midway Islands","Midway Islands",null,null,null,null,null,"Midway Islands","Ilhas Midway","中途岛","中途島","Midway-eilanden","Midway (îles)","Midwayinseln","Isole Midway","ミッドウェー諸島","미드웨어 제도","Wyspy Midway","Ilhas Midway","Остров Мидуэй","Islas Midway","Midwayöarna",null,null,null,"dollar","dólar","津巴布韦元","美元","dollar","dollar","Dollar","Dollaro","ドル","달러","dolar","dólar","доллар","dólar","dollar"]
["LeiMDL","Moldova","Lei","MDL",{"$f":"VLOOKUP(B149,ImportInfo!$D$1:$E$188,2,FALSE)","v":12.17},"2011-02-18T09:44:41",414008,34018.734593262117,0.60260277741239821,0,1,0.15,1.4999999999999998,"Moldova","Moldova",null,null,null,null,null,"Moldova","Moldova","摩尔多瓦","摩爾多瓦共和國","Moldavië","Moldavie","Moldawien","Moldova","モルドバ","몰도바","Mołdawia","Moldávia","Молдова","Moldova","Moldavien",null,null,null,"Lei","Lei","列伊","列伊","Lei","leu","Leu","Lei","レイ","레이","lej","Leu","лей","Lei","leu"]
["euro€","Monaco","euro","€",0.77,"2011-02-18T09:44:43",51429,66790.909090909088,1.1831241757020723,0.75,1,0.15,1.4999999999999998,"Monaco","Monaco",null,null,null,null,null,"Monaco","Mônaco","摩纳哥","摩納哥","Monaco","Monaco","Monaco","Monaco","モナコ","모나코","Monako","Mónaco","Монако","Mónaco","Monaco",null,null,null,"euro","euro","欧元","歐元","euro","euro","Euro","Euro","ユーロ","유로","euro","euro","евро","euro","euro"]
["tughrik₮","Mongolia","tughrik","₮",{"$f":"VLOOKUP(B151,ImportInfo!$D$1:$E$188,2,FALSE)","v":1262.45},"2011-02-18T09:44:41",32617349,25836.547189987723,0.45766473331776386,0,1,0.15,1.4999999999999998,"Mongolia","Mongolia",null,null,null,null,null,"Mongolia","Mongólia","蒙古","蒙古","Mongolië","Mongolie","Mongolei","Mongolia","モンゴル","몽골","Mongolia","Mongólia","Монголия","Mongolia","Mongoliet",null,null,null,"tughrik","tughrik","图格里克","圖格里克","tughrik","tugrik","Tögrök","Tughrik","トグロク","투그릭","tugrik","tugrik","тугрик","tughrik","tughrik"]
["dollarEC$","Montserrat","dollar","EC$",2.7,"2011-02-18T09:44:43",75000,27777.777777777777,0.49205140165762273,0,1,0.15,1.4999999999999998,"Montserrat","Montserrat",null,null,null,null,null,"Montserrat","Montserrat","蒙特塞拉特","蒙特色拉特島","Montserrat","Montserrat","Montserrat","Montserrat","モンセラット","몬트세라트","Montserrat","Monserrate","Монтсеррат","Montserrat","Montserrat",null,null,null,"dollar","dólar","津巴布韦元","東加勒比幣","dollar","dollar","Dollar","Dollaro","ドル","달러","dolar","dólar","доллар","dólar","dollar"]
["dirhamDH","Morocco","dirham","DH",{"$f":"VLOOKUP(B153,ImportInfo!$D$1:$E$188,2,FALSE)","v":8.5},"2011-02-18T09:44:42",400818,47155.058823529413,0.83529766041715081,0,1,0.15,1.4999999999999998,"Morocco","Morocco",null,null,null,null,null,"Morocco","Marrocos","摩洛哥","摩洛哥","Marokko","Maroc","Marokko","Marocco","モロッコ","모로코","Maroko","Marrocos","Марокко","Marruecos","Marocko",null,null,null,"dirham","dirham","迪拉姆","迪拉姆","dirham","dirham","Dirham","Dirham","ディルハム","더람","dirham","dirham","дирхем","dirham","dirham"]
["meticalMt","Mozambique","metical","Mt",{"$f":"VLOOKUP(B154,ImportInfo!$D$1:$E$188,2,FALSE)","v":35.71},"2011-02-18T09:44:42",667052,18679.697563707643,0.33088936927546175,0,1,0.15,1.4999999999999998,"Mozambique","Mozambique",null,null,null,null,null,"Mozambique","Moçambique","莫桑比克","莫三比克","Mozambique","Mozambique","Mosambik","Mozambico","モザンビーク","모잠비크","Mozambik","Moçambique","Мозамбик","Mozambique","Moçambique",null,null,null,"metical","metical","梅蒂卡尔","美地卡","metical","metical","Metical","Metical","メティカル","메티칼","metical","metical","метикал","metical","metical"]
["kyatK","Myanmar","kyat","K",6.4208499999999997,"2007-11-27",233974,36439.723712592568,0.64548781663671673,0,1,0.15,1.4999999999999998,"Myanmar","Myanmar",null,null,null,null,null,"Myanmar","Myanmar","缅甸","緬甸","Myanmar","Myanmar","Myanmar","Myanmar","ミャンマー","미얀마","Myanmar","Myanmar","Мьянма","Myanmar","Myanmar",null,null,null,"kyat","kyat","缅甸元","基亞特","kyat","kyat","Kyat","Kyat","チャット","차트","kyat","kyat","кьят","kyat","kyat"]
["dollarN$","Namibia","dollar","N$",{"$f":"VLOOKUP(B156,ImportInfo!$D$1:$E$188,2,FALSE)","v":7.07},"2011-02-18T09:44:42",445349,62991.371994342291,1.1158197437575026,0,1,0.15,1.4999999999999998,"Namibia","Namibia",null,null,null,null,null,"Namibia","Namíbia","纳米比亚","納米比亞","Namibië","Namibie","Namibia","Namibia","ナミビア","나미비아","Namibia","Namíbia","Намибия","Namibia","Namibia",null,null,null,"dollar","dólar","津巴布韦元","納米比亞幣","dollar","dollar","Dollar","Dollaro","ドル","달러","dolar","dólar","доллар","dólar","dollar"]
["dollarA$","Nauru","dollar","A$",1.04,"2011-02-18T09:44:43",51551,49568.269230769227,0.87804490869872687,0,1,0.15,1.4999999999999998,"Nauru","Nauru",null,null,null,null,null,"Nauru","Nauru","瑙鲁","諾魯","Nauru","Nauru","Nauru","Nauru","ナウル","나우루","Nauru","Nauru","Науру","Naurú","Nauru",null,null,null,"dollar","dólar","津巴布韦元","澳幣","dollar","dollar","Dollar","Dollaro","ドル","달러","dolar","dólar","доллар","dólar","dollar"]
["rupeeNRs","Nepal","rupee","NRs",{"$f":"VLOOKUP(B158,ImportInfo!$D$1:$E$188,2,FALSE)","v":72.95},"2011-02-18T09:44:42",2288743,31374.132967786154,0.5557566996933051,0,1,0.15,1.4999999999999998,"Nepal","Nepal",null,null,null,null,null,"Nepal","Nepal","尼泊尔","尼泊爾","Nepal","Népal","Nepal","Nepal","ネパール","네팔","Nepal","Nepal","Непал","Nepal","Nepal",null,null,null,"rupee","rúpia","卢比","尼泊爾盧比","rupee","roupie","Rupie","Rupia","ルピー","루피","rupia","rupia","рупия","rupia","rupie"]
["euro€","Netherlands","euro","€",{"$f":"VLOOKUP(B159,ImportInfo!$D$1:$E$188,2,FALSE)","v":0.77},"2011-02-18T09:44:42",32652,42405.194805194806,0.75115927949258332,0.75,1,0.23,2.2999999999999998,"Netherlands","Netherlands",null,null,null,null,null,"Netherlands","Países Baixos","荷兰","荷蘭","Nederland","Pays-Bas","Niederlande","Paesi Bassi","オランダ","네덜란드","Holandia","Países Baixos","Нидерланды","Países Bajos","Nederländerna",null,null,null,"euro","euro","欧元","歐元","euro","euro","Euro","Euro","ユーロ","유로","euro","euro","евро","euro","euro"]
["guilderNAf.","Netherlands Antilles","guilder","NAf.",{"$f":"VLOOKUP(B160,ImportInfo!$D$1:$E$188,2,FALSE)","v":1.78},"2011-02-18T09:44:42",70000,39325.84269662921,0.69661209672876923,0.6,1,0.15,1.4999999999999998,"Netherlands Antilles","Netherlands Antilles",null,null,null,null,null,"Netherlands Antilles","Antilhas Holandesas","荷属安的列斯","荷屬安替列斯","Nederlandse Antillen","Antilles néerlandaises","Niederländische Antillen","Antille Olandesi","オランダ領アンティル","네덜란드령 앤틸리스","Antyle Holenderskie","Antilhas Neerlandesas","Нидерландские Антильские острова","Antillas Holandesas","Nederländska Antillerna",null,null,null,"guilder","florim","盾","荷屬安地列斯盾","guilder","florin","Gulden","Fiorino","ギルダー","길더","gulden","florim","гульден","florín","gulden"]
["francXPF","New Caledonia","franc","XPF",80.113100000000003,"2007-11-27",3500000,43688.235756698967,0.77388687504116638,0.2,1,0.15,1.4999999999999998,"New Caledonia","New Caledonia",null,null,null,null,null,"New Caledonia","Nova Caledônia","新喀里多尼亚","新喀里多尼亞群島","Nieuw-Caledonië","Nouvelle-Calédonie","Neukaledonien","Nuova Caledonia","ニューカレドニア","뉴칼레도니아","Nowa Kaledonia","Nova Caledónia","Новая Каледония","Nueva Caledonia","Nya Kaledonien",null,null,null,"franc","franco","法郎","法郎","franc","franc CFP","Franc","Franco","フラン","프랑","frank","franco","франк","franco","franc"]
["dollarNZ$","New Zealand","dollar","NZ$",{"$f":"VLOOKUP(B162,ImportInfo!$D$1:$E$188,2,FALSE)","v":1.34},"2011-02-18T09:44:42",55194,41189.552238805969,0.72962556885915664,0.6,1,0.16400000000000001,1.64,"New Zealand","New Zealand",null,null,null,null,null,"New Zealand","Nova Zelândia","新西兰","紐西蘭","Nieuw-Zeeland","Nouvelle-Zélande","Neuseeland","Nuova Zelanda","ニュージーランド","뉴질랜드","Nowa Zelandia","Nova Zelândia","Новая Зеландия","Nueva Zelanda","Nya Zeeland",null,null,null,"dollar","dólar","津巴布韦元","紐西蘭幣","dollar","dollar","Dollar","Dollaro","ドル","달러","dolar","dólar","доллар","dólar","dollar"]
["gold cordobaC$","Nicaragua","gold cordoba","C$",{"$f":"VLOOKUP(B163,ImportInfo!$D$1:$E$188,2,FALSE)","v":21.79},"2011-02-18T09:44:42",426621,19578.751720972923,0.34681508017240753,0.2,1,0.17199999999999999,1.7199999999999998,"Nicaragua","Nicaragua",null,null,null,null,null,"Nicaragua","Nicarágua","尼加拉瓜","尼加拉瓜","Nicaragua","Nicaragua","Nicaragua","Nicaragua","ニカラグア","니카라과","Nikaragua","Nicarágua","Никарагуа","Nicaragua","Nicaragua",null,null,null,"gold cordoba","córdoba ouro","金科多巴","金科多巴","gold cordoba","cordoba","Cordoba Oro","Cordoba oro","コルドバ","골드 코르도바","córdoba","córdoba ouro","золотая кордоба","córdoba","cordoba"]
["francCFAF","Niger","franc","CFAF",{"$f":"VLOOKUP(B164,ImportInfo!$D$1:$E$188,2,FALSE)","v":503.3},"2011-02-18T09:44:42",24912607,49498.523743294259,0.87680944756335821,0,1,0.15,1.4999999999999998,"Niger","Niger",null,null,null,null,null,"Niger","Níger","尼日尔","尼日","Niger","Niger","Niger","Niger","ニジェール","니제르","Niger","Níger","Нигер","Níger","Niger",null,null,null,"franc","franco","法郎","法郎","franc","franc CFP","Franc","Franco","フラン","프랑","frank","franco","франк","franco","franc"]
["naira₦","Nigeria","naira","₦",{"$f":"VLOOKUP(B165,ImportInfo!$D$1:$E$188,2,FALSE)","v":150.6},"2011-02-18T09:44:42",3581101,23778.891102257636,0.4212157210822744,0,1,0.15,1.4999999999999998,"Nigeria","Nigeria",null,null,null,null,null,"Nigeria","Nigéria","尼日利亚","奈及利亞","Nigeria","Nigeria","Nigeria","Nigeria","ナイジェリア","나이지리아","Nigeria","Nigéria","Нигерия","Nigeria","Nigeria",null,null,null,"naira","naira","奈拉","奈拉","naira","naira","Naira","Naira","ナイラ","나이라","naira","naira","найра","naira","naira"]
["dollarNZ$","Niue","dollar","NZ$",1.34,"2011-02-18T09:44:43",55194,41189.552238805969,0.72962556885915664,0.5,1,0.15,1.4999999999999998,"Niue","Niue",null,null,null,null,null,"Niue","Niue","纽埃","紐威島","Niue","Niue","Niue","Niue","ニウエ","니우에","Niue","Niue","Ниуэ","Niue","Niue",null,null,null,"dollar","dólar","津巴布韦元","紐西蘭幣","dollar","dollar","Dollar","Dollaro","ドル","달러","dolar","dólar","доллар","dólar","dollar"]
["dollarA$","Norfolk Island","dollar","A$",1.04,"2011-02-18T09:44:43",60000,57692.307692307688,1.0219529111350625,0.5,1,0.15,1.4999999999999998,"Norfolk Island","Norfolk Island",null,null,null,null,null,"Norfolk Island","Ilha Norfolk","诺福克岛","諾福克島","Norfolk","Norfolk (île)","Norfolkinsel","Isola Norfolk","ノーフォーク島","노퍽 섬","Wyspa Norfolk","Ilha Norfolk","Остров Норфолк","Isla Norfolk","Norfolkön",null,null,null,"dollar","dólar","津巴布韦元","澳幣","dollar","dollar","Dollar","Dollaro","ドル","달러","dolar","dólar","доллар","dólar","dollar"]
["kroneNKr","Norway","krone","NKr",{"$f":"VLOOKUP(B168,ImportInfo!$D$1:$E$188,2,FALSE)","v":6.2},"2011-02-18T09:44:42",312622,50422.903225806447,0.89318376748457029,0.8,1,0.16400000000000001,1.64,"Norway","Norway",null,null,null,null,null,"Norway","Noruega","挪威","挪威","Noorwegen","Norvège","Norwegen","Norvegia","ノルウェー","노르웨이","Norwegia","Noruega","Норвегия","Noruega","Norge",null,null,null,"krone","coroa","克朗","挪威克郎","krone","couronne norvégienne","Krone","Corona","クローネ","크로네","korona","coroa","крона","corona","kronor"]
["rial﷼","Oman","rial","﷼",{"$f":"VLOOKUP(B169,ImportInfo!$D$1:$E$188,2,FALSE)","v":0.39},"2011-02-18T09:44:42",11901,30515.384615384613,0.5405449597963724,0,1,0.15,1.4999999999999998,"Oman","Oman",null,null,null,null,null,"Oman","Omã","阿曼","阿曼","Oman","Oman","Oman","Oman","オマーン","오만","Oman","Omã","Оман","Omán","Oman",null,null,null,"rial","rial","里亚尔","阿曼里亞爾","rial","rial","Rial","Rial","リアル","리알","rial","rial","риал","rial","rial"]
["rupeeRs","Pakistan","rupee","Rs",{"$f":"VLOOKUP(B170,ImportInfo!$D$1:$E$188,2,FALSE)","v":85.7},"2011-02-18T09:44:42",1939484,22631.085180863476,0.40088365863396941,0,1,0.15,1.4999999999999998,"Pakistan","Pakistan",null,null,null,null,null,"Pakistan","Paquistão","巴基斯坦","巴基斯坦","Pakistan","Pakistan","Pakistan","Pakistan","パキスタン","파키스탄","Pakistan","Paquistão","Пакистан","Pakistán","Pakistan",null,null,null,"rupee","rúpia","卢比","巴基斯坦盧比","rupee","roupie","Rupie","Rupia","ルピー","루피","rupia","rupia","рупия","rupia","rupie"]
["dollarUS$","Palau","dollar","US$",{"$f":"VLOOKUP(B171,ImportInfo!$D$1:$E$188,2,FALSE)","v":1},"2011-02-18T09:44:42",37000,37000,0.65541246700795353,0,1,0.15,1.4999999999999998,"Palau","Palau",null,null,null,null,null,"Palau","Palau","帕劳","帛琉","Palau","Belau","Palau","Palau","パラオ","팔라우","Palau","Palau","Палау","Palaos","Palau",null,null,null,"dollar","dólar","津巴布韦元","美元","dollar","dollar","Dollar","Dollaro","ドル","달러","dolar","dólar","доллар","dólar","dollar"]
["balboaB/.","Panama","balboa","B/.",{"$f":"VLOOKUP(B172,ImportInfo!$D$1:$E$188,2,FALSE)","v":1},"2011-02-18T09:44:42",37000,37000,0.65541246700795353,0,1,0.16500000000000001,1.65,"Panama","Panama",null,null,null,null,null,"Panama","Panamá","巴拿马","巴拿馬","Panama","Panama","Panama","Panama","パナマ","파나마","Panama","Panamá","Панама","Panamá","Panama",null,null,null,"balboa","balboa","巴波亚","巴波亞","balboa","balboa","Balboa","Balboa","バルボア","발보아","balboa","balboa","бальбоа","balboa","balboa"]
["kinaK","Papua New Guinea","kina","K",{"$f":"VLOOKUP(B173,ImportInfo!$D$1:$E$188,2,FALSE)","v":2.48},"2011-02-18T09:44:42",92487,37293.145161290326,0.66060519655802752,0,1,0.15,1.4999999999999998,"Papua New Guinea","Papua New Guinea",null,null,null,null,null,"Papua New Guinea","Papua-Nova Guiné","巴布亚新几内亚","巴布亞新幾內亞","Papoea-Nieuw-Guinea","Papouasie-Nouvelle-Guinée","Papua-Neuguinea","Papua Nuova Guinea","パプアニューギニア","파푸아뉴기니","Papua-Nowa Gwinea","Papua-Nova Guiné","Папуа — Новая Гвинея","Papúa Nueva Guinea","Papua Nya Guinea",null,null,null,"kina","kina","基那","基納","kina","kina","Kina","Kina","キナ","키나","kina","kina","кина","kina","kina"]
["guaraniPYG","Paraguay","guarani","PYG",{"$f":"VLOOKUP(B174,ImportInfo!$D$1:$E$188,2,FALSE)","v":4700},"2011-02-18T09:44:42",169339179,36029.612553191488,0.63822316888724229,0,1,7.1999999999999995E-2,0.71999999999999986,"Paraguay","Paraguay",null,null,null,null,null,"Paraguay","Paraguai","巴拉圭","巴拉圭","Paraguay","Paraguay","Paraguay","Paraguay","パラグアイ","파라과이","Paragwaj","Paraguai","Парагвай","Paraguay","Paraguay",null,null,null,"guarani","guarani","瓜拉尼","瓜拉尼","guarani","guarani","Guarani","Guarani","グアラニー","과라니","guarani","guarani","гуарани","guaraní","guarani"]
["new solS/.","Peru","new sol","S/.",3.01485,"2007-11-27",123078,40823.921588138714,0.72314884218976339,0,1,0.13400000000000001,1.34,"Peru","Peru",null,null,null,null,null,"Peru","Peru","秘鲁","祕魯共和國","Peru","Pérou","Peru","Perù","ペルー","페루","Peru","Peru","Перу","Perú","Peru",null,null,null,"new sol","novo sol","新索尔","新索爾","new sol","nouveau sol","Neuer Sol","Nuovo Sol","新ソル","뉴 솔","nowy sol","novo sol","новый соль","nuevo sol","nya sol"]
["pesoPHP","Philippines","peso","PHP",{"$f":"VLOOKUP(B176,ImportInfo!$D$1:$E$188,2,FALSE)","v":44.1},"2011-02-18T09:44:42",1834165,41591.043083900222,0.73673751765008455,0,1,0.15,1.4999999999999998,"Philippines","Philippines",null,null,null,null,null,"Philippines","Filipinas","菲律宾","菲律賓","Filipijnen","Philippines","Philippinen","Filippine","フィリピン","필리핀","Filipiny","Filipinas","Филиппины","Filipinas","Filippinerna",null,null,null,"peso","peso","比索","菲律賓比索","peso","peso","Peso","Peso","ペソ","페소","peso","peso","песо","peso","peso"]
["dollarNZ$","Pitcairn Island","dollar","NZ$",1.34,"2011-02-18T09:44:43",53872,40202.985074626864,0.71214966564446291,0.5,1,0.16400000000000001,1.64,"Pitcairn Island","Pitcairn Island",null,null,null,null,null,"Pitcairn Island","Ilha Pitcairn","皮特凯恩群岛","皮特康群島","Pitcairneilanden","Pitcairn (îles)","Pitcairninseln","Isola Pitcairn","ピトケアン島","핏케언 제도","Wyspa Pitcairn","Ilha Pitcairn","Остров Питкэрн","Isla Pitcairn","Pitcairnöarna",null,null,null,"dollar","dólar","津巴布韦元","紐西蘭幣","dollar","dollar","Dollar","Dollaro","ドル","달러","dolar","dólar","доллар","dólar","dollar"]
["zlotyzł","Poland","zloty","zł",{"$f":"VLOOKUP(B178,ImportInfo!$D$1:$E$188,2,FALSE)","v":3.11},"2011-02-18T09:44:42",62612,20132.475884244373,0.35662366719650634,0.3,1,0.18,1.7999999999999998,"Poland","Poland",null,null,null,null,null,"Poland","Polônia","波兰","波蘭","Polen","Pologne","Polen","Polonia","ポーランド","폴란드","Polska","Polónia","Польша","Polonia","Polen",null,null,null,"zloty","zloty","兹罗提","茲羅提","zloty","zloty","Zloty","Zloty","ズローティー","즈워티","złoty","zloti","злотый","zloty","zloty"]
["euro€","Portugal","euro","€",{"$f":"VLOOKUP(B179,ImportInfo!$D$1:$E$188,2,FALSE)","v":0.77},"2011-02-18T09:44:42",20431,26533.766233766233,0.47001516719689357,0.6,1,0.22,2.1999999999999997,"Portugal","Portugal",null,null,null,null,null,"Portugal","Portugal","葡萄牙","葡萄牙","Portugal","Portugal","Portugal","Portogallo","ポルトガル","포르투갈","Portugalia","Portugal","Португалия","Portugal","Portugal",null,null,null,"euro","euro","欧元","歐元","euro","euro","Euro","Euro","ユーロ","유로","euro","euro","евро","euro","euro"]
["dollarUS$","Puerto Rico","dollar","US$",1,"2009-11-11T14:08:34",37377,37377,0.66209058863125081,0.5,1,0.15,1.4999999999999998,"Puerto Rico","Puerto Rico",null,null,null,null,null,"Puerto Rico","Porto Rico","波多黎各","波多黎各","Puerto Rico","Porto Rico","Puerto Rico","Puerto Rico","プエルトリコ","푸에르토리코","Portoryko","Porto Rico","Пуэрто-Рико","Puerto Rico","Puerto Rico",null,null,null,"dollar","dólar","津巴布韦元","美元","dollar","dollar","Dollar","Dollaro","ドル","달러","dolar","dólar","доллар","dólar","dollar"]
["riyalQAR","Qatar","riyal","QAR",{"$f":"VLOOKUP(B181,ImportInfo!$D$1:$E$188,2,FALSE)","v":3.64},"2011-02-18T09:44:42",130000,35714.28571428571,0.63263751641694344,0.2,1,0.15,1.4999999999999998,"Qatar","Qatar",null,null,null,null,null,"Qatar","Catar","卡塔尔","卡達","Qatar","Qatar","Katar","Qatar","カタール","카타르","Katar","Catar","Катар","Qatar","Qatar",null,null,null,"riyal","riyal","里亚尔","卡達里亞爾","riyal","riyal","Riyal","Riyal","リアル","리얄","rial","riyal","риял","riyal","riyal"]
["euro€","Reunion","euro","€",0.77,"2011-02-18T09:44:43",30000,38961.038961038961,0.69015001790939301,0.5,1,0.15,1.4999999999999998,"Reunion","Reunion",null,null,null,null,null,"Reunion","Ilha Reunião","留尼汪岛","留尼旺島","Réunion","Réunion","Reunion","Reunion","レユニオン","리유니언","Reunion","Reunião","Реюньон","Reunión","Réunion",null,null,null,"euro","euro","欧元","歐元","euro","euro","Euro","Euro","ユーロ","유로","euro","euro","евро","euro","euro"]
["LeiL","Romania","Lei","L",{"$f":"VLOOKUP(B183,ImportInfo!$D$1:$E$188,2,FALSE)","v":3.29},"2011-02-18T09:44:42",66556,20229.787234042553,0.35834742589486035,0.2,1,0.13,1.3,"Romania","Romania",null,null,null,null,null,"Romania","Romênia","罗马尼亚","羅馬尼亞","Roemenië","Roumanie","Rumänien","Romania","ルーマニア","루마니아","Rumunia","Roménia","Румыния","Rumania","Rumänien",null,null,null,"Lei","Lei","列伊","列伊","Lei","leu","Leu","Lei","レイ","레이","lej","Leu","лей","Lei","leu"]
["rubleруб","Russia","ruble","руб",{"$f":"VLOOKUP(B184,ImportInfo!$D$1:$E$188,2,FALSE)","v":31.4},"2011-02-18T09:44:42",581279,18512.070063694267,0.32792004080729575,0.1,1,0.15,1.4999999999999998,"Russia","Russia",null,null,null,null,null,"Russia","Rússia","俄罗斯","俄羅斯聯邦","Rusland","Russie","Russland","Russia","ロシア","러시아","Rosja","Rússia","Россия","Rusia","Ryssland",null,null,null,"ruble","rublo","卢布","盧布","ruble","rouble","Rubel","Rublo","ルーブル","루블","rubel","rublo","рубль","rublo","rubel"]
["francRF","Rwanda","franc","RF",{"$f":"VLOOKUP(B185,ImportInfo!$D$1:$E$188,2,FALSE)","v":592.02},"2011-02-18T09:44:42",15061217,25440.385459950678,0.45064718367404172,0,1,0.15,1.4999999999999998,"Rwanda","Rwanda",null,null,null,null,null,"Rwanda","Ruanda","卢旺达","盧安達","Rwanda","Rwanda","Ruanda","Ruanda","ルワンダ","르완다","Rwanda","Ruanda","Руанда","Ruanda","Rwanda",null,null,null,"franc","franco","法郎","盧安達法郎","franc","franc CFP","Franc","Franco","フラン","프랑","frank","franco","франк","franco","franc"]
["dollarUS$","Samoa (America)","dollar","US$",1,"2009-11-11T14:08:34",37000,37000,0.65541246700795353,0,1,0.15,1.4999999999999998,"Samoa (America)","Samoa (America)",null,null,null,null,null,"Samoa (America)","Samoa Americana","美属萨摩亚","美屬薩摩亞","Amerikaans-Samoa","Samoa américaines","Samoa (Amerika)","Samoa Americane","サモア (アメリカ)","미국령 사모아","Samoa (Amerykańskie)","Samoa (Americana)","Самоа (Американское)","Samoa (Americana)","Samoa (Amerikanska)",null,null,null,"dollar","dólar","津巴布韦元","美元","dollar","dollar","Dollar","Dollaro","ドル","달러","dolar","dólar","доллар","dólar","dollar"]
["talaWS$","Samoa (Western)","tala","WS$",2.6702300000000001,"2007-11-27",106245,39788.707339817171,0.70481121180127138,0,1,0.15,1.4999999999999998,"Samoa (Western)","Samoa (Western)",null,null,null,null,null,"Samoa (Western)","Samoa Ocidental","西萨摩亚","薩摩亞 (西)","Samoa","Samoa occidentales","Samoa (West)","Samoa Occidentali","サモア (西)","서사모아","Samoa (Zachodnie)","Samoa (Ocidental)","Самоа (Западное)","Samoa (Occidental)","Samoa (Västra)",null,null,null,"tala","tala","塔拉","塔拉","tala","tala","Tala","Tala","タラ","탈라","tala","tala","тала","tala","tala"]
["euro€","San Marino","euro","€",0.77,"2011-02-18T09:44:43",26605,34551.948051948049,0.61204804088264664,0.6,1,0.15,1.4999999999999998,"San Marino","San Marino",null,null,null,null,null,"San Marino","San Marino","圣马力诺","聖馬利諾","San Marino","Saint-Marin","San Marino","San Marino","サンマリノ","산마리노","San Marino","São Marinho","Сан-Марино","San Marino","San Marino",null,null,null,"euro","euro","欧元","歐元","euro","euro","Euro","Euro","ユーロ","유로","euro","euro","евро","euro","euro"]
["dobraDb","Sao Tome & Principe","dobra","Db",{"$f":"VLOOKUP(B189,ImportInfo!$D$1:$E$188,2,FALSE)","v":18526.1191},"2011-02-18T09:44:42",249056071,13443.510195289633,0.238136329252469,0,1,0.15,1.4999999999999998,"Sao Tome & Principe","Sao Tome & Principe",null,null,null,null,null,"Sao Tome & Principe","São Tomé e Príncipe","圣多美和普林西比","聖多美普林西比","Sao Tomé en Principe","Sao Tomé-et-Principe","Sao Tome und Principe","São Tomé e Príncipe","サントメ・プリンシペ","상투메 프린시페","Wyspy Świętego Tomasza i Książęca","São Tomé e Príncipe","Сан-Томе и Принсипи","Santo Tomé y Príncipe","São Tomé och Príncipe",null,null,null,"dobra","dobra","多布拉","多布拉","dobra","dobra","Dobra","Dobra","ドブラ","도브라","dobra","dobra","добра","dobra","dobra"]
["riyalSRls","Saudi Arabia","riyal","SRls",{"$f":"VLOOKUP(B190,ImportInfo!$D$1:$E$188,2,FALSE)","v":3.75},"2011-02-18T09:44:42",150000,40000,0.70855401838697674,0.4,1,0.15,1.4999999999999998,"Saudi Arabia","Saudi Arabia",null,null,null,null,null,"Saudi Arabia","Arábia Saudita","沙特阿拉伯","沙烏地阿拉伯","Saoedi-Arabië","Arabie saoudite","Saudi-Arabien","Arabia Saudita","サウジアラビア","사우디아라비아","Arabia Saudyjska","Arábia Saudita","Саудовская Аравия","Arabia Saudí","Saudiarabien",null,null,null,"riyal","riyal","里亚尔","沙烏地里亞爾","riyal","riyal","Riyal","Riyal","リアル","리얄","rial","riyal","риял","riyal","riyal"]
["francCFAF","Senegal","franc","CFAF",{"$f":"VLOOKUP(B191,ImportInfo!$D$1:$E$188,2,FALSE)","v":503.3},"2011-02-18T09:44:42",26891956,53431.265646731568,0.94647344953734203,0,1,0.15,1.4999999999999998,"Senegal","Senegal",null,null,null,null,null,"Senegal","Senegal","塞内加尔","塞內加爾","Senegal","Sénégal","Senegal","Senegal","セネガル","세네갈","Senegal","Senegal","Сенегал","Senegal","Senegal",null,null,null,"franc","franco","法郎","法郎","franc","franc CFP","Franc","Franco","フラン","프랑","frank","franco","франк","franco","franc"]
["dinarDin","Serbia","dinar","Din",{"$f":"VLOOKUP(B192,ImportInfo!$D$1:$E$188,2,FALSE)","v":0.77},"2011-02-18T09:44:42",30000,38961.038961038961,0.69015001790939301,0,1,0.15,1.4999999999999998,"Serbia","Serbia",null,null,null,null,null,"Serbia","Sérvia","塞尔维亚","塞爾維亞","Servië","Serbie","Serbien","Serbia","セルビア","세르비아","Serbia","Sérvia","Сербия","Serbia","Serbien",null,null,null,"dinar","dinar","第纳尔","塞爾維亞第納爾","dinar","dinar","Dinar","Dinaro","ディナール","디나르","dinar","dinar","динар","dinar","dinar"]
["rupeeSR","Seychelles","rupee","SR",{"$f":"VLOOKUP(B193,ImportInfo!$D$1:$E$188,2,FALSE)","v":12.1},"2011-02-18T09:44:42",255775,21138.429752066117,0.37444298358043182,0.5,1,0.15,1.4999999999999998,"Seychelles","Seychelles",null,null,null,null,null,"Seychelles","Ilhas Seychelles","塞舌尔","塞席爾","Seychellen","Seychelles","Seychellen","Seychelles","セイシェル","세이쉘","Seszele","Seicheles","Сейшельские острова","Seychelles","Seychellerna",null,null,null,"rupee","rúpia","卢比","塞席爾盧比","rupee","roupie","Rupie","Rupia","ルピー","루피","rupia","rupia","рупия","rupia","rupie"]
["leoneLe","Sierra Leone",{"$f":"OFFSET(AM194,,LanguageOffset)","v":"leone"},"Le",{"$f":"VLOOKUP(B194,ImportInfo!$D$1:$E$188,2,FALSE)","v":4146},"2011-02-18T09:44:42",153484252,37019.838880849013,0.65576388997660018,0,1,0.15,1.4999999999999998,{"$f":"OFFSET(U194,,LanguageOffset)","v":"Sierra Leone"},"Sierra Leone",null,null,null,null,null,"Sierra Leone","Serra Leoa","塞拉利昂","獅子山","Sierra Leone","Sierra Leone","Sierra Leone","Sierra Leone","シエラレオネ","시에라리온","Sierra Leone","Serra Leoa","Сьерра-Леоне","Sierra Leona","Sierra Leone",null,null,null,"leone","leone","利昂","利昂","leone","leone","Leone","Leone","レオネ","레온","leone","leone","леоне","leone","leone"]
[{"$f":"C195&D195","v":"dollarS$"},"Singapore","dollar","S$",{"$f":"VLOOKUP(B195,ImportInfo!$D$1:$E$188,2,FALSE)","v":1.32},"2011-02-18T09:44:42",38194,{"$f":"G195/E195","v":28934.848484848484},{"$f":"H195/$G$233","v":0.512547579133943},0.4,1,0.19,1.9,"Singapore","Singapore",null,null,null,null,null,"Singapore","Cingapura","新加坡","新加坡","Singapore","Singapour","Singapur","Singapore","シンガポール","싱가포르","Singapur","Singapura","Сингапур","Singapur","Singapore",null,null,null,"dollar","dólar","津巴布韦元","新加坡幣","dollar","dollar","Dollar","Dollaro","ドル","달러","dolar","dólar","доллар","dólar","dollar"]
["korunaSk","Slovakia","koruna","Sk",22.549199999999999,"2007-11-27",885748,39280.684015397441,0.69581216260247358,0,1,0.22,2.1999999999999997,"Slovakia","Slovakia",null,null,null,null,null,"Slovakia","Eslováquia","斯洛伐克","斯洛伐克","Slowakije","Slovaquie","Slowakei","Slovacchia","スロバキア","슬로바키아","Słowacja","Eslováquia","Словакия","Eslovaquia","Slovakien",null,null,null,"koruna","coroa","克朗","斯洛伐克克朗","koruna","couronne slovaque","Krone","Corona","コルナ","코루나","korona","Coroa","крона","corona","koruna"]
["euro€","Slovenia","euro","€",{"$f":"VLOOKUP(B197,ImportInfo!$D$1:$E$188,2,FALSE)","v":0.77},"2011-02-18T09:44:42",25000,32467.532467532466,0.57512501492449408,0,1,0.15,1.4999999999999998,"Slovenia","Slovenia",null,null,null,null,null,"Slovenia","Eslovênia","斯洛文尼亚","斯洛維尼亞","Slovenië","Slovénie","Slowenien","Slovenia","スロベニア","슬로베니아","Słowenia","Eslovénia","Словения","Eslovenia","Slovenien",null,null,null,"euro","euro","欧元","歐元","euro","euro","Euro","Euro","ユーロ","유로","euro","euro","евро","euro","euro"]
["dollarSI$","Solomon Island","dollar","SI$",7.2949999999999999,"2007-11-27",186882,25617.820424948593,0.45379024011033237,0.3,1,0.15,1.4999999999999998,"Solomon Island","Solomon Island",null,null,null,null,null,"Solomon Island","Ilha Salomão","所罗门群岛","所羅門群島","Salomonseilanden","Solomon (îles)","Solomonen","Isola Solomon","ソロモン諸島","솔로몬 제도","Wyspa Salomona","Ilha Salomão","Соломоновы острова","Islas Salomón","Salomonöarna",null,null,null,"dollar","dólar","津巴布韦元","所羅門群島幣","dollar","dollar","Dollar","Dollaro","ドル","달러","dolar","dólar","доллар","dólar","dollar"]
["shillingSo. Sh.","Somalia","shilling","So. Sh.",1405.15,"2007-11-27",50000000,35583.389673700316,0.63031884352825029,0,1,0.15,1.4999999999999998,"Somalia","Somalia",null,null,null,null,null,"Somalia","Somália","索马里","索馬利亞","Somalië","Somalie","Somalia","Somalia","ソマリア","소말리아","Somalia","Somália","Сомали","Somalia","Somalia",null,null,null,"shilling","shilling","先令","索馬利亞先令","shilling","shilling","Schilling","Scellino","シリング","실링","szyling","xelim","шиллинг","chelín","shilling"]
["randR","South Africa","rand","R",{"$f":"VLOOKUP(B200,ImportInfo!$D$1:$E$188,2,FALSE)","v":7.07},"2011-02-18T09:44:42",491962,69584.441301272978,1.2326083875307421,0.2,1,6.4000000000000001E-2,0.64,"South Africa","South Africa",null,null,null,null,null,"South Africa","África do Sul","南非","南非","Zuid-Afrika","Afrique du Sud","Südafrika","Sudafrica","南アフリカ","남아프리카","Republika Południowej Afryki","África do Sul","Южно-Африканская Республика","Sudáfrica","Sydafrika",null,null,null,"rand","rand","兰特","蘭特","rand","rand","Rand","Rand","ランド","랜드","rand","rand","рэнд","rand","rand"]
["euro€","Spain","euro","€",{"$f":"VLOOKUP(B201,ImportInfo!$D$1:$E$188,2,FALSE)","v":0.77},"2011-02-18T09:44:42",29207,37931.168831168827,0.67190705243598792,0.6,1,0.22,2.1999999999999997,"Spain","Spain",null,null,null,null,null,"Spain","Espanha","西班牙","西班牙","Spanje","Espagne","Spanien","Spagna","スペイン","스페인","Hiszpania","Espanha","Испания","España","Spanien",null,null,null,"euro","euro","欧元","歐元","euro","euro","Euro","Euro","ユーロ","유로","euro","euro","евро","euro","euro"]
["rupeeSLRs","Sri Lanka","rupee","SLRs",{"$f":"VLOOKUP(B202,ImportInfo!$D$1:$E$188,2,FALSE)","v":111.35},"2011-02-18T09:44:42",3247953,29168.863942523574,0.51669289395645179,0,1,0.15,1.4999999999999998,"Sri Lanka","Sri Lanka",null,null,null,null,null,"Sri Lanka","Sri Lanka","斯里兰卡","斯里蘭卡","Sri Lanka","Sri Lanka","Sri Lanka","Sri Lanka","スリランカ","스리랑카","Sri Lanka","Sri Lanka","Шри-Ланка","Sri Lanka","Sri Lanka",null,null,null,"rupee","rúpia","卢比","斯里蘭卡盧比","rupee","roupie","Rupie","Rupia","ルピー","루피","rupia","rupia","рупия","rupia","rupie"]
["pound£","St. Helena","pound","£",0.64,"2011-02-18T09:44:43",20000,31250,0.55355782686482558,0.3,1,0.15,1.4999999999999998,"St. Helena","St. Helena",null,null,null,null,null,"St. Helena","Santa Helena","圣赫勒拿","聖赫勒拿島","Sint-Helena","Sainte-Hélène","St. Helena","Sant'Elena","セントヘレナ島","세인트 헬레나","Święta Helena","Santa Helena","Остров Святой Елены","Santa Elena","Sankt Helena",null,null,null,"pound","libra","英镑","聖赫勒拿鎊","pound","livre sterling","Pfund","Sterlina","ポンド","파운드","funt","libra","фунт","libra","pund"]
["dollarEC$","St. Kitts and Nevis","dollar","EC$",2.7,"2011-02-18T09:44:43",100000,37037.037037037036,0.65606853554349698,0.4,1,0.15,1.4999999999999998,"St. Kitts and Nevis","St. Kitts and Nevis",null,null,null,null,null,"St. Kitts and Nevis","São Cristóvão e Névis","圣基茨和尼维斯","聖克里斯多福及尼維斯","Saint Kitts en Nevis","Saint-Christophe-et-Niévès","St. Kitts und Nevis","Saint Kitts e Nevis","セントクリストファー・ネイビス","세인트 크리스토퍼 네비스","Saint Kitts i Nevis","São Cristóvão e Nevis","Сент-Китс и Невис","San Cristóbal y Nieves","Saint Kitts och Nevis",null,null,null,"dollar","dólar","津巴布韦元","東加勒比幣","dollar","dollar","Dollar","Dollaro","ドル","달러","dolar","dólar","доллар","dólar","dollar"]
["dollarEC$","St. Lucia","dollar","EC$",2.7,"2011-02-18T09:44:43",101864,37727.407407407401,0.66829765304602773,0.4,1,0.15,1.4999999999999998,"St. Lucia","St. Lucia",null,null,null,null,null,"St. Lucia","Santa Lúcia","圣卢西亚","聖露西亞","Saint Lucia","Sainte-Lucie","St. Lucia","Saint Lucia","セントルシア","세인트 루시아","Saint Lucia","Santa Lúcia","Сент-Люсия","Santa Lucía","Saint Lucia",null,null,null,"dollar","dólar","津巴布韦元","東加勒比幣","dollar","dollar","Dollar","Dollaro","ドル","달러","dolar","dólar","доллар","dólar","dollar"]
["dollarEC$","St. Vincent and the Grenadines","dollar","EC$",2.7,"2011-02-18T09:44:43",105380,39029.629629629628,0.69136502275573708,0.4,1,0.15,1.4999999999999998,"St. Vincent and the Grenadines","St. Vincent and the Grenadines",null,null,null,null,null,"St. Vincent and the Grenadines","São Vicente e Granadinas","圣文森特和格林纳丁斯","聖文森及格瑞那丁","Saint Vincent en de Grenadines","Saint-Vincent-et-les Grenadines","St. Vincent und die Grenadinen","Saint Vincent e Grenadine","セントビンセントおよびグレナディーン諸島","세인트 빈센트 그레나딘","Saint Vincent i Grenadyny","São Vicente e Granadinas","Сент-Винсент и Гренадины","San Vicente y Las Granadinas","Saint Vincent och Grenadinerna",null,null,null,"dollar","dólar","津巴布韦元","東加勒比幣","dollar","dollar","Dollar","Dollaro","ドル","달러","dolar","dólar","доллар","dólar","dollar"]
["dinarSDD","Sudan","dinar","SDD",{"$f":"VLOOKUP(B207,ImportInfo!$D$1:$E$188,2,FALSE)","v":2.37},"2011-02-18T09:44:42",75000,31645.569620253162,0.56056488796438031,0,1,0.15,1.4999999999999998,"Sudan","Sudan",null,null,null,null,null,"Sudan","Sudão","苏丹","蘇丹","Soedan","Soudan","Sudan","Sudan","スーダン","수단","Sudan","Sudão","Судан","Sudán","Sudan",null,null,null,"dinar","dinar","第纳尔","蘇丹第納爾","dinar","dinar","Dinar","Dinaro","ディナール","디나르","dinar","dinar","динар","dinar","dinar"]
["Dollar$Sur","Suriname","Dollar","$Sur",{"$f":"VLOOKUP(B208,ImportInfo!$D$1:$E$188,2,FALSE)","v":2.8},"2011-02-18T09:44:42",81300,29035.714285714286,0.51433430084697507,0,1,0.15,1.4999999999999998,"Suriname","Suriname",null,null,null,null,null,"Suriname","Suriname","苏里南","蘇利南","Suriname","Suriname","Suriname","Suriname","スリナム","수리남","Surinam","Suriname","Суринам","Surinam","Surinam",null,null,null,"Dollar","Dólar","元","蘇利南元","Dollar","dollar","Dollar","Dollaro","ドル","달러","dolar","Dólar","Доллар","Dólar","dollar"]
["kroneNKr","Svalbard and Jan Mayen Islands","krone","NKr",6.2,"2011-02-18T09:44:43",200000,32258.06451612903,0.57141453095723926,0.5,1,0.15,1.4999999999999998,"Svalbard and Jan Mayen Islands","Svalbard and Jan Mayen Islands",null,null,null,null,null,"Svalbard and Jan Mayen Islands","Ilhas Svalbard e Jan Mayen","斯瓦尔巴和扬马延群岛","斯瓦巴及尖棉島","Spitsbergen en Jan Mayen","Svalbard et Jan Mayen (îles)","Spitzbergen und Jan Mayen","Isole Svalbard e Jan Mayen","スバールバル諸島・ヤンマイエン島","스발바르 및 얀마웬 제도","Wyspy Svalbard i Jan Mayen","Svalbard e Ilha de Jan Mayen","Свальбард (Шпицберген) и Ян-Майен","Islas Svalbard y Jan Mayen","Svalbard och Jan Mayen",null,null,null,"krone","coroa","克朗","挪威克郎","krone","couronne norvégienne","Krone","Corona","クローネ","크로네","korona","coroa","крона","corona","kronor"]
["lilangeniSZL","Swaziland","lilangeni","SZL",{"$f":"VLOOKUP(B210,ImportInfo!$D$1:$E$188,2,FALSE)","v":7.07},"2011-02-18T09:44:42",250000,35360.678925035361,0.62637377863063715,0,1,0.15,1.4999999999999998,"Swaziland","Swaziland",null,null,null,null,null,"Swaziland","Suazilândia","斯威士兰","史瓦濟蘭","Swaziland","Swaziland","Swasiland","Swaziland","スワジランド","스와질랜드","Suazi","Suazilândia","Свазиленд","Suazilandia","Swaziland",null,null,null,"lilangeni","lilangeni","里兰吉尼","里蘭吉尼","lilangeni","lilangeni","Lilangeni","Lilangeni","リランジェニ","리랑게네","lilangeni","lilangeni","лилангени","lilangeni","lilangeni"]
["kronorSEK","Sweden","kronor","SEK",{"$f":"VLOOKUP(B211,ImportInfo!$D$1:$E$188,2,FALSE)","v":7.04},"2011-02-18T09:44:42",283092,40211.931818181816,0.71230814692189637,0.8,1,0.19,1.9,"Sweden","Sweden",null,null,null,null,null,"Sweden","Suécia","瑞典","瑞典","Zweden","Suède","Schweden","Svezia","スウェーデン","스웨덴","Szwecja","Suécia","Швеция","Suecia","Sverige",null,null,null,"kronor","coroa","克朗","瑞典克郎","kronor","couronne suédoise","Krone","Corona","クローナ","크로나","korona","coroa","крона","corona","kronor"]
["francCHF","Switzerland","franc","CHF",{"$f":"VLOOKUP(B212,ImportInfo!$D$1:$E$188,2,FALSE)","v":1},"2011-02-18T09:44:42",83707,83707,1.4827732804279665,0.75,1,0.154,1.5399999999999998,"Switzerland","Switzerland",null,null,null,null,null,"Switzerland","Suíça","瑞士","瑞士","Zwitserland","Suisse","Schweiz","Svizzera","スイス","스위스","Szwajcaria","Suíça","Швейцария","Suiza","Schweiz",null,null,null,"franc","franco","法郎","瑞士法郎","franc","franc CFP","Franc","Franco","フラン","프랑","frank","franco","франк","franco","franc"]
["poundS£S","Syria","poundS","£S",{"$f":"VLOOKUP(B213,ImportInfo!$D$1:$E$188,2,FALSE)","v":46.45},"2011-02-18T09:44:42",1482941,31925.532831001074,0.56552411441377914,0.4,1,0.15,1.4999999999999998,"Syria","Syria",null,null,null,null,null,"Syria","Síria","叙利亚","敘利亞","Syrië","Syrie","Syrien","Siria","シリア","시리아","Syria","Síria","Сирия","Siria","Syrien",null,null,null,"poundS","poundS","镑","敘利亞鎊","poundS","livre syrienne","Lira","Sterlina Siriana","シリア ポンド","시리아 파운드","funt syryjski","libra da Síria","сирийский фунт","libraS","pund"]
["francCFPF","Tahiti","franc","CFPF",80.127700000000004,"2007-11-27",2000000,24960.157348831926,0.44214049472715228,0.4,1,0.15,1.4999999999999998,"Tahiti","Tahiti",null,null,null,null,null,"Tahiti","Taiti","塔希提岛","大溪地","Tahiti","Tahiti","Tahiti","Tahiti","タヒチ","타히티","Tahiti","Taiti","Таити","Tahití","Tahiti",null,null,null,"franc","franco","法郎","法郎","franc","franc CFP","Franc","Franco","フラン","프랑","frank","franco","франк","franco","franc"]
["new dollarNT$","Taiwan","new dollar","NT$",{"$f":"VLOOKUP(B215,ImportInfo!$D$1:$E$188,2,FALSE)","v":30.5},"2011-02-18T09:44:42",1080520,35426.885245901642,0.62754654749794769,0.3,1,8.5999999999999993E-2,0.85999999999999988,"Taiwan","Taiwan",null,null,null,null,null,"Taiwan","Taiwan","台湾","台灣","Taiwan","Taïwan","Taiwan","Taiwan","台湾","대만","Tajwan","Taiwan","Тайвань","Taiwán","Taiwan",null,null,null,"new dollar","novo dólar","新台币","新台幣","new dollar","nouveau dollar","Neuer Dollar","Nuovo Dollaro","新ドル","뉴 달러","nowy dolar","novo dólar","новый доллар","nuevo dólar","nya dollar"]
["somoniTJS","Tajikistan","somoni","TJS",{"$f":"VLOOKUP(B216,ImportInfo!$D$1:$E$188,2,FALSE)","v":4.4000000000000004},"2011-02-18T09:44:42",94378,21449.545454545452,0.37995404060980731,0,1,0.15,1.4999999999999998,"Tajikistan","Tajikistan",null,null,null,null,null,"Tajikistan","Tajiquistão","塔吉克斯坦","塔吉克","Tadzjikistan","Tadjikistan","Tadschikistan","Tagikistan","タジキスタン","타지키스탄","Tadżykistan","Tajiquistão","Таджикистан","Tayikistán","Tadzjikistan",null,null,null,"somoni","somoni","索莫尼","索曼尼","somoni","somoni","Somoni","Somoni","ソモニ","소모니","somoni","somoni","сомони","somoni","somoni"]
["shillingTSh","Tanzania","shilling","TSh",{"$f":"VLOOKUP(B217,ImportInfo!$D$1:$E$188,2,FALSE)","v":1483},"2011-02-18T09:44:42",31245241,21068.942009440325,0.37321208809877821,0,1,0.15,1.4999999999999998,"Tanzania","Tanzania",null,null,null,null,null,"Tanzania","Tanzânia","坦桑尼亚","坦尚尼亞","Tanzania","Tanzanie","Tansania","Tanzania","タンザニア","탄자니아","Tanzania","Tanzânia","Танзания","Tanzania","Tanzania",null,null,null,"shilling","shilling","先令","坦尚尼亞先令","shilling","shilling","Schilling","Scellino","シリング","실링","szyling","xelim","шиллинг","chelín","shilling"]
["baht฿","Thailand","baht","฿",{"$f":"VLOOKUP(B218,ImportInfo!$D$1:$E$188,2,FALSE)","v":30.18},"2011-02-18T09:44:42",999947,33132.770046388338,0.5869089339165029,0.2,1,9.4E-2,0.94,"Thailand","Thailand",null,null,null,null,null,"Thailand","Tailândia","泰国","泰國","Thailand","Thaïlande","Thailand","Thailandia","タイ","태국","Tajlandia","Tailândia","Таиланд","Tailandia","Thailand",null,null,null,"baht","baht","铢","銖","baht","baht","Baht","Baht","バーツ","바트","baht","baht","бат","baht","baht"]
["dollarUS$","Timor-Leste","dollar","US$",1,"2009-11-11T14:08:34",30000,30000,0.53141551379023255,0,1,0.15,1.4999999999999998,"Timor-Leste","Timor-Leste",null,null,null,null,null,"Timor-Leste","Timor-Leste","东帝汶","東帝汶","Oost-Timor","Timor-Leste","Timor-Leste","Timor Est","東ティモール","동티모르","Timor Wschodni","Timor-Leste","Восточный Тимор (Тимор-Лешти)","Timor Oriental","Östtimor",null,null,null,"dollar","dólar","津巴布韦元","美元","dollar","dollar","Dollar","Dollaro","ドル","달러","dolar","dólar","доллар","dólar","dollar"]
["francCFAF","Togo","franc","CFAF",{"$f":"VLOOKUP(B220,ImportInfo!$D$1:$E$188,2,FALSE)","v":503.3},"2011-02-18T09:44:42",16378199,32541.623286310351,0.57643744860876034,0,1,0.15,1.4999999999999998,"Togo","Togo",null,null,null,null,null,"Togo","Togo","多哥","多哥","Togo","Togo","Togo","Togo","トーゴ","토고","Togo","Togo","Того","Togo","Togo",null,null,null,"franc","franco","法郎","法郎","franc","franc CFP","Franc","Franco","フラン","프랑","frank","franco","франк","franco","franc"]
["dollarNZ$","Tokelau","dollar","NZ$",503.3,"2011-02-18T09:44:44",12200000,24240.015895092391,0.42938401670579757,0.4,1,0.15,1.4999999999999998,"Tokelau","Tokelau",null,null,null,null,null,"Tokelau","Tokelau","托克劳","托克勞群島","Tokelau-eilanden","Tokelau","Tokelau","Tokelau","トケラウ諸島","토켈라우","Tokelau","Tokelau","Острова Токелау","Tokelau","Tokelauöarna",null,null,null,"dollar","dólar","津巴布韦元","紐西蘭幣","dollar","dollar","Dollar","Dollaro","ドル","달러","dolar","dólar","доллар","dólar","dollar"]
["pa'angaPT or T$","Tonga","pa'anga","PT or T$",{"$f":"VLOOKUP(B222,ImportInfo!$D$1:$E$188,2,FALSE)","v":1.77},"2011-02-18T09:44:42",66202,37402.259887005646,0.66253803849229709,0,1,0.15,1.4999999999999998,"Tonga","Tonga",null,null,null,null,null,"Tonga","Tonga","汤加","東加","Tonga","Tonga","Tonga","Tonga","トンガ","통가","Tonga","Tonga","Тонга","Tonga","Tonga",null,null,null,"pa'anga","pa'anga","潘加","潘加","pa'anga","pa'anga","Pa'anga","Pa'anga","パアンガ","팡가","pa’anga","pa'anga","паанга","pa'anga","pa'anga"]
["dollarTT$","Trinidad and Tobago","dollar","TT$",6.31,"2007-11-27",105371,16699.049128367671,0.29580445907866137,0.3,1,0.03,0.3,"Trinidad and Tobago","Trinidad and Tobago",null,null,null,null,null,"Trinidad and Tobago","Trinidad e Tobago","特立尼达和多巴哥","千里達及托巴哥","Trinidad en Tobago","Trinité-et-Tobago","Trinidad und Tobago","Trinidad e Tobago","トリニダード・トバゴ","트리니다드 토바고","Trynidad i Tobago","Trindade e Tobago","Тринидад и Тобаго","Trinidad y Tobago","Trinidad och Tobago",null,null,null,"dollar","dólar","津巴布韦元","千里達幣","dollar","dollar","Dollar","Dollaro","ドル","달러","dolar","dólar","доллар","dólar","dollar"]
["dinarTD","Tunisia","dinar","TD",{"$f":"VLOOKUP(B224,ImportInfo!$D$1:$E$188,2,FALSE)","v":1.45},"2011-02-18T09:44:42",55000,37931.034482758623,0.67190467260834008,0,1,0.15,1.4999999999999998,"Tunisia","Tunisia",null,null,null,null,null,"Tunisia","Tunísia","突尼斯","突尼西亞","Tunesië","Tunisie","Tunesien","Tunisia","チュニジア","튀니지","Tunezja","Tunísia","Тунис","Túnez","Tunisien",null,null,null,"dinar","dinar","第纳尔","突尼西亞第納爾","dinar","dinar","Dinar","Dinaro","ディナール","디나르","dinar","dinar","динар","dinar","dinar"]
["new liraYTL","Turkey","new lira","YTL",{"$f":"VLOOKUP(B225,ImportInfo!$D$1:$E$188,2,FALSE)","v":1.51},"2011-02-18T09:44:43",35000,23178.807947019868,0.41058593780702296,0.2,1,0.16500000000000001,1.65,"Turkey","Turkey",null,null,null,null,null,"Turkey","Turquia","土耳其","土耳其","Turkije","Turquie","Türkei","Turchia","トルコ","터키","Turcja","Turquia","Турция","Turquía","Turkiet",null,null,null,"new lira","nova lira","新里拉","新里拉","new lira","nouvelle lire","Neue Lira","Nuova Lira","新リラ","뉴 리라","nowy lir","nova lira","новая лира","nueva lira","nya lira"]
["manatTMM","Turkmenistan","manat","TMM",{"$f":"VLOOKUP(B226,ImportInfo!$D$1:$E$188,2,FALSE)","v":2.84},"2011-02-18T09:44:43",100000,35211.267605633802,0.62372712886177528,0,1,0.15,1.4999999999999998,"Turkmenistan","Turkmenistan",null,null,null,null,null,"Turkmenistan","Turcomenistão","土库曼斯坦","土庫曼","Turkmenistan","Turkménistan","Turkmenistan","Turkmenistan","トルクメニスタン","투르크메니스탄","Turkmenistan","Turquemenistão","Туркменистан","Turkmenistán","Turkmenistan",null,null,null,"manat","manat","马纳特","蒙納特","manat","manat","Manat","Manat","マナト","마나트","manat","manat","манат","manat","manat"]
["dollarUS$","Turks and Caicos Islands","dollar","US$",1,"2009-11-11T14:08:34",34968,34968,0.61941792287389508,0,1,0.15,1.4999999999999998,"Turks and Caicos Islands","Turks and Caicos Islands",null,null,null,null,null,"Turks and Caicos Islands","Ilhas Turks e Caicos","特克斯和凯科斯群岛","土克斯及開科斯群島","Turks- en Caicoseilanden","Turks et Caicos (îles)","Turks- und Caicosinseln","Isole Turks e Caicos","タークス諸島・カイコス諸島","터크스 케이커스 제도","Wyspy Turks i Caicos","Ilhas Turcas e Caicos","Острова Теркс и Кайкос","Islas Turcas y Caicos","Turks- och Caicosöarna",null,null,null,"dollar","dólar","津巴布韦元","美元","dollar","dollar","Dollar","Dollaro","ドル","달러","dolar","dólar","доллар","dólar","dollar"]
["dollarA$","Tuvalu","dollar","A$",1.04,"2011-02-18T09:44:43",40000,38461.538461538461,0.68130194075670847,0,1,0.15,1.4999999999999998,"Tuvalu","Tuvalu",null,null,null,null,null,"Tuvalu","Tuvalu","图瓦卢","吐瓦魯","Tuvalu","Tuvalu","Tuvalu","Tuvalu","ツバル","투발루","Tuvalu","Tuvalu","Тувалу","Tuvalu","Tuvalu",null,null,null,"dollar","dólar","津巴布韦元","澳幣","dollar","dollar","Dollar","Dollaro","ドル","달러","dolar","dólar","доллар","dólar","dollar"]
["shillingUSh","Uganda","shilling","USh",{"$f":"VLOOKUP(B229,ImportInfo!$D$1:$E$188,2,FALSE)","v":2313},"2011-02-18T09:44:43",59485306,25717.8149589278,0.45556152833202485,0,1,0.15,1.4999999999999998,"Uganda","Uganda",null,null,null,null,null,"Uganda","Uganda","乌干达","烏干達","Uganda","Ouganda","Uganda","Uganda","ウガンダ","우간다","Uganda","Uganda","Уганда","Uganda","Uganda",null,null,null,"shilling","shilling","先令","烏干達先令","shilling","shilling","Schilling","Scellino","シリング","실링","szyling","xelim","шиллинг","chelín","shilling"]
["HryvniaUAH","Ukraine","Hryvnia","UAH",{"$f":"VLOOKUP(B230,ImportInfo!$D$1:$E$188,2,FALSE)","v":7.89},"2011-02-18T09:44:43",300000,38022.813688212933,0.67353043572906546,0,1,0.15,1.4999999999999998,"Ukraine","Ukraine",null,null,null,null,null,"Ukraine","Ucrânia","乌克兰","烏克蘭","Oekraïne","Ukraine","Ukraine","Ucraina","ウクライナ","우크라이나","Ukraina","Ucrânia","Украина","Ucrania","Ukraina",null,null,null,"Hryvnia","Hryvnia","赫夫纳","赫里夫尼亞","Hryvnia","Hryvnia","Hrywnja","Hryvnia","グリブナ","흐리브니아","hrywna","Hryvnia","гривна","Hryvnia","hryvnia"]
["dirhamDh","United Arab Emirates","dirham","Dh",{"$f":"VLOOKUP(B231,ImportInfo!$D$1:$E$188,2,FALSE)","v":3.67},"2011-02-18T09:44:43",139942,38131.335149863764,0.67545276867241355,0.3,1,0.15,1.4999999999999998,"United Arab Emirates","United Arab Emirates",null,null,null,null,null,"United Arab Emirates","Emirados Árabes Unidos","阿拉伯联合酋长国","阿拉伯聯合大公國","Verenigde Arabische Emiraten","Émirats arabes unis","Vereinigte Arabische Emirate","Emirati Arabi Uniti","アラブ首長国連邦","아랍에미리트","Zjednoczone Emiraty Arabskie","Emirados Árabes Unidos","Объединённые Арабские Эмираты","Emiratos Árabes Unidos","Förenade Arabemiraten",null,null,null,"dirham","dirham","迪拉姆","迪拉姆","dirham","dirham","Dirham","Dirham","ディルハム","더람","dirham","dirham","дирхем","dirham","dirham"]
["pound£","United Kingdom","pound","£",{"$f":"VLOOKUP(B232,ImportInfo!$D$1:$E$188,2,FALSE)","v":0.64},"2011-02-18T09:44:43",27472,42925,0.76036703098152447,0.5,1,0.17,1.7,"United Kingdom","United Kingdom",null,null,null,null,null,"United Kingdom","Reino Unido","英国","英國","Verenigd Koninkrijk","Royaume-Uni","Großbritannien","Regno Unito","イギリス","영국","Wielka Brytania","Reino Unido","Великобритания","Reino Unido","Förenade kungariket",null,null,null,"pound","libra","英镑","英鎊","pound","livre sterling","Pfund","Sterlina","ポンド","파운드","funt","libra","фунт","libra","pund"]
["dollarUS$","United States","dollar","US$",1,"2009-11-11T14:08:34",56453,56453,1,0.4,1,0.1,1,"United States","United States",null,null,null,null,null,"United States","Estados Unidos","美国","美國","Verenigde Staten","États-Unis","USA","Stati Uniti","米国","미국","Stany Zjednoczone","Estados Unidos","США","Estados Unidos","USA",null,null,null,"dollar","dólar","津巴布韦元","美元","dollar","dollar","Dollar","Dollaro","ドル","달러","dolar","dólar","доллар","dólar","dollar"]
["peso uruguayo$U","Uruguay","peso uruguayo","$U",{"$f":"VLOOKUP(B234,ImportInfo!$D$1:$E$188,2,FALSE)","v":19.899999999999999},"2011-02-18T09:44:43",730359,36701.45728643216,0.65012412602398739,0,1,0.17399999999999999,1.7399999999999998,"Uruguay","Uruguay",null,null,null,null,null,"Uruguay","Uruguai","乌拉圭","烏拉圭","Uruguay","Uruguay","Uruguay","Uruguay","ウルグアイ","우루과이","Urugwaj","Uruguai","Уругвай","Uruguay","Uruguay",null,null,null,"peso uruguayo","peso uruguaio","乌拉圭比索","烏拉圭比索","peso uruguayo","peso uruguayen","Uruguayischer Peso","Peso Uruguayano","ウルグアイ ペソ","우르과이 페소","peso urugwajski","peso uruguaio","уругвайское песо","peso uruguayo","peso uruguayo"]
["somUZS","Uzbekistan","som","UZS",{"$f":"VLOOKUP(B235,ImportInfo!$D$1:$E$188,2,FALSE)","v":1645},"2011-02-18T09:44:43",33509615,20370.586626139819,0.36084152527128444,0,1,0.15,1.4999999999999998,"Uzbekistan","Uzbekistan",null,null,null,null,null,"Uzbekistan","Usbequistão","乌兹别克斯坦","烏茲別克","Oezbekistan","Ouzbékistan","Usbekistan","Uzbekistan","ウズベキスタン","우즈베키스탄","Uzbekistan","Usbequistão","Узбекистан","Uzbekistán","Uzbekistan",null,null,null,"som","som","苏姆","烏茲別克頌","som","soum","Som","Som","ソム","솜","som","som","сом","som","som"]
["vatuVT","Vanuatu","vatu","VT",{"$f":"VLOOKUP(B236,ImportInfo!$D$1:$E$188,2,FALSE)","v":92.59},"2011-02-18T09:44:43",3500000,37801.058429636025,0.66960229623998768,0,1,0.15,1.4999999999999998,"Vanuatu","Vanuatu",null,null,null,null,null,"Vanuatu","Vanuatu","瓦努阿图","萬那杜","Vanuatu","Vanuatu","Vanuatu","Vanuatu","バヌアツ","바누아투","Vanuatu","Vanuatu","Вануату","Vanuatu","Vanuatu",null,null,null,"vatu","vatu","瓦图","瓦土","vatu","vatu","Vatu","Vatu","バツ","바투","vatu","vatu","вату","vatu","vatu"]
["euro€","Vatican","euro","€",0.77,"2011-02-18T09:44:43",29067,37749.35064935065,0.66868635235241081,0.6,1,0.25,2.5,"Vatican","Vatican",null,null,null,null,null,"Vatican","Vaticano","梵蒂冈","梵蒂岡","Vaticaanstad","Vatican","Vatikanstadt","Vaticano","バチカン","바티칸","Watykan","Vaticano","Ватикан","Vaticano","Vatikanstaten",null,null,null,"euro","euro","欧元","歐元","euro","euro","Euro","Euro","ユーロ","유로","euro","euro","евро","euro","euro"]
["bolivarBs","Venezuela","bolivar","Bs",{"$f":"VLOOKUP(B238,ImportInfo!$D$1:$E$188,2,FALSE)","v":2.6},"2008-10-10T13:59:53",40000,15384.615384615385,0.2725207763026834,0.2,1,0.15,1.4999999999999998,"Venezuela","Venezuela",null,null,null,null,null,"Venezuela","Venezuela","委内瑞拉","委內瑞拉","Venezuela","Venezuela","Venezuela","Venezuela","ベネズエラ","베네수엘라","Wenezuela","Venezuela","Венесуэла","Venezuela","Venezuela",null,null,null,"bolivar","bolívar","博利瓦","玻利瓦","bolivar","bolivar","Bolivar","Bolivar","ボリバル","볼리바르","boliwar","bolívar","боливар","bolívar","bolivar"]
["dong₫","Vietnam","dong","₫",{"$f":"VLOOKUP(B239,ImportInfo!$D$1:$E$188,2,FALSE)","v":19500},"2011-02-18T09:44:43",551408618,28277.365025641026,0.50090101545783261,0,1,0.15,1.4999999999999998,"Vietnam","Vietnam",null,null,null,null,null,"Vietnam","Vietnã","越南","越南","Vietnam","Vietnam","Vietnam","Vietnam","ベトナム","베트남","Wietnam","Vietname","Вьетнам","Vietnam","Vietnam",null,null,null,"dong","dong","越南盾","盾","dong","dong","Dong","Dong","ドン","동","dong","dong","донг","dong","dong"]
["dollarUS$","Virgin Islands","dollar","US$",1,"2009-11-11T14:08:34",38000,38000,0.67312631746762797,0.5,1,0.15,1.4999999999999998,"Virgin Islands","Virgin Islands",null,null,null,null,null,"Virgin Islands","Ilhas Virgens","维尔京群岛","美屬維爾京群島","Maagdeneilanden","Vierges (îles)","Jungferninseln","Isole Vergini","米領バージン諸島","버진 아일랜드","Wyspy Dziewicze","Ilhas Virgens","Виргинские острова","Islas Vírgenes","Jungfruöarna",null,null,null,"dollar","dólar","津巴布韦元","美元","dollar","dollar","Dollar","Dollaro","ドル","달러","dolar","dólar","доллар","dólar","dollar"]
["dollarUS$","Wake Island","dollar","US$",1,"2009-11-11T14:08:34",38000,38000,0.67312631746762797,0.5,1,0.15,1.4999999999999998,"Wake Island","Wake Island",null,null,null,null,null,"Wake Island","Ilha Wake","威克岛","威克島","Wake Island","Wake (île)","Wake","Isola di Wake","ウェーク島","웨이크 섬","Wyspa Wake","Ilha Wake","Остров Уэйк","Isla Wake","Wakeöarna",null,null,null,"dollar","dólar","津巴布韦元","美元","dollar","dollar","Dollar","Dollaro","ドル","달러","dolar","dólar","доллар","dólar","dollar"]
["francCFPF","Wallis and Futuna Islands","franc","CFPF",80.127700000000004,"2007-11-27",3000000,37440.23602324789,0.66321074209072839,0.4,1,0.15,1.4999999999999998,"Wallis and Futuna Islands","Wallis and Futuna Islands",null,null,null,null,null,"Wallis and Futuna Islands","Ilhas Wallis e Futuna","瓦利斯群岛和富图纳群岛","瓦利斯及福杜納群島","Wallis en Futuna-eilanden","Wallis-et-Futuna","Wallis und Futuna","Isole Wallis e Futuna","ワリス・フテュナ諸島","윌리스 푸투나","Wyspy Wallis i Futuna","Ilhas de Wallis e Futuna","Острова Уоллис и Футуна","Islas Wallis y Futuna","Wallis- och Futunaöarna",null,null,null,"franc","franco","法郎","法郎","franc","franc CFP","Franc","Franco","フラン","프랑","frank","franco","франк","franco","franc"]
["euro€","Western Sahara","euro","€",0.77,"2011-02-18T09:44:43",25000,32467.532467532466,0.57512501492449408,0,1,0.15,1.4999999999999998,"Western Sahara","Western Sahara",null,null,null,null,null,"Western Sahara","Saara Ocidental","西撒哈拉","西薩摩亞","Westelijke Sahara","Sahara occidental","Westsahara","Sahara Occidentale","西サハラ","서사하라","Sahara Zachodnia","Sara Ocidental","Западная Сахара","Sahara Occidental","Västsahara",null,null,null,"euro","euro","欧元","歐元","euro","euro","Euro","Euro","ユーロ","유로","euro","euro","евро","euro","euro"]
["talaWS$","Western Samoa","tala","WS$",{"$f":"VLOOKUP(B244,ImportInfo!$D$1:$E$188,2,FALSE)","v":2.23},"2011-02-18T09:44:43",90000,40358.744394618836,0.7149087629465013,0,1,0.15,1.4999999999999998,"Western Samoa","Western Samoa",null,null,null,null,null,"Western Samoa","Samoa Ocidental","西萨摩亚","西薩摩亞","Samoa","Samoa occidentale","Westsamoa","Samoa Occidentale","西サモア","서사모아","Samoa Zachodnie","Samoa Ocidental","Западное Самоа","Samoa Occidental","Västra Samoa",null,null,null,"tala","tala","塔拉","塔拉","tala","tala","Tala","Tala","タラ","탈라","tala","tala","тала","tala","tala"]
["rialYRls","Yemen","rial","YRls",{"$f":"VLOOKUP(B245,ImportInfo!$D$1:$E$188,2,FALSE)","v":214},"2011-02-18T09:44:43",4443010,20761.728971962617,0.36777016229363574,0,1,0.15,1.4999999999999998,"Yemen","Yemen",null,null,null,null,null,"Yemen","Iêmen","也门","葉門","Jemen","Yémen","Jemen","Yemen","イエメン","예멘","Jemen","Iémen","Йемен","Yemen","Jemen",null,null,null,"rial","rial","里亚尔","葉門里亞爾","rial","rial","Rial","Rial","リアル","리알","rial","rial","риал","rial","rial"]
["kwachaZK","Zambia","kwacha","ZK",{"$f":"VLOOKUP(B246,ImportInfo!$D$1:$E$188,2,FALSE)","v":4925},"2011-02-18T09:44:43",143861291,29210.414416243653,0.51742891283445791,0,1,0.15,1.4999999999999998,"Zambia","Zambia",null,null,null,null,null,"Zambia","Zâmbia","赞比亚","尚比亞","Zambia","Zambie","Sambia","Zambia","ザンビア","잠비아","Zambia","Zâmbia","Замбия","Zambia","Zambia",null,null,null,"kwacha","cuacha","克瓦查","克瓦查","kwacha","kwacha","Kwacha","Kwacha","クワチャ","크와카","kwacha","kwacha","квача","kwacha","kwacha"]
["dollarZ$","Zimbabwe","dollar","Z$",{"$f":"VLOOKUP(B247,ImportInfo!$D$1:$E$188,2,FALSE)","v":1},"2011-02-18T09:44:43",18312,18312,0.32437602961755796,0,1,0.15,1.4999999999999998,"Zimbabwe","Zimbabwe",null,null,null,null,null,"Zimbabwe","Zimbábue","津巴布韦","辛巴威","Zimbabwe","Zimbabwe","Simbabwe","Zimbabwe","ジンバブエ","짐바브웨","Zimbabwe","Zimbabué","Зимбабве","Zimbabue","Zimbabwe",null,null,null,"dollar","dólar","津巴布韦元","辛巴威幣","dollar","dollar","Dollar","Dollaro","ドル","달러","dolar","dólar","доллар","dólar","dollar"]
[null,null,null,null,{"$f":"VLOOKUP(B248,ImportInfo!$D$1:$E$188,2,FALSE)","v":{"$error":"#N/A"}},"2011-02-18T09:44:43"]
[null,null,null,null,{"$f":"VLOOKUP(B249,ImportInfo!$D$1:$E$188,2,FALSE)","v":{"$error":"#N/A"}},"2011-02-18T09:44:43"]
[null,null,null,null,{"$f":"VLOOKUP(B250,ImportInfo!$D$1:$E$188,2,FALSE)","v":{"$error":"#N/A"}},"2011-02-18T09:44:43"]

{"sheet":"Files","index":22,"n_rows":0,"n_cols":0,"rows_kept":0,"cut":false,"hidden":true,"merged":[]}